BEGIN:VCALENDAR
VERSION:2.0
PRODID:-//Napa CART - ECPv6.15.20//NONSGML v1.0//EN
CALSCALE:GREGORIAN
METHOD:PUBLISH
X-WR-CALNAME:Napa CART
X-ORIGINAL-URL:https://napacart.org
X-WR-CALDESC:Events for Napa CART
REFRESH-INTERVAL;VALUE=DURATION:PT1H
X-Robots-Tag:noindex
X-PUBLISHED-TTL:PT1H
BEGIN:VTIMEZONE
TZID:America/Los_Angeles
BEGIN:DAYLIGHT
TZOFFSETFROM:-0800
TZOFFSETTO:-0700
TZNAME:PDT
DTSTART:20250309T100000
END:DAYLIGHT
BEGIN:STANDARD
TZOFFSETFROM:-0700
TZOFFSETTO:-0800
TZNAME:PST
DTSTART:20251102T090000
END:STANDARD
BEGIN:DAYLIGHT
TZOFFSETFROM:-0800
TZOFFSETTO:-0700
TZNAME:PDT
DTSTART:20260308T100000
END:DAYLIGHT
BEGIN:STANDARD
TZOFFSETFROM:-0700
TZOFFSETTO:-0800
TZNAME:PST
DTSTART:20261101T090000
END:STANDARD
BEGIN:DAYLIGHT
TZOFFSETFROM:-0800
TZOFFSETTO:-0700
TZNAME:PDT
DTSTART:20270314T100000
END:DAYLIGHT
BEGIN:STANDARD
TZOFFSETFROM:-0700
TZOFFSETTO:-0800
TZNAME:PST
DTSTART:20271107T090000
END:STANDARD
END:VTIMEZONE
BEGIN:VEVENT
DTSTART;TZID=America/Los_Angeles:20260206T093000
DTEND;TZID=America/Los_Angeles:20260206T123000
DTSTAMP:20260420T055610
CREATED:20260109T003319Z
LAST-MODIFIED:20260112T204704Z
UID:5155-1770370200-1770381000@napacart.org
SUMMARY:Napa Humane Drop-In Vaccination/Microchip Clinic
DESCRIPTION:Every Friday from 9:30 AM – 12:30 PM \nNapa Humane Spay/Neuter Clinic holds a drop-in vaccination/microchip clinic every Friday for Napa County residents only. Proof of Napa County residency is required. No appointment necessary.
URL:https://napacart.org/event/napa-humane-drop-in-vaccination-microchip-clinic-6-2026/
LOCATION:Napa Humane Spay/Neuter Clinic\, 3265 California Boulevard\, Napa\, CA\, 94558
CATEGORIES:Community Events
ATTACH;FMTTYPE=image/jpeg:https://napacart.org/wp-content/uploads/2024/05/drop-in-vaccination_microchip-clinic.jpg
ORGANIZER;CN="Napa Humane Spay/Neuter Clinic":MAILTO:clinicinfo@napahumane.org
END:VEVENT
BEGIN:VEVENT
DTSTART;TZID=America/Los_Angeles:20260213T093000
DTEND;TZID=America/Los_Angeles:20260213T123000
DTSTAMP:20260420T055610
CREATED:20260109T003545Z
LAST-MODIFIED:20260112T204850Z
UID:5158-1770975000-1770985800@napacart.org
SUMMARY:Napa Humane Drop-In Vaccination/Microchip Clinic
DESCRIPTION:Every Friday from 9:30 AM – 12:30 PM \nNapa Humane Spay/Neuter Clinic holds a drop-in vaccination/microchip clinic every Friday for Napa County residents only. Proof of Napa County residency is required. No appointment necessary.
URL:https://napacart.org/event/napa-humane-drop-in-vaccination-microchip-clinic-7-2026/
LOCATION:Napa Humane Spay/Neuter Clinic\, 3265 California Boulevard\, Napa\, CA\, 94558
CATEGORIES:Community Events
ATTACH;FMTTYPE=image/jpeg:https://napacart.org/wp-content/uploads/2024/05/drop-in-vaccination_microchip-clinic.jpg
ORGANIZER;CN="Napa Humane Spay/Neuter Clinic":MAILTO:clinicinfo@napahumane.org
END:VEVENT
BEGIN:VEVENT
DTSTART;TZID=America/Los_Angeles:20260220T093000
DTEND;TZID=America/Los_Angeles:20260220T123000
DTSTAMP:20260420T055610
CREATED:20260109T003724Z
LAST-MODIFIED:20260112T204909Z
UID:5160-1771579800-1771590600@napacart.org
SUMMARY:Napa Humane Drop-In Vaccination/Microchip Clinic
DESCRIPTION:Every Friday from 9:30 AM – 12:30 PM \nNapa Humane Spay/Neuter Clinic holds a drop-in vaccination/microchip clinic every Friday for Napa County residents only. Proof of Napa County residency is required. No appointment necessary.
URL:https://napacart.org/event/napa-humane-drop-in-vaccination-microchip-clinic-8-2026/
LOCATION:Napa Humane Spay/Neuter Clinic\, 3265 California Boulevard\, Napa\, CA\, 94558
CATEGORIES:Community Events
ATTACH;FMTTYPE=image/jpeg:https://napacart.org/wp-content/uploads/2024/05/drop-in-vaccination_microchip-clinic.jpg
ORGANIZER;CN="Napa Humane Spay/Neuter Clinic":MAILTO:clinicinfo@napahumane.org
END:VEVENT
BEGIN:VEVENT
DTSTART;TZID=America/Los_Angeles:20260221T083000
DTEND;TZID=America/Los_Angeles:20260221T123000
DTSTAMP:20260420T055610
CREATED:20260109T011209Z
LAST-MODIFIED:20260121T000209Z
UID:5180-1771662600-1771677000@napacart.org
SUMMARY:Basic First Aid\, Head to Toe Assessment\, and Cribbing Skills
DESCRIPTION:To attend\, you must have completed your CERT basic training. More information here: https://www.napacounty.gov/362/Community-Emergency-Response-Team-CERT \nRemember to bring your CERT vest and note-taking materials and wear long pants and dress for the weather. We look forward to seeing you there! \nSign up in your MyImpact profile: myimpactpage.com\n(You’ll see the location details displayed in your profile.)
URL:https://napacart.org/event/basic-first-aid-head-to-toe-assessment-cribbing-skills/
CATEGORIES:Volunteer Training
END:VEVENT
BEGIN:VEVENT
DTSTART;TZID=America/Los_Angeles:20260221T083000
DTEND;TZID=America/Los_Angeles:20260221T170000
DTSTAMP:20260420T055610
CREATED:20260109T005716Z
LAST-MODIFIED:20260120T234339Z
UID:5170-1771662600-1771693200@napacart.org
SUMMARY:ACS Field Livestock Skills: FAI
DESCRIPTION:The Farmed Animal Immersive (FAI) is a one-of-a-kind\, full-day training designed specifically for Disaster Service Workers (DSWs). This hands-on\, immersive experience equips participants with species-specific knowledge\, essential skills\, and the confidence to assess\, handle\, and respond effectively to the unique needs of farmed animals. \nThrough real-life situational drills and immersive learning with farmed animals\, responders strengthen their readiness to manage challenging rescue scenarios involving pigs\, goats\, sheep\, cows\, birds\, including animals with special needs or behavioral challenges. Training takes place in a safe\, controlled\, and supportive environment and is designed to complement existing CART and DSW fieldwork while prioritizing safety\, animal welfare\, and real-world application. \nDates: February 21\, March 7\, and March 14\, 2026\nSpace limited. Priority given to attendees who didn’t attend in 2025; 2026 attendees can sign up and be added to the wait list. Register for one date of the three available.  \nRequirement: Team ACS Field requirement for returning volunteers. Two year qualification.\nPrerequisite: Qualified for ACS field or ACS Shelter Large Animal \nIf interested\, email info@napacart.org
URL:https://napacart.org/event/acs-field-livestock-skills-fai-022126/
CATEGORIES:Volunteer Training
END:VEVENT
BEGIN:VEVENT
DTSTART;TZID=America/Los_Angeles:20260222T110000
DTEND;TZID=America/Los_Angeles:20260222T130000
DTSTAMP:20260420T055610
CREATED:20260109T011504Z
LAST-MODIFIED:20260109T231711Z
UID:5182-1771758000-1771765200@napacart.org
SUMMARY:Animal Technical Rescue Team (ATR)
DESCRIPTION:This is the regular monthly training for the approved Animal Technical Rescue (ATR) team. Topics will vary by month. \nActivity: Small group of certified technicians meeting outdoors to practice technical rescue scenarios on a mannequin in conjunction with Large Animal Evacuation exercises. \nPrerequisites: Current Animal Technical Rescue Certification\, Team ATR \nSign up in your MyImpact profile: myimpactpage.com\n(You’ll see the location details displayed in your profile.)
URL:https://napacart.org/event/animal-technical-rescue-team-atr-022226/
CATEGORIES:Volunteer Training
ATTACH;FMTTYPE=image/jpeg:https://napacart.org/wp-content/uploads/2026/01/ATR-practice-aug2025-1.jpg
END:VEVENT
BEGIN:VEVENT
DTSTART;TZID=America/Los_Angeles:20260227T093000
DTEND;TZID=America/Los_Angeles:20260227T123000
DTSTAMP:20260420T055610
CREATED:20260109T004255Z
LAST-MODIFIED:20260112T204932Z
UID:5162-1772184600-1772195400@napacart.org
SUMMARY:Napa Humane Drop-In Vaccination/Microchip Clinic
DESCRIPTION:Every Friday from 9:30 AM – 12:30 PM \nNapa Humane Spay/Neuter Clinic holds a drop-in vaccination/microchip clinic every Friday for Napa County residents only. Proof of Napa County residency is required. No appointment necessary.
URL:https://napacart.org/event/napa-humane-drop-in-vaccination-microchip-clinic-9-2026/
LOCATION:Napa Humane Spay/Neuter Clinic\, 3265 California Boulevard\, Napa\, CA\, 94558
CATEGORIES:Community Events
ATTACH;FMTTYPE=image/jpeg:https://napacart.org/wp-content/uploads/2024/05/drop-in-vaccination_microchip-clinic.jpg
ORGANIZER;CN="Napa Humane Spay/Neuter Clinic":MAILTO:clinicinfo@napahumane.org
END:VEVENT
END:VCALENDAR