BEGIN:VCALENDAR
VERSION:2.0
PRODID:-//Napa CART - ECPv6.15.20//NONSGML v1.0//EN
CALSCALE:GREGORIAN
METHOD:PUBLISH
X-ORIGINAL-URL:https://napacart.org
X-WR-CALDESC:Events for Napa CART
REFRESH-INTERVAL;VALUE=DURATION:PT1H
X-Robots-Tag:noindex
X-PUBLISHED-TTL:PT1H
BEGIN:VTIMEZONE
TZID:America/Los_Angeles
BEGIN:DAYLIGHT
TZOFFSETFROM:-0800
TZOFFSETTO:-0700
TZNAME:PDT
DTSTART:20240310T100000
END:DAYLIGHT
BEGIN:STANDARD
TZOFFSETFROM:-0700
TZOFFSETTO:-0800
TZNAME:PST
DTSTART:20241103T090000
END:STANDARD
BEGIN:DAYLIGHT
TZOFFSETFROM:-0800
TZOFFSETTO:-0700
TZNAME:PDT
DTSTART:20250309T100000
END:DAYLIGHT
BEGIN:STANDARD
TZOFFSETFROM:-0700
TZOFFSETTO:-0800
TZNAME:PST
DTSTART:20251102T090000
END:STANDARD
BEGIN:DAYLIGHT
TZOFFSETFROM:-0800
TZOFFSETTO:-0700
TZNAME:PDT
DTSTART:20260308T100000
END:DAYLIGHT
BEGIN:STANDARD
TZOFFSETFROM:-0700
TZOFFSETTO:-0800
TZNAME:PST
DTSTART:20261101T090000
END:STANDARD
END:VTIMEZONE
BEGIN:VEVENT
DTSTART;TZID=America/Los_Angeles:20251003T090000
DTEND;TZID=America/Los_Angeles:20251003T130000
DTSTAMP:20260420T133626
CREATED:20250207T185708Z
LAST-MODIFIED:20250207T185708Z
UID:5011-1759482000-1759496400@napacart.org
SUMMARY:Napa Humane Drop-In Vaccination/Microchip Clinic
DESCRIPTION:Every Friday from 9:30 AM – 1:00 PM \nNapa Humane Spay/Neuter Clinic holds a drop-in vaccination/microchip clinic every Friday for Napa County residents only. Proof of Napa County residency is required. No appointment necessary.
URL:https://napacart.org/event/napa-humane-drop-in-vaccination-microchip-clinic-40-2025/
LOCATION:Napa Humane Spay/Neuter Clinic\, 3265 California Boulevard\, Napa\, CA\, 94558
CATEGORIES:Community Events
ATTACH;FMTTYPE=image/jpeg:https://napacart.org/wp-content/uploads/2024/05/drop-in-vaccination_microchip-clinic.jpg
ORGANIZER;CN="Napa Humane Spay/Neuter Clinic":MAILTO:clinicinfo@napahumane.org
END:VEVENT
BEGIN:VEVENT
DTSTART;TZID=America/Los_Angeles:20251010T093000
DTEND;TZID=America/Los_Angeles:20251010T130000
DTSTAMP:20260420T133626
CREATED:20250207T185805Z
LAST-MODIFIED:20250207T185805Z
UID:5013-1760088600-1760101200@napacart.org
SUMMARY:Napa Humane Drop-In Vaccination/Microchip Clinic
DESCRIPTION:Every Friday from 9:30 AM – 1:00 PM \nNapa Humane Spay/Neuter Clinic holds a drop-in vaccination/microchip clinic every Friday for Napa County residents only. Proof of Napa County residency is required. No appointment necessary.
URL:https://napacart.org/event/napa-humane-drop-in-vaccination-microchip-clinic-41-2025/
LOCATION:Napa Humane Spay/Neuter Clinic\, 3265 California Boulevard\, Napa\, CA\, 94558
CATEGORIES:Community Events
ATTACH;FMTTYPE=image/jpeg:https://napacart.org/wp-content/uploads/2024/05/drop-in-vaccination_microchip-clinic.jpg
ORGANIZER;CN="Napa Humane Spay/Neuter Clinic":MAILTO:clinicinfo@napahumane.org
END:VEVENT
BEGIN:VEVENT
DTSTART;TZID=America/Los_Angeles:20251017T093000
DTEND;TZID=America/Los_Angeles:20251017T130000
DTSTAMP:20260420T133626
CREATED:20250207T185902Z
LAST-MODIFIED:20250207T185902Z
UID:5015-1760693400-1760706000@napacart.org
SUMMARY:Napa Humane Drop-In Vaccination/Microchip Clinic
DESCRIPTION:Every Friday from 9:30 AM – 1:00 PM \nNapa Humane Spay/Neuter Clinic holds a drop-in vaccination/microchip clinic every Friday for Napa County residents only. Proof of Napa County residency is required. No appointment necessary.
URL:https://napacart.org/event/napa-humane-drop-in-vaccination-microchip-clinic-42-2025/
LOCATION:Napa Humane Spay/Neuter Clinic\, 3265 California Boulevard\, Napa\, CA\, 94558
CATEGORIES:Community Events
ATTACH;FMTTYPE=image/jpeg:https://napacart.org/wp-content/uploads/2024/05/drop-in-vaccination_microchip-clinic.jpg
ORGANIZER;CN="Napa Humane Spay/Neuter Clinic":MAILTO:clinicinfo@napahumane.org
END:VEVENT
BEGIN:VEVENT
DTSTART;TZID=America/Los_Angeles:20251018T083000
DTEND;TZID=America/Los_Angeles:20251018T113000
DTSTAMP:20260420T133626
CREATED:20250207T191402Z
LAST-MODIFIED:20250207T195351Z
UID:5039-1760776200-1760787000@napacart.org
SUMMARY:Napa CERT County Wide Exercise
DESCRIPTION:See Napa CERT calendar: https://www.countyofnapa.org/2525/Training-Opportunities
URL:https://napacart.org/event/napa-cert-county-wide-exercise-101825/
CATEGORIES:Volunteer Training
ATTACH;FMTTYPE=image/png:https://napacart.org/wp-content/uploads/2018/06/CERT-logo-e1528810581349.png
END:VEVENT
BEGIN:VEVENT
DTSTART;TZID=America/Los_Angeles:20251024T093000
DTEND;TZID=America/Los_Angeles:20251024T130000
DTSTAMP:20260420T133626
CREATED:20250207T190039Z
LAST-MODIFIED:20250207T190039Z
UID:5017-1761298200-1761310800@napacart.org
SUMMARY:Napa Humane Drop-In Vaccination/Microchip Clinic
DESCRIPTION:Every Friday from 9:30 AM – 1:00 PM \nNapa Humane Spay/Neuter Clinic holds a drop-in vaccination/microchip clinic every Friday for Napa County residents only. Proof of Napa County residency is required. No appointment necessary.
URL:https://napacart.org/event/napa-humane-drop-in-vaccination-microchip-clinic-43-2025/
LOCATION:Napa Humane Spay/Neuter Clinic\, 3265 California Boulevard\, Napa\, CA\, 94558
CATEGORIES:Community Events
ATTACH;FMTTYPE=image/jpeg:https://napacart.org/wp-content/uploads/2024/05/drop-in-vaccination_microchip-clinic.jpg
ORGANIZER;CN="Napa Humane Spay/Neuter Clinic":MAILTO:clinicinfo@napahumane.org
END:VEVENT
BEGIN:VEVENT
DTSTART;TZID=America/Los_Angeles:20251026T110000
DTEND;TZID=America/Los_Angeles:20251026T130000
DTSTAMP:20260420T133626
CREATED:20250207T192043Z
LAST-MODIFIED:20250307T230658Z
UID:5053-1761476400-1761483600@napacart.org
SUMMARY:Animal Technical Rescue Team (ATR)
DESCRIPTION:Small group of certified technicians meeting to practice technical rescue scenarios on mannequin in conjunction with Large Animal evacuation exercises to be conducted at various local sites. \nSign up in your MyImpact profile: myimpactpage.com
URL:https://napacart.org/event/animal-technical-rescue-team-102625/
CATEGORIES:Volunteer Training
ATTACH;FMTTYPE=image/jpeg:https://napacart.org/wp-content/uploads/2023/08/volunteer-training-ATR.jpg
END:VEVENT
BEGIN:VEVENT
DTSTART;TZID=America/Los_Angeles:20251031T093000
DTEND;TZID=America/Los_Angeles:20251031T130000
DTSTAMP:20260420T133626
CREATED:20250207T190140Z
LAST-MODIFIED:20250207T190140Z
UID:5019-1761903000-1761915600@napacart.org
SUMMARY:Napa Humane Drop-In Vaccination/Microchip Clinic
DESCRIPTION:Every Friday from 9:30 AM – 1:00 PM \nNapa Humane Spay/Neuter Clinic holds a drop-in vaccination/microchip clinic every Friday for Napa County residents only. Proof of Napa County residency is required. No appointment necessary.
URL:https://napacart.org/event/napa-humane-drop-in-vaccination-microchip-clinic-44-2025/
LOCATION:Napa Humane Spay/Neuter Clinic\, 3265 California Boulevard\, Napa\, CA\, 94558
CATEGORIES:Community Events
ATTACH;FMTTYPE=image/jpeg:https://napacart.org/wp-content/uploads/2024/05/drop-in-vaccination_microchip-clinic.jpg
ORGANIZER;CN="Napa Humane Spay/Neuter Clinic":MAILTO:clinicinfo@napahumane.org
END:VEVENT
END:VCALENDAR