BEGIN:VCALENDAR
VERSION:2.0
PRODID:-//Napa CART - ECPv6.15.20//NONSGML v1.0//EN
CALSCALE:GREGORIAN
METHOD:PUBLISH
X-WR-CALNAME:Napa CART
X-ORIGINAL-URL:https://napacart.org
X-WR-CALDESC:Events for Napa CART
REFRESH-INTERVAL;VALUE=DURATION:PT1H
X-Robots-Tag:noindex
X-PUBLISHED-TTL:PT1H
BEGIN:VTIMEZONE
TZID:America/Los_Angeles
BEGIN:DAYLIGHT
TZOFFSETFROM:-0800
TZOFFSETTO:-0700
TZNAME:PDT
DTSTART:20240310T100000
END:DAYLIGHT
BEGIN:STANDARD
TZOFFSETFROM:-0700
TZOFFSETTO:-0800
TZNAME:PST
DTSTART:20241103T090000
END:STANDARD
BEGIN:DAYLIGHT
TZOFFSETFROM:-0800
TZOFFSETTO:-0700
TZNAME:PDT
DTSTART:20250309T100000
END:DAYLIGHT
BEGIN:STANDARD
TZOFFSETFROM:-0700
TZOFFSETTO:-0800
TZNAME:PST
DTSTART:20251102T090000
END:STANDARD
BEGIN:DAYLIGHT
TZOFFSETFROM:-0800
TZOFFSETTO:-0700
TZNAME:PDT
DTSTART:20260308T100000
END:DAYLIGHT
BEGIN:STANDARD
TZOFFSETFROM:-0700
TZOFFSETTO:-0800
TZNAME:PST
DTSTART:20261101T090000
END:STANDARD
END:VTIMEZONE
BEGIN:VEVENT
DTSTART;TZID=America/Los_Angeles:20250207T093000
DTEND;TZID=America/Los_Angeles:20250207T130000
DTSTAMP:20260417T001744
CREATED:20250111T002924Z
LAST-MODIFIED:20250111T002924Z
UID:4886-1738920600-1738933200@napacart.org
SUMMARY:Napa Humane Drop-In Vaccination/Microchip Clinic
DESCRIPTION:Every Friday from 9:30 AM – 1:00 PM \nNapa Humane Spay/Neuter Clinic holds a drop-in vaccination/microchip clinic every Friday for Napa County residents only. Proof of Napa County residency is required. No appointment necessary.
URL:https://napacart.org/event/napa-humane-drop-in-vaccination-microchip-clinic-6-2025/
LOCATION:Napa Humane Spay/Neuter Clinic\, 3265 California Boulevard\, Napa\, CA\, 94558
CATEGORIES:Community Events
ATTACH;FMTTYPE=image/jpeg:https://napacart.org/wp-content/uploads/2024/05/drop-in-vaccination_microchip-clinic.jpg
ORGANIZER;CN="Napa Humane Spay/Neuter Clinic":MAILTO:clinicinfo@napahumane.org
END:VEVENT
BEGIN:VEVENT
DTSTART;TZID=America/Los_Angeles:20250214T093000
DTEND;TZID=America/Los_Angeles:20250214T130000
DTSTAMP:20260417T001744
CREATED:20250111T003018Z
LAST-MODIFIED:20250111T003018Z
UID:4888-1739525400-1739538000@napacart.org
SUMMARY:Napa Humane Drop-In Vaccination/Microchip Clinic
DESCRIPTION:Every Friday from 9:30 AM – 1:00 PM \nNapa Humane Spay/Neuter Clinic holds a drop-in vaccination/microchip clinic every Friday for Napa County residents only. Proof of Napa County residency is required. No appointment necessary.
URL:https://napacart.org/event/napa-humane-drop-in-vaccination-microchip-clinic-7-2025/
LOCATION:Napa Humane Spay/Neuter Clinic\, 3265 California Boulevard\, Napa\, CA\, 94558
CATEGORIES:Community Events
ATTACH;FMTTYPE=image/jpeg:https://napacart.org/wp-content/uploads/2024/05/drop-in-vaccination_microchip-clinic.jpg
ORGANIZER;CN="Napa Humane Spay/Neuter Clinic":MAILTO:clinicinfo@napahumane.org
END:VEVENT
BEGIN:VEVENT
DTSTART;TZID=America/Los_Angeles:20250215T083000
DTEND;TZID=America/Los_Angeles:20250215T123000
DTSTAMP:20260417T001744
CREATED:20250207T191243Z
LAST-MODIFIED:20250207T192927Z
UID:5037-1739608200-1739622600@napacart.org
SUMMARY:CERT Skills Update Training
DESCRIPTION:See Napa CERT Calendar @ NVC \nSign up in your MyImpact profile: myimpactpage.com
URL:https://napacart.org/event/cert-skills-update-training-021525/
LOCATION:Napa Valley College\, 2277 Napa-Vallejo Highway\, Napa\, CA\, United States
CATEGORIES:Volunteer Training
END:VEVENT
BEGIN:VEVENT
DTSTART;TZID=America/Los_Angeles:20250221T093000
DTEND;TZID=America/Los_Angeles:20250221T130000
DTSTAMP:20260417T001744
CREATED:20250111T003109Z
LAST-MODIFIED:20250111T003109Z
UID:4890-1740130200-1740142800@napacart.org
SUMMARY:Napa Humane Drop-In Vaccination/Microchip Clinic
DESCRIPTION:Every Friday from 9:30 AM – 1:00 PM \nNapa Humane Spay/Neuter Clinic holds a drop-in vaccination/microchip clinic every Friday for Napa County residents only. Proof of Napa County residency is required. No appointment necessary.
URL:https://napacart.org/event/napa-humane-drop-in-vaccination-microchip-clinic-8-2025/
LOCATION:Napa Humane Spay/Neuter Clinic\, 3265 California Boulevard\, Napa\, CA\, 94558
CATEGORIES:Community Events
ATTACH;FMTTYPE=image/jpeg:https://napacart.org/wp-content/uploads/2024/05/drop-in-vaccination_microchip-clinic.jpg
ORGANIZER;CN="Napa Humane Spay/Neuter Clinic":MAILTO:clinicinfo@napahumane.org
END:VEVENT
BEGIN:VEVENT
DTSTART;TZID=America/Los_Angeles:20250223T110000
DTEND;TZID=America/Los_Angeles:20250223T130000
DTSTAMP:20260417T001744
CREATED:20250207T191607Z
LAST-MODIFIED:20250207T192818Z
UID:5041-1740308400-1740315600@napacart.org
SUMMARY:Animal Technical Rescue Team (ATR)
DESCRIPTION:Small group of certified technicians meeting to practice technical rescue scenarios on mannequin in conjunction with Large Animal evacuation exercises to be conducted at various local sites. \nSign up in your MyImpact profile: myimpactpage.com
URL:https://napacart.org/event/animal-technical-rescue-team-022325/
CATEGORIES:Volunteer Training
END:VEVENT
BEGIN:VEVENT
DTSTART;TZID=America/Los_Angeles:20250228T093000
DTEND;TZID=America/Los_Angeles:20250228T130000
DTSTAMP:20260417T001744
CREATED:20250111T003224Z
LAST-MODIFIED:20250111T003224Z
UID:4892-1740735000-1740747600@napacart.org
SUMMARY:Napa Humane Drop-In Vaccination/Microchip Clinic
DESCRIPTION:Every Friday from 9:30 AM – 1:00 PM \nNapa Humane Spay/Neuter Clinic holds a drop-in vaccination/microchip clinic every Friday for Napa County residents only. Proof of Napa County residency is required. No appointment necessary.
URL:https://napacart.org/event/napa-humane-drop-in-vaccination-microchip-clinic-9-2025/
LOCATION:Napa Humane Spay/Neuter Clinic\, 3265 California Boulevard\, Napa\, CA\, 94558
CATEGORIES:Community Events
ATTACH;FMTTYPE=image/jpeg:https://napacart.org/wp-content/uploads/2024/05/drop-in-vaccination_microchip-clinic.jpg
ORGANIZER;CN="Napa Humane Spay/Neuter Clinic":MAILTO:clinicinfo@napahumane.org
END:VEVENT
END:VCALENDAR