BEGIN:VCALENDAR
VERSION:2.0
PRODID:-//Napa CART - ECPv6.15.20//NONSGML v1.0//EN
CALSCALE:GREGORIAN
METHOD:PUBLISH
X-ORIGINAL-URL:https://napacart.org
X-WR-CALDESC:Events for Napa CART
REFRESH-INTERVAL;VALUE=DURATION:PT1H
X-Robots-Tag:noindex
X-PUBLISHED-TTL:PT1H
BEGIN:VTIMEZONE
TZID:America/Los_Angeles
BEGIN:DAYLIGHT
TZOFFSETFROM:-0800
TZOFFSETTO:-0700
TZNAME:PDT
DTSTART:20230312T100000
END:DAYLIGHT
BEGIN:STANDARD
TZOFFSETFROM:-0700
TZOFFSETTO:-0800
TZNAME:PST
DTSTART:20231105T090000
END:STANDARD
BEGIN:DAYLIGHT
TZOFFSETFROM:-0800
TZOFFSETTO:-0700
TZNAME:PDT
DTSTART:20240310T100000
END:DAYLIGHT
BEGIN:STANDARD
TZOFFSETFROM:-0700
TZOFFSETTO:-0800
TZNAME:PST
DTSTART:20241103T090000
END:STANDARD
BEGIN:DAYLIGHT
TZOFFSETFROM:-0800
TZOFFSETTO:-0700
TZNAME:PDT
DTSTART:20250309T100000
END:DAYLIGHT
BEGIN:STANDARD
TZOFFSETFROM:-0700
TZOFFSETTO:-0800
TZNAME:PST
DTSTART:20251102T090000
END:STANDARD
END:VTIMEZONE
BEGIN:VEVENT
DTSTART;TZID=America/Los_Angeles:20240705T093000
DTEND;TZID=America/Los_Angeles:20240705T130000
DTSTAMP:20260420T043738
CREATED:20240426T174942Z
LAST-MODIFIED:20240501T230900Z
UID:4634-1720171800-1720184400@napacart.org
SUMMARY:Napa Humane Drop-In Vaccination/Microchip Clinic
DESCRIPTION:Every Friday from 9:30 AM – 1:00 PM \nNapa Humane Spay/Neuter Clinic holds a drop-in vaccination/microchip clinic every Friday for Napa County residents only. Proof of Napa County residency is required. No appointment necessary.
URL:https://napacart.org/event/napa-humane-drop-in-vaccination-microchip-clinic-27-2024/
LOCATION:Napa Humane Spay/Neuter Clinic\, 3265 California Boulevard\, Napa\, CA\, 94558
CATEGORIES:Community Events
ATTACH;FMTTYPE=image/jpeg:https://napacart.org/wp-content/uploads/2024/05/drop-in-vaccination_microchip-clinic.jpg
ORGANIZER;CN="Napa Humane Spay/Neuter Clinic":MAILTO:clinicinfo@napahumane.org
END:VEVENT
BEGIN:VEVENT
DTSTART;TZID=America/Los_Angeles:20240712T093000
DTEND;TZID=America/Los_Angeles:20240712T130000
DTSTAMP:20260420T043738
CREATED:20240426T175542Z
LAST-MODIFIED:20240501T230823Z
UID:4636-1720776600-1720789200@napacart.org
SUMMARY:Napa Humane Drop-In Vaccination/Microchip Clinic
DESCRIPTION:Every Friday from 9:30 AM – 1:00 PM \nNapa Humane Spay/Neuter Clinic holds a drop-in vaccination/microchip clinic every Friday for Napa County residents only. Proof of Napa County residency is required. No appointment necessary.
URL:https://napacart.org/event/napa-humane-drop-in-vaccination-microchip-clinic-28-2024/
LOCATION:Napa Humane Spay/Neuter Clinic\, 3265 California Boulevard\, Napa\, CA\, 94558
CATEGORIES:Community Events
ATTACH;FMTTYPE=image/jpeg:https://napacart.org/wp-content/uploads/2024/05/drop-in-vaccination_microchip-clinic.jpg
ORGANIZER;CN="Napa Humane Spay/Neuter Clinic":MAILTO:clinicinfo@napahumane.org
END:VEVENT
BEGIN:VEVENT
DTSTART;TZID=America/Los_Angeles:20240718T190000
DTEND;TZID=America/Los_Angeles:20240718T200000
DTSTAMP:20260420T043738
CREATED:20240223T003840Z
LAST-MODIFIED:20240227T235428Z
UID:4581-1721329200-1721332800@napacart.org
SUMMARY:Species Specific Training Series 7/18/24
DESCRIPTION:One hour hands on\, small group course for familiarity on specific animal groups or techniques: Horses and Donkeys. \nSign up in your MyImpact profile: myimpactpage.com
URL:https://napacart.org/event/species-specific-training-series-7-18-24/
LOCATION:Napa Valley Horsemen’s Association\, 1200 Foster Rd\, Napa\, 94558\, United States
CATEGORIES:Volunteer Training
ATTACH;FMTTYPE=image/jpeg:https://napacart.org/wp-content/uploads/2024/02/training-donkeys-horses.jpg
END:VEVENT
BEGIN:VEVENT
DTSTART;TZID=America/Los_Angeles:20240719T093000
DTEND;TZID=America/Los_Angeles:20240719T130000
DTSTAMP:20260420T043738
CREATED:20240426T175642Z
LAST-MODIFIED:20240501T230744Z
UID:4638-1721381400-1721394000@napacart.org
SUMMARY:Napa Humane Drop-In Vaccination/Microchip Clinic
DESCRIPTION:Every Friday from 9:30 AM – 1:00 PM \nNapa Humane Spay/Neuter Clinic holds a drop-in vaccination/microchip clinic every Friday for Napa County residents only. Proof of Napa County residency is required. No appointment necessary.
URL:https://napacart.org/event/napa-humane-drop-in-vaccination-microchip-clinic-29-2024/
LOCATION:Napa Humane Spay/Neuter Clinic\, 3265 California Boulevard\, Napa\, CA\, 94558
CATEGORIES:Community Events
ATTACH;FMTTYPE=image/jpeg:https://napacart.org/wp-content/uploads/2024/05/drop-in-vaccination_microchip-clinic.jpg
ORGANIZER;CN="Napa Humane Spay/Neuter Clinic":MAILTO:clinicinfo@napahumane.org
END:VEVENT
BEGIN:VEVENT
DTSTART;TZID=America/Los_Angeles:20240726T093000
DTEND;TZID=America/Los_Angeles:20240726T130000
DTSTAMP:20260420T043738
CREATED:20240426T175738Z
LAST-MODIFIED:20240501T230322Z
UID:4640-1721986200-1721998800@napacart.org
SUMMARY:Napa Humane Drop-In Vaccination/Microchip Clinic
DESCRIPTION:Every Friday from 9:30 AM – 1:00 PM \nNapa Humane Spay/Neuter Clinic holds a drop-in vaccination/microchip clinic every Friday for Napa County residents only. Proof of Napa County residency is required. No appointment necessary.
URL:https://napacart.org/event/napa-humane-drop-in-vaccination-microchip-clinic-30-2024/
LOCATION:Napa Humane Spay/Neuter Clinic\, 3265 California Boulevard\, Napa\, CA\, 94558
CATEGORIES:Community Events
ATTACH;FMTTYPE=image/jpeg:https://napacart.org/wp-content/uploads/2024/05/drop-in-vaccination_microchip-clinic.jpg
ORGANIZER;CN="Napa Humane Spay/Neuter Clinic":MAILTO:clinicinfo@napahumane.org
END:VEVENT
BEGIN:VEVENT
DTSTART;TZID=America/Los_Angeles:20240728T110000
DTEND;TZID=America/Los_Angeles:20240728T130000
DTSTAMP:20260420T043738
CREATED:20240223T001800Z
LAST-MODIFIED:20240223T001800Z
UID:4557-1722164400-1722171600@napacart.org
SUMMARY:Animal Technical Rescue Team (ATR) 7/28/24
DESCRIPTION:In Person Training: Small group of certified technicians meeting to practice technical rescue scenarios on mannequin in conjunction with Large Animal evacuation exercises to be conducted at various local sites. \nSign up in your MyImpact profile: myimpactpage.com
URL:https://napacart.org/event/animal-technical-rescue-team-atr-7-28-24/
CATEGORIES:Volunteer Training
END:VEVENT
END:VCALENDAR