BEGIN:VCALENDAR
VERSION:2.0
PRODID:-//Napa CART - ECPv6.15.20//NONSGML v1.0//EN
CALSCALE:GREGORIAN
METHOD:PUBLISH
X-WR-CALNAME:Napa CART
X-ORIGINAL-URL:https://napacart.org
X-WR-CALDESC:Events for Napa CART
REFRESH-INTERVAL;VALUE=DURATION:PT1H
X-Robots-Tag:noindex
X-PUBLISHED-TTL:PT1H
BEGIN:VTIMEZONE
TZID:America/Los_Angeles
BEGIN:DAYLIGHT
TZOFFSETFROM:-0800
TZOFFSETTO:-0700
TZNAME:PDT
DTSTART:20230312T100000
END:DAYLIGHT
BEGIN:STANDARD
TZOFFSETFROM:-0700
TZOFFSETTO:-0800
TZNAME:PST
DTSTART:20231105T090000
END:STANDARD
BEGIN:DAYLIGHT
TZOFFSETFROM:-0800
TZOFFSETTO:-0700
TZNAME:PDT
DTSTART:20240310T100000
END:DAYLIGHT
BEGIN:STANDARD
TZOFFSETFROM:-0700
TZOFFSETTO:-0800
TZNAME:PST
DTSTART:20241103T090000
END:STANDARD
BEGIN:DAYLIGHT
TZOFFSETFROM:-0800
TZOFFSETTO:-0700
TZNAME:PDT
DTSTART:20250309T100000
END:DAYLIGHT
BEGIN:STANDARD
TZOFFSETFROM:-0700
TZOFFSETTO:-0800
TZNAME:PST
DTSTART:20251102T090000
END:STANDARD
END:VTIMEZONE
BEGIN:VEVENT
DTSTART;TZID=America/Los_Angeles:20240418T190000
DTEND;TZID=America/Los_Angeles:20240418T200000
DTSTAMP:20260420T085449
CREATED:20240222T014315Z
LAST-MODIFIED:20240223T003853Z
UID:4541-1713466800-1713470400@napacart.org
SUMMARY:Species Specific Training Series 4/18/24
DESCRIPTION:One hour hands on\, small group course for familiarity on specific animal groups or techniques: Awareness and Skills\, SIP considerations. Locations will vary. \nSign up in your MyImpact profile: myimpactpage.com
URL:https://napacart.org/event/species-specific-training-series-4-18-24/
CATEGORIES:Volunteer Training
END:VEVENT
BEGIN:VEVENT
DTSTART;TZID=America/Los_Angeles:20240426T093000
DTEND;TZID=America/Los_Angeles:20240426T130000
DTSTAMP:20260420T085449
CREATED:20240423T183226Z
LAST-MODIFIED:20240502T004502Z
UID:4600-1714123800-1714136400@napacart.org
SUMMARY:Napa Humane Drop-In Vaccination/Microchip Clinic
DESCRIPTION:Every Friday from 9:30 AM – 1:00 PM \nNapa Humane Spay/Neuter Clinic holds a drop-in vaccination/microchip clinic every Friday for Napa County residents only. Proof of Napa County residency is required. No appointment necessary.
URL:https://napacart.org/event/drop-in-vaccination-microchip-clinic-17-2024/
LOCATION:Napa Humane Spay/Neuter Clinic\, 3265 California Boulevard\, Napa\, CA\, 94558
CATEGORIES:Community Events
ATTACH;FMTTYPE=image/jpeg:https://napacart.org/wp-content/uploads/2024/05/drop-in-vaccination_microchip-clinic.jpg
ORGANIZER;CN="Napa Humane Spay/Neuter Clinic":MAILTO:clinicinfo@napahumane.org
END:VEVENT
BEGIN:VEVENT
DTSTART;TZID=America/Los_Angeles:20240427T090000
DTEND;TZID=America/Los_Angeles:20240427T150000
DTSTAMP:20260420T085449
CREATED:20240222T013942Z
LAST-MODIFIED:20240222T013942Z
UID:4539-1714208400-1714230000@napacart.org
SUMMARY:Hauling Certification
DESCRIPTION:Vehicle inspection sheets due.  \nWith a recent vehicle and/or trailer inspection in hand\, volunteers can learn techniques for and test to become certified to haul trailers with our CART. CART trailer will be onsite for those who don’t have own trailer to test with. \nSign up in your MyImpact profile: myimpactpage.com
URL:https://napacart.org/event/hauling-certification/
LOCATION:Napa Valley College\, 2277 Napa-Vallejo Highway\, Napa\, CA\, United States
CATEGORIES:Volunteer Training
END:VEVENT
BEGIN:VEVENT
DTSTART;TZID=America/Los_Angeles:20240428T110000
DTEND;TZID=America/Los_Angeles:20240428T130000
DTSTAMP:20260420T085449
CREATED:20240222T013755Z
LAST-MODIFIED:20240222T013755Z
UID:4537-1714302000-1714309200@napacart.org
SUMMARY:Animal Technical Rescue Team (ATR) 4/28/24
DESCRIPTION:In Person Training: Small group of certified technicians meeting to practice technical rescue scenarios on mannequin in conjunction with Large Animal evacuation exercises to be conducted at various local sites. \nSign up in your MyImpact profile: myimpactpage.com
URL:https://napacart.org/event/animal-technical-rescue-team-atr-4-28-24/
CATEGORIES:Volunteer Training
END:VEVENT
END:VCALENDAR