BEGIN:VCALENDAR
VERSION:2.0
PRODID:-//Napa CART - ECPv6.15.20//NONSGML v1.0//EN
CALSCALE:GREGORIAN
METHOD:PUBLISH
X-ORIGINAL-URL:https://napacart.org
X-WR-CALDESC:Events for Napa CART
REFRESH-INTERVAL;VALUE=DURATION:PT1H
X-Robots-Tag:noindex
X-PUBLISHED-TTL:PT1H
BEGIN:VTIMEZONE
TZID:America/Los_Angeles
BEGIN:DAYLIGHT
TZOFFSETFROM:-0800
TZOFFSETTO:-0700
TZNAME:PDT
DTSTART:20230312T100000
END:DAYLIGHT
BEGIN:STANDARD
TZOFFSETFROM:-0700
TZOFFSETTO:-0800
TZNAME:PST
DTSTART:20231105T090000
END:STANDARD
BEGIN:DAYLIGHT
TZOFFSETFROM:-0800
TZOFFSETTO:-0700
TZNAME:PDT
DTSTART:20240310T100000
END:DAYLIGHT
BEGIN:STANDARD
TZOFFSETFROM:-0700
TZOFFSETTO:-0800
TZNAME:PST
DTSTART:20241103T090000
END:STANDARD
BEGIN:DAYLIGHT
TZOFFSETFROM:-0800
TZOFFSETTO:-0700
TZNAME:PDT
DTSTART:20250309T100000
END:DAYLIGHT
BEGIN:STANDARD
TZOFFSETFROM:-0700
TZOFFSETTO:-0800
TZNAME:PST
DTSTART:20251102T090000
END:STANDARD
END:VTIMEZONE
BEGIN:VEVENT
DTSTART;TZID=America/Los_Angeles:20240323T090000
DTEND;TZID=America/Los_Angeles:20240323T120000
DTSTAMP:20260420T134532
CREATED:20240221T004935Z
LAST-MODIFIED:20240227T235807Z
UID:4524-1711184400-1711195200@napacart.org
SUMMARY:Hotline\, Shelterly\, Sar Topo awareness
DESCRIPTION:A review of basic CART admin roles with taking hotline calls\, using Shelterly software to track teams and animals and the use of mapping program CALTOPO to track teams in the field and their locations. \nSign up in your MyImpact profile: myimpactpage.com
URL:https://napacart.org/event/hotline-shelterly-sar-topo-awareness/
LOCATION:Napa Valley Horsemen’s Association\, 1200 Foster Rd\, Napa\, 94558\, United States
CATEGORIES:Volunteer Training
ATTACH;FMTTYPE=image/jpeg:https://napacart.org/wp-content/uploads/2024/02/dispatch-comm-skills.jpg
END:VEVENT
BEGIN:VEVENT
DTSTART;TZID=America/Los_Angeles:20240323T123000
DTEND;TZID=America/Los_Angeles:20240323T153000
DTSTAMP:20260420T134532
CREATED:20240221T005124Z
LAST-MODIFIED:20240228T000115Z
UID:4526-1711197000-1711207800@napacart.org
SUMMARY:Dispatch & Comms Skills w/CERT
DESCRIPTION:Focus is on practicing various communication methodologies and dispatch of field teams for ASAR. \nSign up in your MyImpact profile: myimpactpage.com
URL:https://napacart.org/event/dispatch-comms-skills-w-cert/
LOCATION:Napa Valley Horsemen’s Association\, 1200 Foster Rd\, Napa\, 94558\, United States
CATEGORIES:Volunteer Training
ATTACH;FMTTYPE=image/jpeg:https://napacart.org/wp-content/uploads/2024/02/dispatch-comm-skills-2.jpg
END:VEVENT
BEGIN:VEVENT
DTSTART;TZID=America/Los_Angeles:20240324T110000
DTEND;TZID=America/Los_Angeles:20240324T130000
DTSTAMP:20260420T134532
CREATED:20240221T004047Z
LAST-MODIFIED:20240221T004903Z
UID:4521-1711278000-1711285200@napacart.org
SUMMARY:Animal Technical Rescue Team (ATR) 3/24/24
DESCRIPTION:In Person Training: Small group of certified technicians meeting to practice technical rescue scenarios on mannequin in conjunction with Large Animal evacuation exercises to be conducted at various local sites. \nSign up in your MyImpact profile: myimpactpage.com
URL:https://napacart.org/event/animal-technical-rescue-team-atr-3-24-24/
CATEGORIES:Volunteer Training
END:VEVENT
END:VCALENDAR