BEGIN:VCALENDAR
VERSION:2.0
PRODID:-//Napa CART - ECPv6.15.20//NONSGML v1.0//EN
CALSCALE:GREGORIAN
METHOD:PUBLISH
X-WR-CALNAME:Napa CART
X-ORIGINAL-URL:https://napacart.org
X-WR-CALDESC:Events for Napa CART
REFRESH-INTERVAL;VALUE=DURATION:PT1H
X-Robots-Tag:noindex
X-PUBLISHED-TTL:PT1H
BEGIN:VTIMEZONE
TZID:America/Los_Angeles
BEGIN:DAYLIGHT
TZOFFSETFROM:-0800
TZOFFSETTO:-0700
TZNAME:PDT
DTSTART:20230312T100000
END:DAYLIGHT
BEGIN:STANDARD
TZOFFSETFROM:-0700
TZOFFSETTO:-0800
TZNAME:PST
DTSTART:20231105T090000
END:STANDARD
BEGIN:DAYLIGHT
TZOFFSETFROM:-0800
TZOFFSETTO:-0700
TZNAME:PDT
DTSTART:20240310T100000
END:DAYLIGHT
BEGIN:STANDARD
TZOFFSETFROM:-0700
TZOFFSETTO:-0800
TZNAME:PST
DTSTART:20241103T090000
END:STANDARD
BEGIN:DAYLIGHT
TZOFFSETFROM:-0800
TZOFFSETTO:-0700
TZNAME:PDT
DTSTART:20250309T100000
END:DAYLIGHT
BEGIN:STANDARD
TZOFFSETFROM:-0700
TZOFFSETTO:-0800
TZNAME:PST
DTSTART:20251102T090000
END:STANDARD
END:VTIMEZONE
BEGIN:VEVENT
DTSTART;TZID=America/Los_Angeles:20240127T130000
DTEND;TZID=America/Los_Angeles:20240127T163000
DTSTAMP:20260420T152005
CREATED:20231204T191950Z
LAST-MODIFIED:20231204T192653Z
UID:4506-1706360400-1706373000@napacart.org
SUMMARY:New Volunteer Orientation/ Awareness (Zoom)
DESCRIPTION:New Volunteer Orientation/ Awareness (Zoom)\nTo sign up\, please email info@napacart.org
URL:https://napacart.org/event/new-volunteer-orientation-awareness-jan-2024/
CATEGORIES:Volunteer Training
END:VEVENT
BEGIN:VEVENT
DTSTART;TZID=America/Los_Angeles:20240128T090000
DTEND;TZID=America/Los_Angeles:20240128T130000
DTSTAMP:20260420T152005
CREATED:20231204T192234Z
LAST-MODIFIED:20231204T192646Z
UID:4509-1706432400-1706446800@napacart.org
SUMMARY:Returning Volunteer Training (Zoom)
DESCRIPTION:Returning Volunteer Training (Zoom)\nSign up in your MyImpact profile: myimpactpage.com
URL:https://napacart.org/event/returning-volunteer-training-jan-2024/
CATEGORIES:Volunteer Training
END:VEVENT
BEGIN:VEVENT
DTSTART;TZID=America/Los_Angeles:20240128T140000
DTEND;TZID=America/Los_Angeles:20240128T160000
DTSTAMP:20260420T152005
CREATED:20231204T192524Z
LAST-MODIFIED:20231204T192639Z
UID:4511-1706450400-1706457600@napacart.org
SUMMARY:Fireline Safety and All Hazards Awareness (Zoom)
DESCRIPTION:Fireline Safety and All Hazards Awareness (Zoom) w/ResQFast\nSign up in your MyImpact profile: myimpactpage.com
URL:https://napacart.org/event/fireline-safety-and-all-hazards-awareness-jan-2024/
CATEGORIES:Volunteer Training
END:VEVENT
END:VCALENDAR