BEGIN:VCALENDAR
VERSION:2.0
PRODID:-//Napa CART - ECPv6.15.20//NONSGML v1.0//EN
CALSCALE:GREGORIAN
METHOD:PUBLISH
X-WR-CALNAME:Napa CART
X-ORIGINAL-URL:https://napacart.org
X-WR-CALDESC:Events for Napa CART
REFRESH-INTERVAL;VALUE=DURATION:PT1H
X-Robots-Tag:noindex
X-PUBLISHED-TTL:PT1H
BEGIN:VTIMEZONE
TZID:America/Los_Angeles
BEGIN:DAYLIGHT
TZOFFSETFROM:-0800
TZOFFSETTO:-0700
TZNAME:PDT
DTSTART:20160313T100000
END:DAYLIGHT
BEGIN:STANDARD
TZOFFSETFROM:-0700
TZOFFSETTO:-0800
TZNAME:PST
DTSTART:20161106T090000
END:STANDARD
BEGIN:DAYLIGHT
TZOFFSETFROM:-0800
TZOFFSETTO:-0700
TZNAME:PDT
DTSTART:20170312T100000
END:DAYLIGHT
BEGIN:STANDARD
TZOFFSETFROM:-0700
TZOFFSETTO:-0800
TZNAME:PST
DTSTART:20171105T090000
END:STANDARD
BEGIN:DAYLIGHT
TZOFFSETFROM:-0800
TZOFFSETTO:-0700
TZNAME:PDT
DTSTART:20180311T100000
END:DAYLIGHT
BEGIN:STANDARD
TZOFFSETFROM:-0700
TZOFFSETTO:-0800
TZNAME:PST
DTSTART:20181104T090000
END:STANDARD
END:VTIMEZONE
BEGIN:VEVENT
DTSTART;TZID=America/Los_Angeles:20171014T180000
DTEND;TZID=America/Los_Angeles:20171014T220000
DTSTAMP:20260420T171819
CREATED:20170729T215115Z
LAST-MODIFIED:20170729T215115Z
UID:3800-1508004000-1508018400@napacart.org
SUMMARY:NAPA CERT TRAINING – ACADEMY #87\, SESSION #5 OF 5
DESCRIPTION:Final session of Napa CERT Training Academy #87
URL:https://napacart.org/event/napa-cert-training-academy-87-session-5-of-5-2/
LOCATION:American Canyon\, CA\, American Canyon\, CA\, United States
CATEGORIES:Volunteer Training
ORGANIZER;CN="Napa County Community Emergency Response Team (Napa CERT)":MAILTO:sandra.hage@countyofnapa.org
END:VEVENT
BEGIN:VEVENT
DTSTART;TZID=America/Los_Angeles:20171012T180000
DTEND;TZID=America/Los_Angeles:20171012T220000
DTSTAMP:20260420T171819
CREATED:20170729T215002Z
LAST-MODIFIED:20170729T222919Z
UID:632-1507831200-1507845600@napacart.org
SUMMARY:NAPA CERT TRAINING – ACADEMY #87\, SESSION #4 OF 5
DESCRIPTION:Session 4 of Napa Cert Training Academy #87
URL:https://napacart.org/event/napa-cert-training-academy-87-session-4-of-5/
LOCATION:American Canyon\, CA\, American Canyon\, CA\, United States
CATEGORIES:Volunteer Training
ORGANIZER;CN="Napa County Community Emergency Response Team (Napa CERT)":MAILTO:sandra.hage@countyofnapa.org
END:VEVENT
BEGIN:VEVENT
DTSTART;TZID=America/Los_Angeles:20171012T180000
DTEND;TZID=America/Los_Angeles:20171012T220000
DTSTAMP:20260420T171819
CREATED:20170729T215002Z
LAST-MODIFIED:20170729T215002Z
UID:3481-1507831200-1507845600@napacart.org
SUMMARY:NAPA CERT TRAINING – ACADEMY #87\, SESSION #4 OF 5
DESCRIPTION:Session 4 of Napa Cert Training Academy #87
URL:https://napacart.org/event/napa-cert-training-academy-87-session-4-of-5-2/
LOCATION:American Canyon\, CA\, American Canyon\, CA\, United States
CATEGORIES:Volunteer Training
ORGANIZER;CN="Napa County Community Emergency Response Team (Napa CERT)":MAILTO:sandra.hage@countyofnapa.org
END:VEVENT
BEGIN:VEVENT
DTSTART;TZID=America/Los_Angeles:20171010T180000
DTEND;TZID=America/Los_Angeles:20171010T220000
DTSTAMP:20260420T171819
CREATED:20170729T214732Z
LAST-MODIFIED:20170729T222815Z
UID:628-1507658400-1507672800@napacart.org
SUMMARY:NAPA CERT TRAINING – ACADEMY #87\, SESSION #3 OF 5
DESCRIPTION:Session 3 of 5 of Napa CERT Academy#87
URL:https://napacart.org/event/napa-cert-training-academy-87-session-3-of-5/
LOCATION:American Canyon\, CA\, American Canyon\, CA\, United States
CATEGORIES:Volunteer Training
ORGANIZER;CN="Napa County Community Emergency Response Team (Napa CERT)":MAILTO:sandra.hage@countyofnapa.org
END:VEVENT
BEGIN:VEVENT
DTSTART;TZID=America/Los_Angeles:20171010T180000
DTEND;TZID=America/Los_Angeles:20171010T220000
DTSTAMP:20260420T171819
CREATED:20170729T214732Z
LAST-MODIFIED:20170729T214732Z
UID:3480-1507658400-1507672800@napacart.org
SUMMARY:NAPA CERT TRAINING – ACADEMY #87\, SESSION #3 OF 5
DESCRIPTION:Session 3 of 5 of Napa CERT Academy#87
URL:https://napacart.org/event/napa-cert-training-academy-87-session-3-of-5-2/
LOCATION:American Canyon\, CA\, American Canyon\, CA\, United States
CATEGORIES:Volunteer Training
ORGANIZER;CN="Napa County Community Emergency Response Team (Napa CERT)":MAILTO:sandra.hage@countyofnapa.org
END:VEVENT
BEGIN:VEVENT
DTSTART;TZID=America/Los_Angeles:20171005T183000
DTEND;TZID=America/Los_Angeles:20171005T200000
DTSTAMP:20260420T171819
CREATED:20170729T215433Z
LAST-MODIFIED:20171002T185149Z
UID:636-1507228200-1507233600@napacart.org
SUMMARY:Safe Trailer Loading Training
DESCRIPTION:October’s training session will be on Safe Trailer Loading and will include how to correctly tie quick release knots.  The session is free and everyone is welcome to attend.  Bring a friend!
URL:https://napacart.org/event/napa-cart-monthly-meeting/
LOCATION:Napa Valley Horsemen’s Association\, 1200 Foster Rd\, Napa\, 94558\, United States
CATEGORIES:Meeting,Volunteer Training
ORGANIZER;CN="Napa Community Animal Response Team ('Napa CART')":MAILTO:info@napacart.org
END:VEVENT
BEGIN:VEVENT
DTSTART;TZID=America/Los_Angeles:20171005T180000
DTEND;TZID=America/Los_Angeles:20171005T220000
DTSTAMP:20260420T171819
CREATED:20170729T163251Z
LAST-MODIFIED:20170729T222553Z
UID:618-1507226400-1507240800@napacart.org
SUMMARY:Napa CERT Training - Academy #87\, Session #2 of 5
DESCRIPTION:Session #2 of Napa CERT Training – Academy #87 \n 
URL:https://napacart.org/event/napa-cert-academy-87/
LOCATION:American Canyon\, CA\, American Canyon\, CA\, United States
CATEGORIES:Volunteer Training
ORGANIZER;CN="Napa County Community Emergency Response Team (Napa CERT)":MAILTO:sandra.hage@countyofnapa.org
END:VEVENT
BEGIN:VEVENT
DTSTART;TZID=America/Los_Angeles:20171005T180000
DTEND;TZID=America/Los_Angeles:20171005T220000
DTSTAMP:20260420T171819
CREATED:20170729T163251Z
LAST-MODIFIED:20170729T163251Z
UID:3479-1507226400-1507240800@napacart.org
SUMMARY:Napa CERT Training - Academy #87\, Session #2 of 5
DESCRIPTION:Session #2 of Napa CERT Training – Academy #87 \n 
URL:https://napacart.org/event/napa-cert-academy-87-2/
LOCATION:American Canyon\, CA\, American Canyon\, CA\, United States
CATEGORIES:Volunteer Training
ORGANIZER;CN="Napa County Community Emergency Response Team (Napa CERT)":MAILTO:sandra.hage@countyofnapa.org
END:VEVENT
BEGIN:VEVENT
DTSTART;TZID=America/Los_Angeles:20171003T180000
DTEND;TZID=America/Los_Angeles:20171003T220000
DTSTAMP:20260420T171819
CREATED:20170729T163013Z
LAST-MODIFIED:20170729T223108Z
UID:614-1507053600-1507068000@napacart.org
SUMMARY:Napa CERT Training - Academy #87\, Session #1 of 5
DESCRIPTION:Following a major disaster in the Napa Valley\, first responders who provide emergency services will not always be able to meet the immediate demand for these services. The high number of number of victims\, communication failures and road blockages will prevent people from accessing emergency services they have come to expect at a moment’s notice. Individuals will need to relay on themselves in order to meet their immediate lifesaving and life sustaining needs. \nThe Community Emergency Response Team (CERT) Program educates people about the hazards that affect the Napa Valley and trains them in basic disaster response skills\, such as fire safety\, light search and rescue\, team organization\, personal preparedness\, and disaster medical operations. People who go through CERT training have a better understanding of the potential threats to their home\, workplace and community and can take the right steps to lessen the effects of these hazards on themselves\, their homes or workplace. If a disaster happens that overwhelms local response capability\, CERT members can apply the training learned in the classroom and during exercises to give critical support to their family\, loved ones\, neighbors or associates in their immediate area until help arrives. When help does arrive\, CERTs provide useful information to responders and support their efforts\, as directed\, at the disaster site. CERT members can also assist with non-emergency projects that improve the safety of the community. In the Napa Valley the CERT training is provided though the collaborative efforts various emergency agencies and coordinated by Napa County. \n  \n\n\n\nAcademy #87\nLocation: City of American Canyon\n\n\nTuesday\, October 3 2017\n6pm – 10pm\n\n\nThursday\, October 5\, 2017\n6pm – 10pm\n\n\nTuesday\, October 10\, 2017\n6pm – 10pm\n\n\nThursday\, October 12\, 2017\n6pm – 10pm\n\n\nSaturday\, October 14\, 2017\n8am – 12pm\n\n\n\n 
URL:https://napacart.org/event/napa-cert-training-academy-87/
LOCATION:American Canyon\, CA\, American Canyon\, CA\, United States
CATEGORIES:Volunteer Training
ORGANIZER;CN="Napa County Community Emergency Response Team (Napa CERT)":MAILTO:sandra.hage@countyofnapa.org
END:VEVENT
BEGIN:VEVENT
DTSTART;TZID=America/Los_Angeles:20171003T180000
DTEND;TZID=America/Los_Angeles:20171003T220000
DTSTAMP:20260420T171819
CREATED:20170729T163013Z
LAST-MODIFIED:20170729T163013Z
UID:3478-1507053600-1507068000@napacart.org
SUMMARY:Napa CERT Training - Academy #87\, Session #1 of 5
DESCRIPTION:Following a major disaster in the Napa Valley\, first responders who provide emergency services will not always be able to meet the immediate demand for these services. The high number of number of victims\, communication failures and road blockages will prevent people from accessing emergency services they have come to expect at a moment’s notice. Individuals will need to relay on themselves in order to meet their immediate lifesaving and life sustaining needs. \nThe Community Emergency Response Team (CERT) Program educates people about the hazards that affect the Napa Valley and trains them in basic disaster response skills\, such as fire safety\, light search and rescue\, team organization\, personal preparedness\, and disaster medical operations. People who go through CERT training have a better understanding of the potential threats to their home\, workplace and community and can take the right steps to lessen the effects of these hazards on themselves\, their homes or workplace. If a disaster happens that overwhelms local response capability\, CERT members can apply the training learned in the classroom and during exercises to give critical support to their family\, loved ones\, neighbors or associates in their immediate area until help arrives. When help does arrive\, CERTs provide useful information to responders and support their efforts\, as directed\, at the disaster site. CERT members can also assist with non-emergency projects that improve the safety of the community. In the Napa Valley the CERT training is provided though the collaborative efforts various emergency agencies and coordinated by Napa County. \n  \n\n\n\nAcademy #87\nLocation: City of American Canyon\n\n\nTuesday\, October 3 2017\n6pm – 10pm\n\n\nThursday\, October 5\, 2017\n6pm – 10pm\n\n\nTuesday\, October 10\, 2017\n6pm – 10pm\n\n\nThursday\, October 12\, 2017\n6pm – 10pm\n\n\nSaturday\, October 14\, 2017\n8am – 12pm\n\n\n\n 
URL:https://napacart.org/event/napa-cert-training-academy-87-2/
LOCATION:American Canyon\, CA\, American Canyon\, CA\, United States
CATEGORIES:Volunteer Training
ORGANIZER;CN="Napa County Community Emergency Response Team (Napa CERT)":MAILTO:sandra.hage@countyofnapa.org
END:VEVENT
BEGIN:VEVENT
DTSTART;TZID=America/Los_Angeles:20170907T183000
DTEND;TZID=America/Los_Angeles:20170907T200000
DTSTAMP:20260420T171819
CREATED:20170729T010014Z
LAST-MODIFIED:20170823T173734Z
UID:600-1504809000-1504814400@napacart.org
SUMMARY:Equine Handling and Safety in Emergencies
DESCRIPTION:Napa CART Monthly Meeting.  Training topic will be Equine Handling and Safety in Emergencies taught by Dr. Claudia Sonder. \nEveryone is welcome! \n  \nNapa CART Equine Handling Training Flyer 09072017
URL:https://napacart.org/event/napa-cart-september-meeting/
LOCATION:Napa Valley Horsemen’s Association\, 1200 Foster Rd\, Napa\, 94558\, United States
CATEGORIES:Meeting,Volunteer Training
ORGANIZER;CN="Napa Community Animal Response Team ('Napa CART')":MAILTO:info@napacart.org
END:VEVENT
BEGIN:VEVENT
DTSTART;TZID=America/Los_Angeles:20170907T183000
DTEND;TZID=America/Los_Angeles:20170907T200000
DTSTAMP:20260420T171819
CREATED:20170729T010014Z
LAST-MODIFIED:20170729T010014Z
UID:3476-1504809000-1504814400@napacart.org
SUMMARY:Equine Handling and Safety in Emergencies
DESCRIPTION:Napa CART Monthly Meeting.  Training topic will be Equine Handling and Safety in Emergencies taught by Dr. Claudia Sonder. \nEveryone is welcome! \n  \nNapa CART Equine Handling Training Flyer 09072017
URL:https://napacart.org/event/napa-cart-september-meeting-2/
LOCATION:Napa Valley Horsemen’s Association\, 1200 Foster Rd\, Napa\, 94558\, United States
CATEGORIES:Meeting,Volunteer Training
ORGANIZER;CN="Napa Community Animal Response Team ('Napa CART')":MAILTO:info@napacart.org
END:VEVENT
BEGIN:VEVENT
DTSTART;TZID=America/Los_Angeles:20170808T183000
DTEND;TZID=America/Los_Angeles:20170808T200000
DTSTAMP:20260420T171819
CREATED:20170804T150203Z
LAST-MODIFIED:20170804T153159Z
UID:697-1502217000-1502222400@napacart.org
SUMMARY:Large Animal Sheltering Committee meeting
DESCRIPTION:Large Animal Sheltering Committee planning meeting. \nPlease join us if you are interested in assisting with Large Animal Sheltering.  Everyone is welcome to attend !
URL:https://napacart.org/event/large-animal-sheltering-committee-meeting/
LOCATION:Napa Valley Horsemen’s Association\, 1200 Foster Rd\, Napa\, 94558\, United States
CATEGORIES:Meeting,Volunteer Training
ORGANIZER;CN="Napa Community Animal Response Team ('Napa CART')":MAILTO:info@napacart.org
END:VEVENT
BEGIN:VEVENT
DTSTART;TZID=America/Los_Angeles:20170808T183000
DTEND;TZID=America/Los_Angeles:20170808T200000
DTSTAMP:20260420T171819
CREATED:20170804T150203Z
LAST-MODIFIED:20170804T150203Z
UID:3808-1502217000-1502222400@napacart.org
SUMMARY:Large Animal Sheltering Committee meeting
DESCRIPTION:Large Animal Sheltering Committee planning meeting. \nPlease join us if you are interested in assisting with Large Animal Sheltering.  Everyone is welcome to attend !
URL:https://napacart.org/event/large-animal-sheltering-committee-meeting-2/
LOCATION:Napa Valley Horsemen’s Association\, 1200 Foster Rd\, Napa\, 94558\, United States
CATEGORIES:Meeting,Volunteer Training
ORGANIZER;CN="Napa Community Animal Response Team ('Napa CART')":MAILTO:info@napacart.org
END:VEVENT
BEGIN:VEVENT
DTSTART;TZID=America/Los_Angeles:20170803T183000
DTEND;TZID=America/Los_Angeles:20170803T200000
DTSTAMP:20260420T171819
CREATED:20170728T224306Z
LAST-MODIFIED:20170729T221131Z
UID:585-1501785000-1501790400@napacart.org
SUMMARY:Horse Color Identification For Evacuation and Shelter workers
DESCRIPTION:The Napa Community Animal Response Team’s August Meeting will include a presentation on “Horse Color Identification – why it matters to emergency workers.” \nEveryone is welcome !
URL:https://napacart.org/event/horse-color-identification-for-evacuation-and-shelter-workers/
LOCATION:Napa Valley Horsemen’s Association\, 1200 Foster Rd\, Napa\, 94558\, United States
CATEGORIES:Meeting,Volunteer Training
ATTACH;FMTTYPE=image/jpeg:https://napacart.org/wp-content/uploads/2017/07/Mustangs.jpg
ORGANIZER;CN="Napa Community Animal Response Team ('Napa CART')":MAILTO:info@napacart.org
END:VEVENT
BEGIN:VEVENT
DTSTART;TZID=America/Los_Angeles:20170803T183000
DTEND;TZID=America/Los_Angeles:20170803T200000
DTSTAMP:20260420T171819
CREATED:20170728T224306Z
LAST-MODIFIED:20170728T224306Z
UID:3475-1501785000-1501790400@napacart.org
SUMMARY:Horse Color Identification For Evacuation and Shelter workers
DESCRIPTION:The Napa Community Animal Response Team’s August Meeting will include a presentation on “Horse Color Identification – why it matters to emergency workers.” \nEveryone is welcome !
URL:https://napacart.org/event/horse-color-identification-for-evacuation-and-shelter-workers-2/
LOCATION:Napa Valley Horsemen’s Association\, 1200 Foster Rd\, Napa\, 94558\, United States
CATEGORIES:Meeting,Volunteer Training
ATTACH;FMTTYPE=image/jpeg:https://napacart.org/wp-content/uploads/2017/07/Mustangs.jpg
ORGANIZER;CN="Napa Community Animal Response Team ('Napa CART')":MAILTO:info@napacart.org
END:VEVENT
END:VCALENDAR