BEGIN:VCALENDAR
VERSION:2.0
PRODID:-//Napa CART - ECPv6.15.20//NONSGML v1.0//EN
CALSCALE:GREGORIAN
METHOD:PUBLISH
X-ORIGINAL-URL:https://napacart.org
X-WR-CALDESC:Events for Napa CART
REFRESH-INTERVAL;VALUE=DURATION:PT1H
X-Robots-Tag:noindex
X-PUBLISHED-TTL:PT1H
BEGIN:VTIMEZONE
TZID:America/Los_Angeles
BEGIN:DAYLIGHT
TZOFFSETFROM:-0800
TZOFFSETTO:-0700
TZNAME:PDT
DTSTART:20250309T100000
END:DAYLIGHT
BEGIN:STANDARD
TZOFFSETFROM:-0700
TZOFFSETTO:-0800
TZNAME:PST
DTSTART:20251102T090000
END:STANDARD
BEGIN:DAYLIGHT
TZOFFSETFROM:-0800
TZOFFSETTO:-0700
TZNAME:PDT
DTSTART:20260308T100000
END:DAYLIGHT
BEGIN:STANDARD
TZOFFSETFROM:-0700
TZOFFSETTO:-0800
TZNAME:PST
DTSTART:20261101T090000
END:STANDARD
BEGIN:DAYLIGHT
TZOFFSETFROM:-0800
TZOFFSETTO:-0700
TZNAME:PDT
DTSTART:20270314T100000
END:DAYLIGHT
BEGIN:STANDARD
TZOFFSETFROM:-0700
TZOFFSETTO:-0800
TZNAME:PST
DTSTART:20271107T090000
END:STANDARD
BEGIN:DAYLIGHT
TZOFFSETFROM:-0800
TZOFFSETTO:-0700
TZNAME:PDT
DTSTART:20280312T100000
END:DAYLIGHT
BEGIN:STANDARD
TZOFFSETFROM:-0700
TZOFFSETTO:-0800
TZNAME:PST
DTSTART:20281105T090000
END:STANDARD
END:VTIMEZONE
BEGIN:VEVENT
DTSTART;TZID=America/Los_Angeles:20260904T093000
DTEND;TZID=America/Los_Angeles:20260904T123000
DTSTAMP:20260420T131539
CREATED:20260123T011431Z
LAST-MODIFIED:20260123T011431Z
UID:5315-1788514200-1788525000@napacart.org
SUMMARY:Napa Humane Drop-In Vaccination/Microchip Clinic
DESCRIPTION:Every Friday from 9:30 AM – 12:30 PM \nNapa Humane Spay/Neuter Clinic holds a drop-in vaccination/microchip clinic every Friday for Napa County residents only. Proof of Napa County residency is required. No appointment necessary.
URL:https://napacart.org/event/napa-humane-drop-in-vaccination-microchip-clinic-36-2026/
LOCATION:Napa Humane Spay/Neuter Clinic\, 3265 California Boulevard\, Napa\, CA\, 94558
CATEGORIES:Community Events
ATTACH;FMTTYPE=image/jpeg:https://napacart.org/wp-content/uploads/2024/05/drop-in-vaccination_microchip-clinic.jpg
ORGANIZER;CN="Napa Humane Spay/Neuter Clinic":MAILTO:clinicinfo@napahumane.org
END:VEVENT
BEGIN:VEVENT
DTSTART;TZID=America/Los_Angeles:20260911T093000
DTEND;TZID=America/Los_Angeles:20260911T123000
DTSTAMP:20260420T131539
CREATED:20260123T011543Z
LAST-MODIFIED:20260123T011543Z
UID:5318-1789119000-1789129800@napacart.org
SUMMARY:Napa Humane Drop-In Vaccination/Microchip Clinic
DESCRIPTION:Every Friday from 9:30 AM – 12:30 PM \nNapa Humane Spay/Neuter Clinic holds a drop-in vaccination/microchip clinic every Friday for Napa County residents only. Proof of Napa County residency is required. No appointment necessary.
URL:https://napacart.org/event/napa-humane-drop-in-vaccination-microchip-clinic-37-2026/
LOCATION:Napa Humane Spay/Neuter Clinic\, 3265 California Boulevard\, Napa\, CA\, 94558
CATEGORIES:Community Events
ATTACH;FMTTYPE=image/jpeg:https://napacart.org/wp-content/uploads/2024/05/drop-in-vaccination_microchip-clinic.jpg
ORGANIZER;CN="Napa Humane Spay/Neuter Clinic":MAILTO:clinicinfo@napahumane.org
END:VEVENT
BEGIN:VEVENT
DTSTART;TZID=America/Los_Angeles:20260918T093000
DTEND;TZID=America/Los_Angeles:20260918T123000
DTSTAMP:20260420T131539
CREATED:20260123T011639Z
LAST-MODIFIED:20260123T011639Z
UID:5320-1789723800-1789734600@napacart.org
SUMMARY:Napa Humane Drop-In Vaccination/Microchip Clinic
DESCRIPTION:Every Friday from 9:30 AM – 12:30 PM \nNapa Humane Spay/Neuter Clinic holds a drop-in vaccination/microchip clinic every Friday for Napa County residents only. Proof of Napa County residency is required. No appointment necessary.
URL:https://napacart.org/event/napa-humane-drop-in-vaccination-microchip-clinic-38-2026/
LOCATION:Napa Humane Spay/Neuter Clinic\, 3265 California Boulevard\, Napa\, CA\, 94558
CATEGORIES:Community Events
ATTACH;FMTTYPE=image/jpeg:https://napacart.org/wp-content/uploads/2024/05/drop-in-vaccination_microchip-clinic.jpg
ORGANIZER;CN="Napa Humane Spay/Neuter Clinic":MAILTO:clinicinfo@napahumane.org
END:VEVENT
BEGIN:VEVENT
DTSTART;TZID=America/Los_Angeles:20260925T093000
DTEND;TZID=America/Los_Angeles:20260925T123000
DTSTAMP:20260420T131539
CREATED:20260123T011742Z
LAST-MODIFIED:20260123T011742Z
UID:5322-1790328600-1790339400@napacart.org
SUMMARY:Napa Humane Drop-In Vaccination/Microchip Clinic
DESCRIPTION:Every Friday from 9:30 AM – 12:30 PM \nNapa Humane Spay/Neuter Clinic holds a drop-in vaccination/microchip clinic every Friday for Napa County residents only. Proof of Napa County residency is required. No appointment necessary.
URL:https://napacart.org/event/napa-humane-drop-in-vaccination-microchip-clinic-39-2026/
LOCATION:Napa Humane Spay/Neuter Clinic\, 3265 California Boulevard\, Napa\, CA\, 94558
CATEGORIES:Community Events
ATTACH;FMTTYPE=image/jpeg:https://napacart.org/wp-content/uploads/2024/05/drop-in-vaccination_microchip-clinic.jpg
ORGANIZER;CN="Napa Humane Spay/Neuter Clinic":MAILTO:clinicinfo@napahumane.org
END:VEVENT
BEGIN:VEVENT
DTSTART;TZID=America/Los_Angeles:20261002T093000
DTEND;TZID=America/Los_Angeles:20261002T123000
DTSTAMP:20260420T131539
CREATED:20260124T003328Z
LAST-MODIFIED:20260124T003328Z
UID:5330-1790933400-1790944200@napacart.org
SUMMARY:Napa Humane Drop-In Vaccination/Microchip Clinic
DESCRIPTION:Every Friday from 9:30 AM – 12:30 PM \nNapa Humane Spay/Neuter Clinic holds a drop-in vaccination/microchip clinic every Friday for Napa County residents only. Proof of Napa County residency is required. No appointment necessary.
URL:https://napacart.org/event/napa-humane-drop-in-vaccination-microchip-clinic-40-2026/
LOCATION:Napa Humane Spay/Neuter Clinic\, 3265 California Boulevard\, Napa\, CA\, 94558
CATEGORIES:Community Events
ATTACH;FMTTYPE=image/jpeg:https://napacart.org/wp-content/uploads/2024/05/drop-in-vaccination_microchip-clinic.jpg
ORGANIZER;CN="Napa Humane Spay/Neuter Clinic":MAILTO:clinicinfo@napahumane.org
END:VEVENT
BEGIN:VEVENT
DTSTART;TZID=America/Los_Angeles:20261009T093000
DTEND;TZID=America/Los_Angeles:20261009T123000
DTSTAMP:20260420T131539
CREATED:20260124T003426Z
LAST-MODIFIED:20260124T003426Z
UID:5332-1791538200-1791549000@napacart.org
SUMMARY:Napa Humane Drop-In Vaccination/Microchip Clinic
DESCRIPTION:Every Friday from 9:30 AM – 12:30 PM \nNapa Humane Spay/Neuter Clinic holds a drop-in vaccination/microchip clinic every Friday for Napa County residents only. Proof of Napa County residency is required. No appointment necessary.
URL:https://napacart.org/event/napa-humane-drop-in-vaccination-microchip-clinic-41-2026/
LOCATION:Napa Humane Spay/Neuter Clinic\, 3265 California Boulevard\, Napa\, CA\, 94558
CATEGORIES:Community Events
ATTACH;FMTTYPE=image/jpeg:https://napacart.org/wp-content/uploads/2024/05/drop-in-vaccination_microchip-clinic.jpg
ORGANIZER;CN="Napa Humane Spay/Neuter Clinic":MAILTO:clinicinfo@napahumane.org
END:VEVENT
BEGIN:VEVENT
DTSTART;TZID=America/Los_Angeles:20261016T093000
DTEND;TZID=America/Los_Angeles:20261016T123000
DTSTAMP:20260420T131539
CREATED:20260124T003525Z
LAST-MODIFIED:20260124T003525Z
UID:5334-1792143000-1792153800@napacart.org
SUMMARY:Napa Humane Drop-In Vaccination/Microchip Clinic
DESCRIPTION:Every Friday from 9:30 AM – 12:30 PM \nNapa Humane Spay/Neuter Clinic holds a drop-in vaccination/microchip clinic every Friday for Napa County residents only. Proof of Napa County residency is required. No appointment necessary.
URL:https://napacart.org/event/napa-humane-drop-in-vaccination-microchip-clinic-42-2026/
LOCATION:Napa Humane Spay/Neuter Clinic\, 3265 California Boulevard\, Napa\, CA\, 94558
CATEGORIES:Community Events
ATTACH;FMTTYPE=image/jpeg:https://napacart.org/wp-content/uploads/2024/05/drop-in-vaccination_microchip-clinic.jpg
ORGANIZER;CN="Napa Humane Spay/Neuter Clinic":MAILTO:clinicinfo@napahumane.org
END:VEVENT
BEGIN:VEVENT
DTSTART;TZID=America/Los_Angeles:20261023T093000
DTEND;TZID=America/Los_Angeles:20261023T123000
DTSTAMP:20260420T131539
CREATED:20260124T003730Z
LAST-MODIFIED:20260124T003730Z
UID:5336-1792747800-1792758600@napacart.org
SUMMARY:Napa Humane Drop-In Vaccination/Microchip Clinic
DESCRIPTION:Every Friday from 9:30 AM – 12:30 PM \nNapa Humane Spay/Neuter Clinic holds a drop-in vaccination/microchip clinic every Friday for Napa County residents only. Proof of Napa County residency is required. No appointment necessary.
URL:https://napacart.org/event/napa-humane-drop-in-vaccination-microchip-clinic-43-2026/
LOCATION:Napa Humane Spay/Neuter Clinic\, 3265 California Boulevard\, Napa\, CA\, 94558
CATEGORIES:Community Events
ATTACH;FMTTYPE=image/jpeg:https://napacart.org/wp-content/uploads/2024/05/drop-in-vaccination_microchip-clinic.jpg
ORGANIZER;CN="Napa Humane Spay/Neuter Clinic":MAILTO:clinicinfo@napahumane.org
END:VEVENT
BEGIN:VEVENT
DTSTART;TZID=America/Los_Angeles:20261030T093000
DTEND;TZID=America/Los_Angeles:20261030T123000
DTSTAMP:20260420T131539
CREATED:20260124T003816Z
LAST-MODIFIED:20260124T003831Z
UID:5338-1793352600-1793363400@napacart.org
SUMMARY:Napa Humane Drop-In Vaccination/Microchip Clinic
DESCRIPTION:Every Friday from 9:30 AM – 12:30 PM \nNapa Humane Spay/Neuter Clinic holds a drop-in vaccination/microchip clinic every Friday for Napa County residents only. Proof of Napa County residency is required. No appointment necessary.
URL:https://napacart.org/event/napa-humane-drop-in-vaccination-microchip-clinic-44-2026/
LOCATION:Napa Humane Spay/Neuter Clinic\, 3265 California Boulevard\, Napa\, CA\, 94558
CATEGORIES:Community Events
ATTACH;FMTTYPE=image/jpeg:https://napacart.org/wp-content/uploads/2024/05/drop-in-vaccination_microchip-clinic.jpg
ORGANIZER;CN="Napa Humane Spay/Neuter Clinic":MAILTO:clinicinfo@napahumane.org
END:VEVENT
BEGIN:VEVENT
DTSTART;TZID=America/Los_Angeles:20261106T093000
DTEND;TZID=America/Los_Angeles:20261106T123000
DTSTAMP:20260420T131539
CREATED:20260127T231349Z
LAST-MODIFIED:20260127T231349Z
UID:5341-1793957400-1793968200@napacart.org
SUMMARY:Napa Humane Drop-In Vaccination/Microchip Clinic
DESCRIPTION:Every Friday from 9:30 AM – 12:30 PM \nNapa Humane Spay/Neuter Clinic holds a drop-in vaccination/microchip clinic every Friday for Napa County residents only. Proof of Napa County residency is required. No appointment necessary.
URL:https://napacart.org/event/napa-humane-drop-in-vaccination-microchip-clinic-45-2026/
LOCATION:Napa Humane Spay/Neuter Clinic\, 3265 California Boulevard\, Napa\, CA\, 94558
CATEGORIES:Community Events
ATTACH;FMTTYPE=image/jpeg:https://napacart.org/wp-content/uploads/2024/05/drop-in-vaccination_microchip-clinic.jpg
ORGANIZER;CN="Napa Humane Spay/Neuter Clinic":MAILTO:clinicinfo@napahumane.org
END:VEVENT
BEGIN:VEVENT
DTSTART;TZID=America/Los_Angeles:20261113T093000
DTEND;TZID=America/Los_Angeles:20261113T123000
DTSTAMP:20260420T131539
CREATED:20260127T231509Z
LAST-MODIFIED:20260127T231509Z
UID:5343-1794562200-1794573000@napacart.org
SUMMARY:Napa Humane Drop-In Vaccination/Microchip Clinic
DESCRIPTION:Every Friday from 9:30 AM – 12:30 PM \nNapa Humane Spay/Neuter Clinic holds a drop-in vaccination/microchip clinic every Friday for Napa County residents only. Proof of Napa County residency is required. No appointment necessary.
URL:https://napacart.org/event/napa-humane-drop-in-vaccination-microchip-clinic-46-2026/
LOCATION:Napa Humane Spay/Neuter Clinic\, 3265 California Boulevard\, Napa\, CA\, 94558
CATEGORIES:Community Events
ATTACH;FMTTYPE=image/jpeg:https://napacart.org/wp-content/uploads/2024/05/drop-in-vaccination_microchip-clinic.jpg
ORGANIZER;CN="Napa Humane Spay/Neuter Clinic":MAILTO:clinicinfo@napahumane.org
END:VEVENT
BEGIN:VEVENT
DTSTART;TZID=America/Los_Angeles:20261120T093000
DTEND;TZID=America/Los_Angeles:20261120T123000
DTSTAMP:20260420T131539
CREATED:20260127T231609Z
LAST-MODIFIED:20260127T231609Z
UID:5345-1795167000-1795177800@napacart.org
SUMMARY:Napa Humane Drop-In Vaccination/Microchip Clinic
DESCRIPTION:Every Friday from 9:30 AM – 12:30 PM \nNapa Humane Spay/Neuter Clinic holds a drop-in vaccination/microchip clinic every Friday for Napa County residents only. Proof of Napa County residency is required. No appointment necessary.
URL:https://napacart.org/event/napa-humane-drop-in-vaccination-microchip-clinic-47-2026/
LOCATION:Napa Humane Spay/Neuter Clinic\, 3265 California Boulevard\, Napa\, CA\, 94558
CATEGORIES:Community Events
ATTACH;FMTTYPE=image/jpeg:https://napacart.org/wp-content/uploads/2024/05/drop-in-vaccination_microchip-clinic.jpg
ORGANIZER;CN="Napa Humane Spay/Neuter Clinic":MAILTO:clinicinfo@napahumane.org
END:VEVENT
BEGIN:VEVENT
DTSTART;TZID=America/Los_Angeles:20261127T093000
DTEND;TZID=America/Los_Angeles:20261127T123000
DTSTAMP:20260420T131539
CREATED:20260127T231658Z
LAST-MODIFIED:20260127T231658Z
UID:5347-1795771800-1795782600@napacart.org
SUMMARY:Napa Humane Drop-In Vaccination/Microchip Clinic
DESCRIPTION:Every Friday from 9:30 AM – 12:30 PM \nNapa Humane Spay/Neuter Clinic holds a drop-in vaccination/microchip clinic every Friday for Napa County residents only. Proof of Napa County residency is required. No appointment necessary.
URL:https://napacart.org/event/napa-humane-drop-in-vaccination-microchip-clinic-48-2026/
LOCATION:Napa Humane Spay/Neuter Clinic\, 3265 California Boulevard\, Napa\, CA\, 94558
CATEGORIES:Community Events
ATTACH;FMTTYPE=image/jpeg:https://napacart.org/wp-content/uploads/2024/05/drop-in-vaccination_microchip-clinic.jpg
ORGANIZER;CN="Napa Humane Spay/Neuter Clinic":MAILTO:clinicinfo@napahumane.org
END:VEVENT
BEGIN:VEVENT
DTSTART;TZID=America/Los_Angeles:20261128T100000
DTEND;TZID=America/Los_Angeles:20261128T130000
DTSTAMP:20260420T131539
CREATED:20260127T232151Z
LAST-MODIFIED:20260127T234518Z
UID:5351-1795860000-1795870800@napacart.org
SUMMARY:Equine shelter panels take down
DESCRIPTION:This activity is the final step of shutting down the large animal shelter for the season. We will tidy up the pasture\, disassemble panels from pens\, prepare panels for storage\, and clean/store remaining gear into the storage container. \nPlease come dressed for the weather and for field work in CART gear. Bring\, gloves\, hats\, sunscreen\, boots\, water bottles\, and any other necessities. Consider this your workout for the day! Once we finish up\, we’ll gather for a casual potluck. Bring your favorite finger food\, dessert\, or beverage to share.  \nSign up in your MyImpact profile: myimpactpage.com\n(You’ll see the location details displayed in your profile.)
URL:https://napacart.org/event/equine-shelter-panels-take-down/
CATEGORIES:Volunteer Training
ATTACH;FMTTYPE=image/jpeg:https://napacart.org/wp-content/uploads/2026/01/shelter-nvha.jpg
END:VEVENT
BEGIN:VEVENT
DTSTART;TZID=America/Los_Angeles:20261204T093000
DTEND;TZID=America/Los_Angeles:20261204T123000
DTSTAMP:20260420T131539
CREATED:20260220T225357Z
LAST-MODIFIED:20260220T225446Z
UID:5357-1796376600-1796387400@napacart.org
SUMMARY:Napa Humane Drop-In Vaccination/Microchip Clinic
DESCRIPTION:Every Friday from 9:30 AM – 12:30 PM \nNapa Humane Spay/Neuter Clinic holds a drop-in vaccination/microchip clinic every Friday for Napa County residents only. Proof of Napa County residency is required. No appointment necessary.
URL:https://napacart.org/event/napa-humane-drop-in-vaccination-microchip-clinic-49-2026/
LOCATION:Napa Humane Spay/Neuter Clinic\, 3265 California Boulevard\, Napa\, CA\, 94558
CATEGORIES:Community Events
ATTACH;FMTTYPE=image/jpeg:https://napacart.org/wp-content/uploads/2024/05/drop-in-vaccination_microchip-clinic.jpg
ORGANIZER;CN="Napa Humane Spay/Neuter Clinic":MAILTO:clinicinfo@napahumane.org
END:VEVENT
BEGIN:VEVENT
DTSTART;TZID=America/Los_Angeles:20261211T093000
DTEND;TZID=America/Los_Angeles:20261211T123000
DTSTAMP:20260420T131539
CREATED:20260220T225612Z
LAST-MODIFIED:20260220T225612Z
UID:5359-1796981400-1796992200@napacart.org
SUMMARY:Napa Humane Drop-In Vaccination/Microchip Clinic
DESCRIPTION:Every Friday from 9:30 AM – 12:30 PM \nNapa Humane Spay/Neuter Clinic holds a drop-in vaccination/microchip clinic every Friday for Napa County residents only. Proof of Napa County residency is required. No appointment necessary.
URL:https://napacart.org/event/napa-humane-drop-in-vaccination-microchip-clinic-50-2026/
LOCATION:Napa Humane Spay/Neuter Clinic\, 3265 California Boulevard\, Napa\, CA\, 94558
CATEGORIES:Community Events
ATTACH;FMTTYPE=image/jpeg:https://napacart.org/wp-content/uploads/2024/05/drop-in-vaccination_microchip-clinic.jpg
ORGANIZER;CN="Napa Humane Spay/Neuter Clinic":MAILTO:clinicinfo@napahumane.org
END:VEVENT
BEGIN:VEVENT
DTSTART;TZID=America/Los_Angeles:20261212T120000
DTEND;TZID=America/Los_Angeles:20261212T140000
DTSTAMP:20260420T131539
CREATED:20260220T224751Z
LAST-MODIFIED:20260220T224857Z
UID:5355-1797076800-1797084000@napacart.org
SUMMARY:Volunteer Appreciation Luncheon
DESCRIPTION:Napa CART & Napa County CERT’s Annual Volunteer Appreciation Luncheon \nRSVP in your MyImpact profile: myimpactpage.com or email info@napacart.org for more information.
URL:https://napacart.org/event/volunteer-appreciation-luncheon-121226/
CATEGORIES:Volunteer Event,Volunteer Training
ATTACH;FMTTYPE=image/jpeg:https://napacart.org/wp-content/uploads/2025/02/volunteer-appreciation.jpg
END:VEVENT
BEGIN:VEVENT
DTSTART;TZID=America/Los_Angeles:20261218T093000
DTEND;TZID=America/Los_Angeles:20261218T123000
DTSTAMP:20260420T131539
CREATED:20260220T225733Z
LAST-MODIFIED:20260220T225733Z
UID:5361-1797586200-1797597000@napacart.org
SUMMARY:Napa Humane Drop-In Vaccination/Microchip Clinic
DESCRIPTION:Every Friday from 9:30 AM – 12:30 PM \nNapa Humane Spay/Neuter Clinic holds a drop-in vaccination/microchip clinic every Friday for Napa County residents only. Proof of Napa County residency is required. No appointment necessary.
URL:https://napacart.org/event/napa-humane-drop-in-vaccination-microchip-clinic-51-2026/
LOCATION:Napa Humane Spay/Neuter Clinic\, 3265 California Boulevard\, Napa\, CA\, 94558
CATEGORIES:Community Events
ATTACH;FMTTYPE=image/jpeg:https://napacart.org/wp-content/uploads/2024/05/drop-in-vaccination_microchip-clinic.jpg
ORGANIZER;CN="Napa Humane Spay/Neuter Clinic":MAILTO:clinicinfo@napahumane.org
END:VEVENT
BEGIN:VEVENT
DTSTART;TZID=America/Los_Angeles:20270108T093000
DTEND;TZID=America/Los_Angeles:20270108T123000
DTSTAMP:20260420T131539
CREATED:20260220T230637Z
LAST-MODIFIED:20260220T230637Z
UID:5363-1799400600-1799411400@napacart.org
SUMMARY:Napa Humane Drop-In Vaccination/Microchip Clinic
DESCRIPTION:Every Friday from 9:30 AM – 12:30 PM \nNapa Humane Spay/Neuter Clinic holds a drop-in vaccination/microchip clinic every Friday for Napa County residents only. Proof of Napa County residency is required. No appointment necessary.
URL:https://napacart.org/event/napa-humane-drop-in-vaccination-microchip-clinic-2-2027/
LOCATION:Napa Humane Spay/Neuter Clinic\, 3265 California Boulevard\, Napa\, CA\, 94558
CATEGORIES:Community Events
ATTACH;FMTTYPE=image/jpeg:https://napacart.org/wp-content/uploads/2024/05/drop-in-vaccination_microchip-clinic.jpg
ORGANIZER;CN="Napa Humane Spay/Neuter Clinic":MAILTO:clinicinfo@napahumane.org
END:VEVENT
BEGIN:VEVENT
DTSTART;TZID=America/Los_Angeles:20270115T093000
DTEND;TZID=America/Los_Angeles:20270115T123000
DTSTAMP:20260420T131539
CREATED:20260220T230906Z
LAST-MODIFIED:20260220T230906Z
UID:5365-1800005400-1800016200@napacart.org
SUMMARY:Napa Humane Drop-In Vaccination/Microchip Clinic
DESCRIPTION:Every Friday from 9:30 AM – 12:30 PM \nNapa Humane Spay/Neuter Clinic holds a drop-in vaccination/microchip clinic every Friday for Napa County residents only. Proof of Napa County residency is required. No appointment necessary.
URL:https://napacart.org/event/napa-humane-drop-in-vaccination-microchip-clinic-3-2027/
CATEGORIES:Community Events
ATTACH;FMTTYPE=image/jpeg:https://napacart.org/wp-content/uploads/2024/05/drop-in-vaccination_microchip-clinic.jpg
END:VEVENT
BEGIN:VEVENT
DTSTART;TZID=America/Los_Angeles:20270122T080000
DTEND;TZID=America/Los_Angeles:20270122T170000
DTSTAMP:20260420T131539
CREATED:20260220T231006Z
LAST-MODIFIED:20260220T231006Z
UID:5367-1800604800-1800637200@napacart.org
SUMMARY:Napa Humane Drop-In Vaccination/Microchip Clinic
DESCRIPTION:Every Friday from 9:30 AM – 12:30 PM \nNapa Humane Spay/Neuter Clinic holds a drop-in vaccination/microchip clinic every Friday for Napa County residents only. Proof of Napa County residency is required. No appointment necessary.
URL:https://napacart.org/event/napa-humane-drop-in-vaccination-microchip-clinic-4-2027/
LOCATION:Napa Humane Spay/Neuter Clinic\, 3265 California Boulevard\, Napa\, CA\, 94558
CATEGORIES:Community Events
ATTACH;FMTTYPE=image/jpeg:https://napacart.org/wp-content/uploads/2024/05/drop-in-vaccination_microchip-clinic.jpg
ORGANIZER;CN="Napa Humane Spay/Neuter Clinic":MAILTO:clinicinfo@napahumane.org
END:VEVENT
BEGIN:VEVENT
DTSTART;TZID=America/Los_Angeles:20270129T093000
DTEND;TZID=America/Los_Angeles:20270129T123000
DTSTAMP:20260420T131539
CREATED:20260220T231203Z
LAST-MODIFIED:20260220T231203Z
UID:5369-1801215000-1801225800@napacart.org
SUMMARY:Napa Humane Drop-In Vaccination/Microchip Clinic
DESCRIPTION:Every Friday from 9:30 AM – 12:30 PM \nNapa Humane Spay/Neuter Clinic holds a drop-in vaccination/microchip clinic every Friday for Napa County residents only. Proof of Napa County residency is required. No appointment necessary.
URL:https://napacart.org/event/napa-humane-drop-in-vaccination-microchip-clinic-5-2027/
LOCATION:Napa Humane Spay/Neuter Clinic\, 3265 California Boulevard\, Napa\, CA\, 94558
CATEGORIES:Community Events
ATTACH;FMTTYPE=image/jpeg:https://napacart.org/wp-content/uploads/2024/05/drop-in-vaccination_microchip-clinic.jpg
ORGANIZER;CN="Napa Humane Spay/Neuter Clinic":MAILTO:clinicinfo@napahumane.org
END:VEVENT
BEGIN:VEVENT
DTSTART;TZID=America/Los_Angeles:20270205T093000
DTEND;TZID=America/Los_Angeles:20270205T123000
DTSTAMP:20260420T131539
CREATED:20260403T200837Z
LAST-MODIFIED:20260403T200946Z
UID:5387-1801819800-1801830600@napacart.org
SUMMARY:Napa Humane Drop-In Vaccination/Microchip Clinic
DESCRIPTION:Every Friday from 9:30 AM – 12:30 PM \nNapa Humane Spay/Neuter Clinic holds a drop-in vaccination/microchip clinic every Friday for Napa County residents only. Proof of Napa County residency is required. No appointment necessary.
URL:https://napacart.org/event/napa-humane-drop-in-vaccination-microchip-clinic-6-2027/
LOCATION:Napa Humane Spay/Neuter Clinic\, 3265 California Boulevard\, Napa\, CA\, 94558
CATEGORIES:Community Events
ATTACH;FMTTYPE=image/jpeg:https://napacart.org/wp-content/uploads/2024/05/drop-in-vaccination_microchip-clinic.jpg
ORGANIZER;CN="Napa Humane Spay/Neuter Clinic":MAILTO:clinicinfo@napahumane.org
END:VEVENT
BEGIN:VEVENT
DTSTART;TZID=America/Los_Angeles:20270212T093000
DTEND;TZID=America/Los_Angeles:20270212T123000
DTSTAMP:20260420T131539
CREATED:20260403T200936Z
LAST-MODIFIED:20260403T200936Z
UID:5389-1802424600-1802435400@napacart.org
SUMMARY:Napa Humane Drop-In Vaccination/Microchip Clinic
DESCRIPTION:Every Friday from 9:30 AM – 12:30 PM \nNapa Humane Spay/Neuter Clinic holds a drop-in vaccination/microchip clinic every Friday for Napa County residents only. Proof of Napa County residency is required. No appointment necessary.
URL:https://napacart.org/event/napa-humane-drop-in-vaccination-microchip-clinic-7-2027/
LOCATION:Napa Humane Spay/Neuter Clinic\, 3265 California Boulevard\, Napa\, CA\, 94558
CATEGORIES:Community Events
ATTACH;FMTTYPE=image/jpeg:https://napacart.org/wp-content/uploads/2024/05/drop-in-vaccination_microchip-clinic.jpg
ORGANIZER;CN="Napa Humane Spay/Neuter Clinic":MAILTO:clinicinfo@napahumane.org
END:VEVENT
BEGIN:VEVENT
DTSTART;TZID=America/Los_Angeles:20270219T093000
DTEND;TZID=America/Los_Angeles:20270219T123000
DTSTAMP:20260420T131539
CREATED:20260403T201048Z
LAST-MODIFIED:20260403T201048Z
UID:5391-1803029400-1803040200@napacart.org
SUMMARY:Napa Humane Drop-In Vaccination/Microchip Clinic
DESCRIPTION:Every Friday from 9:30 AM – 12:30 PM \nNapa Humane Spay/Neuter Clinic holds a drop-in vaccination/microchip clinic every Friday for Napa County residents only. Proof of Napa County residency is required. No appointment necessary.
URL:https://napacart.org/event/napa-humane-drop-in-vaccination-microchip-clinic-8-2027/
LOCATION:Napa Humane Spay/Neuter Clinic\, 3265 California Boulevard\, Napa\, CA\, 94558
CATEGORIES:Community Events
ATTACH;FMTTYPE=image/jpeg:https://napacart.org/wp-content/uploads/2024/05/drop-in-vaccination_microchip-clinic.jpg
ORGANIZER;CN="Napa Humane Spay/Neuter Clinic":MAILTO:clinicinfo@napahumane.org
END:VEVENT
BEGIN:VEVENT
DTSTART;TZID=America/Los_Angeles:20270226T093000
DTEND;TZID=America/Los_Angeles:20270226T123000
DTSTAMP:20260420T131539
CREATED:20260403T201208Z
LAST-MODIFIED:20260403T201208Z
UID:5393-1803634200-1803645000@napacart.org
SUMMARY:Napa Humane Drop-In Vaccination/Microchip Clinic
DESCRIPTION:Every Friday from 9:30 AM – 12:30 PM \nNapa Humane Spay/Neuter Clinic holds a drop-in vaccination/microchip clinic every Friday for Napa County residents only. Proof of Napa County residency is required. No appointment necessary.
URL:https://napacart.org/event/napa-humane-drop-in-vaccination-microchip-clinic-9-2027/
LOCATION:Napa Humane Spay/Neuter Clinic\, 3265 California Boulevard\, Napa\, CA\, 94558
CATEGORIES:Community Events
ATTACH;FMTTYPE=image/jpeg:https://napacart.org/wp-content/uploads/2024/05/drop-in-vaccination_microchip-clinic.jpg
ORGANIZER;CN="Napa Humane Spay/Neuter Clinic":MAILTO:clinicinfo@napahumane.org
END:VEVENT
END:VCALENDAR