BEGIN:VCALENDAR
VERSION:2.0
PRODID:-//Napa CART - ECPv6.15.20//NONSGML v1.0//EN
CALSCALE:GREGORIAN
METHOD:PUBLISH
X-WR-CALNAME:Napa CART
X-ORIGINAL-URL:https://napacart.org
X-WR-CALDESC:Events for Napa CART
REFRESH-INTERVAL;VALUE=DURATION:PT1H
X-Robots-Tag:noindex
X-PUBLISHED-TTL:PT1H
BEGIN:VTIMEZONE
TZID:America/Los_Angeles
BEGIN:DAYLIGHT
TZOFFSETFROM:-0800
TZOFFSETTO:-0700
TZNAME:PDT
DTSTART:20200308T100000
END:DAYLIGHT
BEGIN:STANDARD
TZOFFSETFROM:-0700
TZOFFSETTO:-0800
TZNAME:PST
DTSTART:20201101T090000
END:STANDARD
BEGIN:DAYLIGHT
TZOFFSETFROM:-0800
TZOFFSETTO:-0700
TZNAME:PDT
DTSTART:20210314T100000
END:DAYLIGHT
BEGIN:STANDARD
TZOFFSETFROM:-0700
TZOFFSETTO:-0800
TZNAME:PST
DTSTART:20211107T090000
END:STANDARD
BEGIN:DAYLIGHT
TZOFFSETFROM:-0800
TZOFFSETTO:-0700
TZNAME:PDT
DTSTART:20220313T100000
END:DAYLIGHT
BEGIN:STANDARD
TZOFFSETFROM:-0700
TZOFFSETTO:-0800
TZNAME:PST
DTSTART:20221106T090000
END:STANDARD
BEGIN:DAYLIGHT
TZOFFSETFROM:-0800
TZOFFSETTO:-0700
TZNAME:PDT
DTSTART:20230312T100000
END:DAYLIGHT
BEGIN:STANDARD
TZOFFSETFROM:-0700
TZOFFSETTO:-0800
TZNAME:PST
DTSTART:20231105T090000
END:STANDARD
BEGIN:DAYLIGHT
TZOFFSETFROM:-0800
TZOFFSETTO:-0700
TZNAME:PDT
DTSTART:20240310T100000
END:DAYLIGHT
BEGIN:STANDARD
TZOFFSETFROM:-0700
TZOFFSETTO:-0800
TZNAME:PST
DTSTART:20241103T090000
END:STANDARD
END:VTIMEZONE
BEGIN:VEVENT
DTSTART;TZID=America/Los_Angeles:20231126T100000
DTEND;TZID=America/Los_Angeles:20231126T123000
DTSTAMP:20260420T073724
CREATED:20201224T183557Z
LAST-MODIFIED:20230914T231202Z
UID:3647-1700992800-1701001800@napacart.org
SUMMARY:Take Down and Store Panels (VBEC)
DESCRIPTION:Breakdown panels at the VBEC equine shelter and store them for the off-season. \nRSVP through BetterImpact or by emailing info@napacart.org.
URL:https://napacart.org/event/panel-set-up-at-livestock-shelters/
CATEGORIES:Volunteer Training
END:VEVENT
BEGIN:VEVENT
DTSTART;TZID=America/Los_Angeles:20231125T100000
DTEND;TZID=America/Los_Angeles:20231125T123000
DTSTAMP:20260420T073724
CREATED:20201227T170155Z
LAST-MODIFIED:20230914T231304Z
UID:3677-1700906400-1700915400@napacart.org
SUMMARY:Take Down and Store Panels (NVHA)
DESCRIPTION:Breakdown panels at the NVHA livestock shelter and store them for the off-season. \nRSVP through BetterImpact or by emailing info@napacart.org.
URL:https://napacart.org/event/take-down-and-store-panels/
LOCATION:Napa Valley Horsemen’s Association\, 1200 Foster Rd\, Napa\, 94558\, United States
CATEGORIES:Volunteer Training
END:VEVENT
BEGIN:VEVENT
DTSTART;TZID=America/Los_Angeles:20231021T083000
DTEND;TZID=America/Los_Angeles:20231021T140000
DTSTAMP:20260420T073724
CREATED:20231007T001839Z
LAST-MODIFIED:20231007T001839Z
UID:4489-1697877000-1697896800@napacart.org
SUMMARY:Annual CERT Exercise 2023
DESCRIPTION:To participate in the exercise\, you must have completed a CERT basic course. \nThe exercise schedule is as follows: \n0830 – 0930 Exercise Registration \n0900 – 0930 Exercise Briefing \n0930 – 1200 Exercise Play – Start \n1200 Exercise Play – End \n1200 – 1300 Exercise Debrief/Lunch \n1300 – 1400 Breakdown/Clean-up \nAt a minimum\, bring your CERT helmet\, vest\, eye protection\, and work gloves. \nWear sturdy closed-toed shoes\, long pants and a long-sleeved shirt – dress in layers! Check the weather forecast so that you are ready to operate in the conditions of the day. \nIf you would like to participate\, please email your name to info@americancanyoncert.org \nClick here for the handout.
URL:https://napacart.org/event/annual-cert-exercise-2023/
LOCATION:American Canyon Fire Protection District Station #2\, 225 James Road\, American Canyon\, CA\, 94503
CATEGORIES:Volunteer Training
ATTACH;FMTTYPE=image/jpeg:https://napacart.org/wp-content/uploads/2023/10/accert.jpg
ORGANIZER;CN="American Canyon Fire Protection District Station #2":MAILTO:info@americancanyoncert.org
END:VEVENT
BEGIN:VEVENT
DTSTART;TZID=America/Los_Angeles:20231012T150000
DTEND;TZID=America/Los_Angeles:20231012T190000
DTSTAMP:20260420T073724
CREATED:20230925T223806Z
LAST-MODIFIED:20231006T004114Z
UID:4481-1697122800-1697137200@napacart.org
SUMMARY:Trailer Loading Clinic
DESCRIPTION:Trailer Loading Clinic with Jerry Tindell \nSafe and Effective Loading \n\nHorsemanship\nBody Language\nSafety\nIndividual and Team Loading\n\nRSVP through BetterImpact or by emailing info@napacart.org. \nClick here for the event flyer pdf.
URL:https://napacart.org/event/trailer-loading-clinic/
CATEGORIES:Volunteer Training
ATTACH;FMTTYPE=image/jpeg:https://napacart.org/wp-content/uploads/2023/09/Trailer-Loading-Clinic-101223.jpg
END:VEVENT
BEGIN:VEVENT
DTSTART;TZID=America/Los_Angeles:20230917T080000
DTEND;TZID=America/Los_Angeles:20230917T120000
DTSTAMP:20260420T073724
CREATED:20230818T220804Z
LAST-MODIFIED:20230818T220804Z
UID:4426-1694937600-1694952000@napacart.org
SUMMARY:Community Emergency Response Training Day Three
DESCRIPTION:Would you know what to do if we had a major earthquake right now? Would you know how to provide first aid to a loved one\, rescue someone\, or get drinking\nwater? Are you ready to have your life disrupted without help for 24 to 72 hours? \nAs recent disasters and emergencies have demonstrated\, there will not be enough emergency responders to help everyone promptly. You must be able to take care of yourself and your family. As a community\, we must rely on each other for our immediate lifesaving and life-sustaining needs. Napa Valley communities may not have enough emergency help for several days! \nCommunity Emergency Response Training is a nationally recognized emergency training course that teaches essential emergency response skills. Taking and completing the CERT course will give you the skills and confidence necessary to help yourself\, your family\, and your community during a disaster. \nClass 105 will be offered in American Canyon. The training is available free of charge to anyone living in Napa County. To complete the course\, you must\nattend all three sessions.  \nBlock 1 – Emergency Preparedness  Saturday\, September 9\, 2023  8 am – 5 pm\nBlock 2 – Hazard Awareness\nBlock 3 – Disaster First Aid  Saturday\, September 16\, 2023  8 am – 5 pm\nBlock 4 – Emergency Management\nBlock 5 – Final Exercise  Sunday\, September 17\, 2023  8 am – 12 pm \nFor more information or to enroll\, please email the following information to  napacert@aol.com\n–  Complete Name\n–  Contact Number\n–  Complete Address \nClick or press for a PDF of the training flyer to share (opens in a new tab or window)
URL:https://napacart.org/event/cert-class-105-091723/
CATEGORIES:Community Events
ATTACH;FMTTYPE=image/png:https://napacart.org/wp-content/uploads/2023/08/Class-105-Sep-Am-Can.png
END:VEVENT
BEGIN:VEVENT
DTSTART;TZID=America/Los_Angeles:20230917T080000
DTEND;TZID=America/Los_Angeles:20230917T120000
DTSTAMP:20260420T073724
CREATED:20230803T011708Z
LAST-MODIFIED:20230803T015951Z
UID:4293-1694937600-1694952000@napacart.org
SUMMARY:Napa County CERT Basic Training Day Three
DESCRIPTION:(Training open to the general public) \nWeek Two (Day Three)\nSunday\, September 17\, 8 a.m. – 12 p.m.
URL:https://napacart.org/event/napa-county-cert-basic-training-091723/
LOCATION:American Canyon\, CA\, American Canyon\, CA\, United States
CATEGORIES:Volunteer Training
ORGANIZER;CN="Napa County Community Emergency Response Team (Napa CERT)":MAILTO:sandra.hage@countyofnapa.org
END:VEVENT
BEGIN:VEVENT
DTSTART;TZID=America/Los_Angeles:20230916T080000
DTEND;TZID=America/Los_Angeles:20230916T170000
DTSTAMP:20260420T073724
CREATED:20230818T220605Z
LAST-MODIFIED:20230818T220641Z
UID:4422-1694851200-1694883600@napacart.org
SUMMARY:Community Emergency Response Training Day Two
DESCRIPTION:Would you know what to do if we had a major earthquake right now? Would you know how to provide first aid to a loved one\, rescue someone\, or get drinking\nwater? Are you ready to have your life disrupted without help for 24 to 72 hours? \nAs recent disasters and emergencies have demonstrated\, there will not be enough emergency responders to help everyone promptly. You must be able to take care of yourself and your family. As a community\, we must rely on each other for our immediate lifesaving and life-sustaining needs. Napa Valley communities may not have enough emergency help for several days! \nCommunity Emergency Response Training is a nationally recognized emergency training course that teaches essential emergency response skills. Taking and completing the CERT course will give you the skills and confidence necessary to help yourself\, your family\, and your community during a disaster. \nClass 105 will be offered in American Canyon. The training is available free of charge to anyone living in Napa County. To complete the course\, you must\nattend all three sessions.  \nBlock 1 – Emergency Preparedness  Saturday\, September 9\, 2023  8 am – 5 pm\nBlock 2 – Hazard Awareness\nBlock 3 – Disaster First Aid  Saturday\, September 16\, 2023  8 am – 5 pm\nBlock 4 – Emergency Management\nBlock 5 – Final Exercise  Sunday\, September 17\, 2023  8 am – 12 pm \nFor more information or to enroll\, please email the following information to  napacert@aol.com\n–  Complete Name\n–  Contact Number\n–  Complete Address \nClick or press for a PDF of the training flyer to share (opens in a new tab or window)
URL:https://napacart.org/event/cert-class-105-091623/
CATEGORIES:Community Events
ATTACH;FMTTYPE=image/png:https://napacart.org/wp-content/uploads/2023/08/Class-105-Sep-Am-Can.png
END:VEVENT
BEGIN:VEVENT
DTSTART;TZID=America/Los_Angeles:20230916T080000
DTEND;TZID=America/Los_Angeles:20230916T170000
DTSTAMP:20260420T073724
CREATED:20230803T011524Z
LAST-MODIFIED:20230803T015936Z
UID:4291-1694851200-1694883600@napacart.org
SUMMARY:Napa County CERT Basic Training Day Two
DESCRIPTION:(Training open to the general public) \nWeek Two (Day Two)\nSaturday\, September 16\, 8 a.m. – 5 p.m.
URL:https://napacart.org/event/napa-county-cert-basic-training-091623/
LOCATION:American Canyon\, CA\, American Canyon\, CA\, United States
CATEGORIES:Volunteer Training
ORGANIZER;CN="Napa County Community Emergency Response Team (Napa CERT)":MAILTO:sandra.hage@countyofnapa.org
END:VEVENT
BEGIN:VEVENT
DTSTART;TZID=America/Los_Angeles:20230909T160000
DTEND;TZID=America/Los_Angeles:20230909T210000
DTSTAMP:20260420T073724
CREATED:20230803T012910Z
LAST-MODIFIED:20230816T205603Z
UID:4301-1694275200-1694293200@napacart.org
SUMMARY:Harvest of Hope
DESCRIPTION:To benefit Sunrise Horse Rescue\, a California 501(c)(3) non-profit organization\, #42-1746834 \nPlease join us for our annual dinner and auction\, Harvest of Hope! The evening will include: \n\nLive Music during the reception\nHorse Activities for kids of all ages\nSilent & Live Auctions (proxy bids accepted)\nSeated Dinner featuring Napa Valley fine wines\nSpecial Appearances by SHR equine beneficiaries\nAnd more!
URL:https://napacart.org/event/harvest-of-hope/
LOCATION:Blossom Creek Farm\, 3547 CA-128\, Calistoga\, CA\, 94515\, United States
CATEGORIES:Community Events
ATTACH;FMTTYPE=image/jpeg:https://napacart.org/wp-content/uploads/2023/08/harvest-of-hope.jpg
ORGANIZER;CN="Equine Experiences":MAILTO:lindsay@equineexperiences.org
END:VEVENT
BEGIN:VEVENT
DTSTART;TZID=America/Los_Angeles:20230909T080000
DTEND;TZID=America/Los_Angeles:20230909T170000
DTSTAMP:20260420T073724
CREATED:20230818T220255Z
LAST-MODIFIED:20230818T220647Z
UID:4419-1694246400-1694278800@napacart.org
SUMMARY:Community Emergency Response Training Day One
DESCRIPTION:Would you know what to do if we had a major earthquake right now? Would you know how to provide first aid to a loved one\, rescue someone\, or get drinking\nwater? Are you ready to have your life disrupted without help for 24 to 72 hours? \nAs recent disasters and emergencies have demonstrated\, there will not be enough emergency responders to help everyone promptly. You must be able to take care of yourself and your family. As a community\, we must rely on each other for our immediate lifesaving and life-sustaining needs. Napa Valley communities may not have enough emergency help for several days! \nCommunity Emergency Response Training is a nationally recognized emergency training course that teaches essential emergency response skills. Taking and completing the CERT course will give you the skills and confidence necessary to help yourself\, your family\, and your community during a disaster. \nClass 105 will be offered in American Canyon. The training is available free of charge to anyone living in Napa County. To complete the course\, you must\nattend all three sessions.  \nBlock 1 – Emergency Preparedness  Saturday\, September 9\, 2023  8 am – 5 pm\nBlock 2 – Hazard Awareness\nBlock 3 – Disaster First Aid  Saturday\, September 16\, 2023  8 am – 5 pm\nBlock 4 – Emergency Management\nBlock 5 – Final Exercise  Sunday\, September 17\, 2023  8 am – 12 pm \nFor more information or to enroll\, please email the following information to  napacert@aol.com\n–  Complete Name\n–  Contact Number\n–  Complete Address \nClick or press for a PDF of the training flyer to share (opens in a new tab or window)
URL:https://napacart.org/event/cert-class-105-090923/
LOCATION:American Canyon\, CA\, American Canyon\, CA\, United States
CATEGORIES:Community Events
ATTACH;FMTTYPE=image/png:https://napacart.org/wp-content/uploads/2023/08/Class-105-Sep-Am-Can.png
END:VEVENT
BEGIN:VEVENT
DTSTART;TZID=America/Los_Angeles:20230909T080000
DTEND;TZID=America/Los_Angeles:20230909T170000
DTSTAMP:20260420T073724
CREATED:20230803T011234Z
LAST-MODIFIED:20230803T015923Z
UID:4289-1694246400-1694278800@napacart.org
SUMMARY:Napa County CERT Basic Training Day One
DESCRIPTION:(Training open to the general public) \nWeek One (Day One)\nSaturday\, September 9\, 8 a.m. – 5 p.m.
URL:https://napacart.org/event/napa-county-cert-basic-training-090923/
LOCATION:American Canyon\, CA\, American Canyon\, CA\, United States
CATEGORIES:Volunteer Training
ORGANIZER;CN="Napa County Community Emergency Response Team (Napa CERT)":MAILTO:sandra.hage@countyofnapa.org
END:VEVENT
BEGIN:VEVENT
DTSTART;TZID=America/Los_Angeles:20230830T090000
DTEND;TZID=America/Los_Angeles:20230830T170000
DTSTAMP:20260420T073724
CREATED:20230802T230911Z
LAST-MODIFIED:20230803T020211Z
UID:4270-1693386000-1693414800@napacart.org
SUMMARY:Equine Transportation Safety with Driving Skills Course
DESCRIPTION:August 29 or 30\, 2023\n9:00am-5:00pm PST\nHosted By: HALTER Project\nClass Location: Marin-Southeast Sonoma Location TBD \nClick or press to download the registration information PDF (may open in a new tab)
URL:https://napacart.org/event/equine-transportation-safety-with-driving-skills-course-083023/
CATEGORIES:Volunteer Training
END:VEVENT
BEGIN:VEVENT
DTSTART;TZID=America/Los_Angeles:20230829T090000
DTEND;TZID=America/Los_Angeles:20230829T170000
DTSTAMP:20260420T073724
CREATED:20230802T230645Z
LAST-MODIFIED:20230803T020239Z
UID:4268-1693299600-1693328400@napacart.org
SUMMARY:Equine Transportation Safety with Driving Skills Course
DESCRIPTION:August 29 or 30\, 2023\n9:00am-5:00pm PST\nHosted By: HALTER Project\nClass Location: Marin-Southeast Sonoma Location TBD \nClick or press to download the registration information PDF (may open in a new tab)
URL:https://napacart.org/event/equine-transportation-safety-with-driving-skills-course-082923/
CATEGORIES:Volunteer Training
END:VEVENT
BEGIN:VEVENT
DTSTART;VALUE=DATE:20230806
DTEND;VALUE=DATE:20230807
DTSTAMP:20260420T073724
CREATED:20230803T013939Z
LAST-MODIFIED:20230803T014351Z
UID:4306-1691280000-1691366399@napacart.org
SUMMARY:Walk for Animals
DESCRIPTION:A benefit for Napa Humane\, this short walk goes miles and miles for animals!  The Walk will begin and end in Yountville Community Park\, taking Walkers on a tour of the Town of Yountville. \nRegistration and festivities begin at 8:00am\nWalk begins at 9:00am
URL:https://napacart.org/event/walk-for-animals/
CATEGORIES:Community Events
END:VEVENT
BEGIN:VEVENT
DTSTART;TZID=America/Los_Angeles:20230722T123000
DTEND;TZID=America/Los_Angeles:20230722T140000
DTSTAMP:20260420T073724
CREATED:20190123T064107Z
LAST-MODIFIED:20190123T064107Z
UID:3832-1690029000-1690034400@napacart.org
SUMMARY:Animal First Aid & Companion Animal Handling
DESCRIPTION:This course will cover animal evaluation\, basic first aid and companion animal handling in field and shelter. The focus for companion animal handling will be dogs\, cats and rabbits. \nPrerequisite: 2022 or 2023 Napa CART New Volunteer Orientation or Returning Volunteer Annual training \nThis training will be in-person – location details will be provided after you sign up. Please contact training@napacart.org if you have any questions about this training. \nRSVP through BetterImpact or by emailing info@napacart.org.
URL:https://napacart.org/event/safe-animal-handling-and-vitals-3/
LOCATION:TBD
END:VEVENT
BEGIN:VEVENT
DTSTART;TZID=America/Los_Angeles:20230722T090000
DTEND;TZID=America/Los_Angeles:20230722T120000
DTSTAMP:20260420T073724
CREATED:20190123T063845Z
LAST-MODIFIED:20190123T063845Z
UID:3831-1690016400-1690027200@napacart.org
SUMMARY:Animal Search & Rescue (ASAR) Skills - Level 1
DESCRIPTION:Learn all about NapaCART Animal Search and Rescue\, use of County radios\, WhatsApp\, social media protocol\, ASAR roles and jobs\, working in teams\, animal care basics\, staging/command center and field team roles\, setting up and operating the staging center\, check-in procedure\, and much more. \nWe will also practice our livestock (w/equine\, goat\, horse\, pig volunteers) handling to brush up on our hands on and off animal skills. \nPrerequisite: Napa CART New Volunteer Orientation or Returning Volunteer Annual training\, taken within the last 3 years. Please read and complete 2023 ASAR Home Study module on Better Impact. \nThis is an in-person training. Location information will be provided after you sign up. \nRSVP through BetterImpact or by emailing info@napacart.org.
URL:https://napacart.org/event/activation-drill-2/
LOCATION:TBD
END:VEVENT
BEGIN:VEVENT
DTSTART;TZID=America/Los_Angeles:20230624T090000
DTEND;TZID=America/Los_Angeles:20230624T133000
DTSTAMP:20260420T073724
CREATED:20230508T060858Z
LAST-MODIFIED:20230508T060858Z
UID:4036-1687597200-1687613400@napacart.org
SUMMARY:Hotline\, Dispatch and SARTopo (with CERT) Exercise with ASAR Level 2
DESCRIPTION:This training will provide a combined practice deployment exercise with Hotline\, Dispatch\, Communications and SARTopo working together to utilize acquired skills in concert with advanced ASAR teams in the field. \nThis sign up is for the administrative deployment staff (Hotline\, Dispatch\, Communications\, SARTopo) only. Asar staff wishing to participate can sign up using the ASAR Level 2 sign up in BI for the same day/time \nPrerequisite: Napa CART Returning Volunteer Annual Training for 2023. \nHighly Recommended: Hotline\, Dispatch\, Communications or SARTopo training for 2022 or 2023. \nThis is an in-person training. Location information will be provided after you sign up. If you have any questions about this training\, contact training@napacart.org. \nRSVP through BetterImpact or by emailing info@napacart.org.
URL:https://napacart.org/event/hotline-dispatch-and-sartopo-with-cert-exercise-with-asar-level-2/
LOCATION:Napa Valley Horsemen’s Association\, 1200 Foster Rd\, Napa\, 94558\, United States
END:VEVENT
BEGIN:VEVENT
DTSTART;TZID=America/Los_Angeles:20230624T090000
DTEND;TZID=America/Los_Angeles:20230624T133000
DTSTAMP:20260420T073724
CREATED:20201224T181757Z
LAST-MODIFIED:20201224T181757Z
UID:3636-1687597200-1687613400@napacart.org
SUMMARY:Animal Search And Rescue (ASAR) - Level 2 (Experienced and Returning ASAR Volunteers)
DESCRIPTION:This training will provide experienced and returning ASAR volunteers an advanced combined exercise with CERT\, Hotline\, Dispatch\, and Communications. \nPrerequisite: Previous deployment with Napa CART ASAR since 2018. Napa CART Returning Volunteer Annual Training for 2023. \nThis is an in-person training. Location information will be provided after you sign up. If you have any questions about this training\, contact training@napacart.org. \nSign up through BetterImpact or by emailing info@napacart.org.
URL:https://napacart.org/event/animal-search-and-rescue-asar-skills-day-and-fire-tent-deployment/
LOCATION:Napa Valley Horsemen’s Association\, 1200 Foster Rd\, Napa\, 94558\, United States
CATEGORIES:Volunteer Training
END:VEVENT
BEGIN:VEVENT
DTSTART;TZID=America/Los_Angeles:20230430T090000
DTEND;TZID=America/Los_Angeles:20230430T110000
DTSTAMP:20260420T073724
CREATED:20190123T062409Z
LAST-MODIFIED:20190123T062409Z
UID:3827-1682845200-1682852400@napacart.org
SUMMARY:Equine Shelter Panel Set Up
DESCRIPTION:Panel set up at the equine specific shelter. \nRSVP through BetterImpact or by emailing info@napacart.org.
URL:https://napacart.org/event/large-animal-shelter-operations-and-shelter-in-place-2/
CATEGORIES:Volunteer Training
END:VEVENT
BEGIN:VEVENT
DTSTART;TZID=America/Los_Angeles:20230429T123000
DTEND;TZID=America/Los_Angeles:20230429T160000
DTSTAMP:20260420T073724
CREATED:20210505T004201Z
LAST-MODIFIED:20210505T004201Z
UID:3795-1682771400-1682784000@napacart.org
SUMMARY:Companion Animal Shelter
DESCRIPTION:Companion Animal Shelter skills. Review of Intake\, Biosecurity\, and General Disaster Shelter Operations. There will be two shifts\, roughly 12:30pm-2:00pm and 2:30pm to 4:00pm\, with a limited amount of people per shift. \nRSVP through BetterImpact of by emailing info@napacart.org.
URL:https://napacart.org/event/companion-animal-skills-2/
LOCATION:Napa County Animal Shelter\, 942 Hartle Court\, Napa\, CA\, 94559\, United States
CATEGORIES:Volunteer Training
END:VEVENT
BEGIN:VEVENT
DTSTART;TZID=America/Los_Angeles:20230429T090000
DTEND;TZID=America/Los_Angeles:20230429T120000
DTSTAMP:20260420T073724
CREATED:20201227T163829Z
LAST-MODIFIED:20201227T163829Z
UID:3670-1682758800-1682769600@napacart.org
SUMMARY:Livestock Shelter Set Up\, Intake & Biosecurity
DESCRIPTION:Livestock Shelter set up\, review of animal intake procedures and biosecurity protocols. Work gloves recommended for panel set up. \nRSVP through BetterImpact or by emailing info@napacart.org.
URL:https://napacart.org/event/livestock-assessment-handling-first-aid-skills-day/
LOCATION:Napa Valley Horsemen’s Association\, 1200 Foster Rd\, Napa\, 94558\, United States
CATEGORIES:Volunteer Training
END:VEVENT
BEGIN:VEVENT
DTSTART;TZID=America/Los_Angeles:20230415T090000
DTEND;TZID=America/Los_Angeles:20230415T120000
DTSTAMP:20260420T073724
CREATED:20190207T222615Z
LAST-MODIFIED:20190207T222615Z
UID:3833-1681549200-1681560000@napacart.org
SUMMARY:Trailer Driving Certification
DESCRIPTION:This class is to prepare and certify volunteers to haul animals in trailers during emergencies\, as well as for all related animal transportation activities.  \nRSVP through BetterImpact or by emailing info@napacart.org.
URL:https://napacart.org/event/trailer-safety-maneuvering-course-2/
LOCATION:Napa Valley College\, 2277 Napa-Vallejo Highway\, Napa\, CA\, United States
CATEGORIES:Volunteer Training
END:VEVENT
BEGIN:VEVENT
DTSTART;TZID=America/Los_Angeles:20230325T090000
DTEND;TZID=America/Los_Angeles:20230325T110000
DTSTAMP:20260420T073724
CREATED:20201227T162917Z
LAST-MODIFIED:20201227T162917Z
UID:3665-1679734800-1679742000@napacart.org
SUMMARY:Communication/Dispatch skills with CERT
DESCRIPTION:Highly recommended for dispatch and evacuation volunteers\, but encouraged for all volunteers to attend as radios will be widely used in various roles within Napa CART. Collaborative training with Napa CERT.  \nRSVP through BetterImpact or by emailing info@napacart.org.
URL:https://napacart.org/event/communication-dispatch-skills-day-with-cert/
LOCATION:TBD
CATEGORIES:Volunteer Training
END:VEVENT
BEGIN:VEVENT
DTSTART;TZID=America/Los_Angeles:20230225T080000
DTEND;TZID=America/Los_Angeles:20230225T120000
DTSTAMP:20260420T073724
CREATED:20190123T061301Z
LAST-MODIFIED:20190123T061301Z
UID:3825-1677312000-1677326400@napacart.org
SUMMARY:CERT Skills Update
DESCRIPTION:In person training open to any person who has completed Community Emergency Response Training (CERT) training\, even if you are not currently active on a CERT team.
URL:https://napacart.org/event/cert-skill-update-2/
LOCATION:Napa Valley College\, 2277 Napa-Vallejo Highway\, Napa\, CA\, United States
ORGANIZER;CN="Napa County Community Emergency Response Team (Napa CERT)":MAILTO:sandra.hage@countyofnapa.org
END:VEVENT
BEGIN:VEVENT
DTSTART;TZID=America/Los_Angeles:20230212T113000
DTEND;TZID=America/Los_Angeles:20230212T133000
DTSTAMP:20260420T073724
CREATED:20221210T065320Z
LAST-MODIFIED:20221210T065320Z
UID:3987-1676201400-1676208600@napacart.org
SUMMARY:Shelterly and SARTopo
DESCRIPTION:Overview of Shelterly and SARTopo. \nRSVP through BetterImpact or by emailing info@napacart.org.
URL:https://napacart.org/event/shelterly-and-sartopo/
LOCATION:Napa Valley Horsemen’s Association\, 1200 Foster Rd\, Napa\, 94558\, United States
END:VEVENT
BEGIN:VEVENT
DTSTART;TZID=America/Los_Angeles:20230212T090000
DTEND;TZID=America/Los_Angeles:20230212T110000
DTSTAMP:20260420T073724
CREATED:20191105T055231Z
LAST-MODIFIED:20191105T055231Z
UID:3841-1676192400-1676199600@napacart.org
SUMMARY:Hotline and Drill
DESCRIPTION:Overview of Hotline set up\, procedure and Forms used. Practice drill will also be part of the training. \nRSVP through BetterImpact or by emailing info@napacart.org.
URL:https://napacart.org/event/dispatch-and-hotline-2-2/
LOCATION:Napa Valley Horsemen’s Association\, 1200 Foster Rd\, Napa\, 94558\, United States
CATEGORIES:Volunteer Training
END:VEVENT
BEGIN:VEVENT
DTSTART;TZID=America/Los_Angeles:20230129T090000
DTEND;TZID=America/Los_Angeles:20230129T120000
DTSTAMP:20260420T073724
CREATED:20191105T053716Z
LAST-MODIFIED:20191105T053716Z
UID:3838-1674982800-1674993600@napacart.org
SUMMARY:Returning Volunteer Training in Animal Disaster Response
DESCRIPTION:A required training designed for those familiar with Napa CART operations and Animal Disaster Response\, includes response updates. Registration for this training can be done through our volunteer management program Better Impact* or by emailing info@napacart.org. Zoom link will be sent out close to training date. \n*If you are new to Better Impact (BI)\, you will need to create a profile. If you already have a BI profile\, log in and go to the Opportunities menu to sign up for this training.
URL:https://napacart.org/event/returning-volunteer-training-in-animal-disaster-response-2/
CATEGORIES:Volunteer Training
END:VEVENT
BEGIN:VEVENT
DTSTART;TZID=America/Los_Angeles:20230128T133000
DTEND;TZID=America/Los_Angeles:20230128T160000
DTSTAMP:20260420T073724
CREATED:20191105T053425Z
LAST-MODIFIED:20191105T053425Z
UID:3837-1674912600-1674921600@napacart.org
SUMMARY:New Volunteer Orientation & Awareness
DESCRIPTION:Overview of Animal Disaster Response and roles within Napa Community Animal Response Team. Geared towards those who are new to Animal Disaster Response and/or Napa CART. Required for all Napa CART volunteers. Registration for this training can be done through our volunteer management program Better Impact* or by emailing info@napacart.org. Zoom link will be sent out close to training date. \n*If you are new to Better Impact (BI)\, you will need to create a profile. If you already have a BI profile\, log in and go to the Opportunities menu to sign up for this training.
URL:https://napacart.org/event/new-volunteer-training-in-animal-disaster-response-2/
CATEGORIES:Volunteer Training
END:VEVENT
BEGIN:VEVENT
DTSTART;TZID=America/Los_Angeles:20210619T200000
DTEND;TZID=America/Los_Angeles:20210619T200000
DTSTAMP:20260420T073724
CREATED:20210609T045850Z
LAST-MODIFIED:20210609T045850Z
UID:3857-1624132800-1624132800@napacart.org
SUMMARY:Wineapawloosa hosted by Jameson Humane
DESCRIPTION:Jameson Humane is hosting their Winepawlooza event virtually this year. Check out their website for information on the event\, view auction lots and buy tickets. The last lot of the night will be a Fund A Need that will raise funds for Napa CART\, Sonoma CART\, Solano CART and CERT: FUNDANEED2021 Please help support this important fundraiser which will bolster response capabilities.
URL:https://napacart.org/event/wineapawloosa/
END:VEVENT
BEGIN:VEVENT
DTSTART;TZID=America/Los_Angeles:20210612T090000
DTEND;TZID=America/Los_Angeles:20210612T120000
DTSTAMP:20260420T073724
CREATED:20210505T053357Z
LAST-MODIFIED:20210505T053357Z
UID:3845-1623488400-1623499200@napacart.org
SUMMARY:Fire Tent Deployment through ResQFast
DESCRIPTION:Volunteers who have taken ResQFast’s Fireline Safety course this year can get signed off on their Fire Tent Deployment. RSVP to info@napacart.org.
URL:https://napacart.org/event/fire-tent-deployment-through-resqfast/
LOCATION:3198 Silverado Trail\, 3198 Silverado Trail\, Napa\, CA\, 94558\, United States
ORGANIZER;CN="ResQFAST":MAILTO:ResQFAST@gmail.com
END:VEVENT
END:VCALENDAR