BEGIN:VCALENDAR
VERSION:2.0
PRODID:-//Napa CART - ECPv6.15.20//NONSGML v1.0//EN
CALSCALE:GREGORIAN
METHOD:PUBLISH
X-WR-CALNAME:Napa CART
X-ORIGINAL-URL:https://napacart.org
X-WR-CALDESC:Events for Napa CART
REFRESH-INTERVAL;VALUE=DURATION:PT1H
X-Robots-Tag:noindex
X-PUBLISHED-TTL:PT1H
BEGIN:VTIMEZONE
TZID:America/Los_Angeles
BEGIN:DAYLIGHT
TZOFFSETFROM:-0800
TZOFFSETTO:-0700
TZNAME:PDT
DTSTART:20220313T100000
END:DAYLIGHT
BEGIN:STANDARD
TZOFFSETFROM:-0700
TZOFFSETTO:-0800
TZNAME:PST
DTSTART:20221106T090000
END:STANDARD
BEGIN:DAYLIGHT
TZOFFSETFROM:-0800
TZOFFSETTO:-0700
TZNAME:PDT
DTSTART:20230312T100000
END:DAYLIGHT
BEGIN:STANDARD
TZOFFSETFROM:-0700
TZOFFSETTO:-0800
TZNAME:PST
DTSTART:20231105T090000
END:STANDARD
BEGIN:DAYLIGHT
TZOFFSETFROM:-0800
TZOFFSETTO:-0700
TZNAME:PDT
DTSTART:20240310T100000
END:DAYLIGHT
BEGIN:STANDARD
TZOFFSETFROM:-0700
TZOFFSETTO:-0800
TZNAME:PST
DTSTART:20241103T090000
END:STANDARD
BEGIN:DAYLIGHT
TZOFFSETFROM:-0800
TZOFFSETTO:-0700
TZNAME:PDT
DTSTART:20250309T100000
END:DAYLIGHT
BEGIN:STANDARD
TZOFFSETFROM:-0700
TZOFFSETTO:-0800
TZNAME:PST
DTSTART:20251102T090000
END:STANDARD
END:VTIMEZONE
BEGIN:VEVENT
DTSTART;TZID=America/Los_Angeles:20240607T093000
DTEND;TZID=America/Los_Angeles:20240607T130000
DTSTAMP:20260420T062119
CREATED:20240424T215516Z
LAST-MODIFIED:20240501T231118Z
UID:4626-1717752600-1717765200@napacart.org
SUMMARY:Napa Humane Drop-In Vaccination/Microchip Clinic
DESCRIPTION:Every Friday from 9:30 AM – 1:00 PM \nNapa Humane Spay/Neuter Clinic holds a drop-in vaccination/microchip clinic every Friday for Napa County residents only. Proof of Napa County residency is required. No appointment necessary.
URL:https://napacart.org/event/napa-humane-drop-in-vaccination-microchip-clinic-23-2024/
LOCATION:Napa Humane Spay/Neuter Clinic\, 3265 California Boulevard\, Napa\, CA\, 94558
CATEGORIES:Community Events
ATTACH;FMTTYPE=image/jpeg:https://napacart.org/wp-content/uploads/2024/05/drop-in-vaccination_microchip-clinic.jpg
ORGANIZER;CN="Napa Humane Spay/Neuter Clinic":MAILTO:clinicinfo@napahumane.org
END:VEVENT
BEGIN:VEVENT
DTSTART;TZID=America/Los_Angeles:20240531T093000
DTEND;TZID=America/Los_Angeles:20240531T130000
DTSTAMP:20260420T062119
CREATED:20240424T004253Z
LAST-MODIFIED:20240502T003528Z
UID:4620-1717147800-1717160400@napacart.org
SUMMARY:Napa Humane Drop-In Vaccination/Microchip Clinic
DESCRIPTION:Every Friday from 9:30 AM – 1:00 PM \nNapa Humane Spay/Neuter Clinic holds a drop-in vaccination/microchip clinic every Friday for Napa County residents only. Proof of Napa County residency is required. No appointment necessary.
URL:https://napacart.org/event/napa-humane-drop-in-vaccination-microchip-clinic-22-2024/
LOCATION:Napa Humane Spay/Neuter Clinic\, 3265 California Boulevard\, Napa\, CA\, 94558
CATEGORIES:Community Events
ATTACH;FMTTYPE=image/jpeg:https://napacart.org/wp-content/uploads/2024/05/drop-in-vaccination_microchip-clinic.jpg
ORGANIZER;CN="Napa Humane Spay/Neuter Clinic":MAILTO:clinicinfo@napahumane.org
END:VEVENT
BEGIN:VEVENT
DTSTART;TZID=America/Los_Angeles:20240526T110000
DTEND;TZID=America/Los_Angeles:20240526T130000
DTSTAMP:20260420T062119
CREATED:20240222T192818Z
LAST-MODIFIED:20240222T192818Z
UID:4543-1716721200-1716728400@napacart.org
SUMMARY:Animal Technical Rescue Team (ATR) 5/26/24
DESCRIPTION:In Person Training: Small group of certified technicians meeting to practice technical rescue scenarios on mannequin in conjunction with Large Animal evacuation exercises to be conducted at various local sites. \nSign up in your MyImpact profile: myimpactpage.com
URL:https://napacart.org/event/animal-technical-rescue-team-atr-5-26-24/
CATEGORIES:Volunteer Training
END:VEVENT
BEGIN:VEVENT
DTSTART;TZID=America/Los_Angeles:20240524T093000
DTEND;TZID=America/Los_Angeles:20240524T130000
DTSTAMP:20260420T062119
CREATED:20240424T003822Z
LAST-MODIFIED:20240502T004029Z
UID:4618-1716543000-1716555600@napacart.org
SUMMARY:Napa Humane Drop-In Vaccination/Microchip Clinic
DESCRIPTION:Every Friday from 9:30 AM – 1:00 PM \nNapa Humane Spay/Neuter Clinic holds a drop-in vaccination/microchip clinic every Friday for Napa County residents only. Proof of Napa County residency is required. No appointment necessary.
URL:https://napacart.org/event/napa-humane-drop-in-vaccination-microchip-clinic-21-2024/
LOCATION:Napa Humane Spay/Neuter Clinic\, 3265 California Boulevard\, Napa\, CA\, 94558
CATEGORIES:Community Events
ATTACH;FMTTYPE=image/jpeg:https://napacart.org/wp-content/uploads/2024/05/drop-in-vaccination_microchip-clinic.jpg
ORGANIZER;CN="Napa Humane Spay/Neuter Clinic":MAILTO:clinicinfo@napahumane.org
END:VEVENT
BEGIN:VEVENT
DTSTART;TZID=America/Los_Angeles:20240517T093000
DTEND;TZID=America/Los_Angeles:20240517T130000
DTSTAMP:20260420T062119
CREATED:20240424T003612Z
LAST-MODIFIED:20240502T004106Z
UID:4616-1715938200-1715950800@napacart.org
SUMMARY:Napa Humane Drop-In Vaccination/Microchip Clinic
DESCRIPTION:Every Friday from 9:30 AM – 1:00 PM \nNapa Humane Spay/Neuter Clinic holds a drop-in vaccination/microchip clinic every Friday for Napa County residents only. Proof of Napa County residency is required. No appointment necessary.
URL:https://napacart.org/event/napa-humane-drop-in-vaccination-microchip-clinic-20-2024/
LOCATION:Napa Humane Spay/Neuter Clinic\, 3265 California Boulevard\, Napa\, CA\, 94558
CATEGORIES:Community Events
ATTACH;FMTTYPE=image/jpeg:https://napacart.org/wp-content/uploads/2024/05/drop-in-vaccination_microchip-clinic.jpg
ORGANIZER;CN="Napa Humane Spay/Neuter Clinic":MAILTO:clinicinfo@napahumane.org
END:VEVENT
BEGIN:VEVENT
DTSTART;TZID=America/Los_Angeles:20240516T190000
DTEND;TZID=America/Los_Angeles:20240516T200000
DTSTAMP:20260420T062119
CREATED:20240223T003551Z
LAST-MODIFIED:20240501T224533Z
UID:4575-1715886000-1715889600@napacart.org
SUMMARY:Species Specific Training Series 5/16/24
DESCRIPTION:Rabbit and Chicken – Assessment & Handling \nThursday\, May 16\, 2024\, 7:00 pm- 8:00 pm \nNapa Valley Horsemen’s Association: 1200 Foster Rd. \nThis course is designed to develop chicken and rabbit handling and assessment skills for Napa CART volunteers.\nRecommended for Napa CART & ASAR volunteers who may provide Shelter in Place (SIP) or at the Shelter care. \nCourse will consist of an overview of handling and assessment recommendations. \nOnline pre-work required to participate in skill training. Please watch: CVET: Overview of Triage & Basic First Aid and CVET: Small Animal Triage & Basic First Aid in your My Impact profile prior to this in person training. \nRegister through your MyImpact profile: myimpactpage.com or email info@napacart.org \n \nClick here to View or Print the training flyer (PDF opens in a new tab or window)
URL:https://napacart.org/event/species-specific-training-series-5-16-24/
LOCATION:Napa Valley Horsemen’s Association\, 1200 Foster Rd\, Napa\, 94558\, United States
CATEGORIES:Volunteer Training
ATTACH;FMTTYPE=image/jpeg:https://napacart.org/wp-content/uploads/2024/02/chicken.jpg
END:VEVENT
BEGIN:VEVENT
DTSTART;TZID=America/Los_Angeles:20240510T093000
DTEND;TZID=America/Los_Angeles:20240510T130000
DTSTAMP:20260420T062119
CREATED:20240424T003339Z
LAST-MODIFIED:20240502T004200Z
UID:4614-1715333400-1715346000@napacart.org
SUMMARY:Napa Humane Drop-In Vaccination/Microchip Clinic
DESCRIPTION:Every Friday from 9:30 AM – 1:00 PM \nNapa Humane Spay/Neuter Clinic holds a drop-in vaccination/microchip clinic every Friday for Napa County residents only. Proof of Napa County residency is required. No appointment necessary.
URL:https://napacart.org/event/napa-humane-drop-in-vaccination-microchip-clinic-19-2024/
LOCATION:Napa Humane Spay/Neuter Clinic\, 3265 California Boulevard\, Napa\, CA\, 94558
CATEGORIES:Community Events
ATTACH;FMTTYPE=image/jpeg:https://napacart.org/wp-content/uploads/2024/05/drop-in-vaccination_microchip-clinic.jpg
ORGANIZER;CN="Napa Humane Spay/Neuter Clinic":MAILTO:clinicinfo@napahumane.org
END:VEVENT
BEGIN:VEVENT
DTSTART;TZID=America/Los_Angeles:20240503T093000
DTEND;TZID=America/Los_Angeles:20240503T130000
DTSTAMP:20260420T062119
CREATED:20240423T234335Z
LAST-MODIFIED:20240502T004354Z
UID:4612-1714728600-1714741200@napacart.org
SUMMARY:Napa Humane Drop-In Vaccination/Microchip Clinic
DESCRIPTION:Every Friday from 9:30 AM – 1:00 PM \nNapa Humane Spay/Neuter Clinic holds a drop-in vaccination/microchip clinic every Friday for Napa County residents only. Proof of Napa County residency is required. No appointment necessary.
URL:https://napacart.org/event/napa-humane-drop-in-vaccination-microchip-clinic-18-2024/
LOCATION:Napa Humane Spay/Neuter Clinic\, 3265 California Boulevard\, Napa\, CA\, 94558
CATEGORIES:Community Events
ATTACH;FMTTYPE=image/jpeg:https://napacart.org/wp-content/uploads/2024/05/drop-in-vaccination_microchip-clinic.jpg
ORGANIZER;CN="Napa Humane Spay/Neuter Clinic":MAILTO:clinicinfo@napahumane.org
END:VEVENT
BEGIN:VEVENT
DTSTART;TZID=America/Los_Angeles:20240428T110000
DTEND;TZID=America/Los_Angeles:20240428T130000
DTSTAMP:20260420T062119
CREATED:20240222T013755Z
LAST-MODIFIED:20240222T013755Z
UID:4537-1714302000-1714309200@napacart.org
SUMMARY:Animal Technical Rescue Team (ATR) 4/28/24
DESCRIPTION:In Person Training: Small group of certified technicians meeting to practice technical rescue scenarios on mannequin in conjunction with Large Animal evacuation exercises to be conducted at various local sites. \nSign up in your MyImpact profile: myimpactpage.com
URL:https://napacart.org/event/animal-technical-rescue-team-atr-4-28-24/
CATEGORIES:Volunteer Training
END:VEVENT
BEGIN:VEVENT
DTSTART;TZID=America/Los_Angeles:20240427T090000
DTEND;TZID=America/Los_Angeles:20240427T150000
DTSTAMP:20260420T062119
CREATED:20240222T013942Z
LAST-MODIFIED:20240222T013942Z
UID:4539-1714208400-1714230000@napacart.org
SUMMARY:Hauling Certification
DESCRIPTION:Vehicle inspection sheets due.  \nWith a recent vehicle and/or trailer inspection in hand\, volunteers can learn techniques for and test to become certified to haul trailers with our CART. CART trailer will be onsite for those who don’t have own trailer to test with. \nSign up in your MyImpact profile: myimpactpage.com
URL:https://napacart.org/event/hauling-certification/
LOCATION:Napa Valley College\, 2277 Napa-Vallejo Highway\, Napa\, CA\, United States
CATEGORIES:Volunteer Training
END:VEVENT
BEGIN:VEVENT
DTSTART;TZID=America/Los_Angeles:20240426T093000
DTEND;TZID=America/Los_Angeles:20240426T130000
DTSTAMP:20260420T062119
CREATED:20240423T183226Z
LAST-MODIFIED:20240502T004502Z
UID:4600-1714123800-1714136400@napacart.org
SUMMARY:Napa Humane Drop-In Vaccination/Microchip Clinic
DESCRIPTION:Every Friday from 9:30 AM – 1:00 PM \nNapa Humane Spay/Neuter Clinic holds a drop-in vaccination/microchip clinic every Friday for Napa County residents only. Proof of Napa County residency is required. No appointment necessary.
URL:https://napacart.org/event/drop-in-vaccination-microchip-clinic-17-2024/
LOCATION:Napa Humane Spay/Neuter Clinic\, 3265 California Boulevard\, Napa\, CA\, 94558
CATEGORIES:Community Events
ATTACH;FMTTYPE=image/jpeg:https://napacart.org/wp-content/uploads/2024/05/drop-in-vaccination_microchip-clinic.jpg
ORGANIZER;CN="Napa Humane Spay/Neuter Clinic":MAILTO:clinicinfo@napahumane.org
END:VEVENT
BEGIN:VEVENT
DTSTART;TZID=America/Los_Angeles:20240418T190000
DTEND;TZID=America/Los_Angeles:20240418T200000
DTSTAMP:20260420T062119
CREATED:20240222T014315Z
LAST-MODIFIED:20240223T003853Z
UID:4541-1713466800-1713470400@napacart.org
SUMMARY:Species Specific Training Series 4/18/24
DESCRIPTION:One hour hands on\, small group course for familiarity on specific animal groups or techniques: Awareness and Skills\, SIP considerations. Locations will vary. \nSign up in your MyImpact profile: myimpactpage.com
URL:https://napacart.org/event/species-specific-training-series-4-18-24/
CATEGORIES:Volunteer Training
END:VEVENT
BEGIN:VEVENT
DTSTART;TZID=America/Los_Angeles:20240324T110000
DTEND;TZID=America/Los_Angeles:20240324T130000
DTSTAMP:20260420T062119
CREATED:20240221T004047Z
LAST-MODIFIED:20240221T004903Z
UID:4521-1711278000-1711285200@napacart.org
SUMMARY:Animal Technical Rescue Team (ATR) 3/24/24
DESCRIPTION:In Person Training: Small group of certified technicians meeting to practice technical rescue scenarios on mannequin in conjunction with Large Animal evacuation exercises to be conducted at various local sites. \nSign up in your MyImpact profile: myimpactpage.com
URL:https://napacart.org/event/animal-technical-rescue-team-atr-3-24-24/
CATEGORIES:Volunteer Training
END:VEVENT
BEGIN:VEVENT
DTSTART;TZID=America/Los_Angeles:20240323T123000
DTEND;TZID=America/Los_Angeles:20240323T153000
DTSTAMP:20260420T062119
CREATED:20240221T005124Z
LAST-MODIFIED:20240228T000115Z
UID:4526-1711197000-1711207800@napacart.org
SUMMARY:Dispatch & Comms Skills w/CERT
DESCRIPTION:Focus is on practicing various communication methodologies and dispatch of field teams for ASAR. \nSign up in your MyImpact profile: myimpactpage.com
URL:https://napacart.org/event/dispatch-comms-skills-w-cert/
LOCATION:Napa Valley Horsemen’s Association\, 1200 Foster Rd\, Napa\, 94558\, United States
CATEGORIES:Volunteer Training
ATTACH;FMTTYPE=image/jpeg:https://napacart.org/wp-content/uploads/2024/02/dispatch-comm-skills-2.jpg
END:VEVENT
BEGIN:VEVENT
DTSTART;TZID=America/Los_Angeles:20240323T090000
DTEND;TZID=America/Los_Angeles:20240323T120000
DTSTAMP:20260420T062119
CREATED:20240221T004935Z
LAST-MODIFIED:20240227T235807Z
UID:4524-1711184400-1711195200@napacart.org
SUMMARY:Hotline\, Shelterly\, Sar Topo awareness
DESCRIPTION:A review of basic CART admin roles with taking hotline calls\, using Shelterly software to track teams and animals and the use of mapping program CALTOPO to track teams in the field and their locations. \nSign up in your MyImpact profile: myimpactpage.com
URL:https://napacart.org/event/hotline-shelterly-sar-topo-awareness/
LOCATION:Napa Valley Horsemen’s Association\, 1200 Foster Rd\, Napa\, 94558\, United States
CATEGORIES:Volunteer Training
ATTACH;FMTTYPE=image/jpeg:https://napacart.org/wp-content/uploads/2024/02/dispatch-comm-skills.jpg
END:VEVENT
BEGIN:VEVENT
DTSTART;TZID=America/Los_Angeles:20240225T110000
DTEND;TZID=America/Los_Angeles:20240225T130000
DTSTAMP:20260420T062119
CREATED:20240221T003733Z
LAST-MODIFIED:20240221T004952Z
UID:4519-1708858800-1708866000@napacart.org
SUMMARY:Animal Technical Rescue Team (ATR) 2/25/24
DESCRIPTION:In Person Training: Small group of certified technicians meeting to practice technical rescue scenarios on mannequin in conjunction with Large Animal evacuation exercises to be conducted at various local sites. \nSign up in your MyImpact profile: myimpactpage.com
URL:https://napacart.org/event/animal-technical-rescue-team-atr-2-25-24/
CATEGORIES:Volunteer Training
END:VEVENT
BEGIN:VEVENT
DTSTART;TZID=America/Los_Angeles:20240128T140000
DTEND;TZID=America/Los_Angeles:20240128T160000
DTSTAMP:20260420T062119
CREATED:20231204T192524Z
LAST-MODIFIED:20231204T192639Z
UID:4511-1706450400-1706457600@napacart.org
SUMMARY:Fireline Safety and All Hazards Awareness (Zoom)
DESCRIPTION:Fireline Safety and All Hazards Awareness (Zoom) w/ResQFast\nSign up in your MyImpact profile: myimpactpage.com
URL:https://napacart.org/event/fireline-safety-and-all-hazards-awareness-jan-2024/
CATEGORIES:Volunteer Training
END:VEVENT
BEGIN:VEVENT
DTSTART;TZID=America/Los_Angeles:20240128T090000
DTEND;TZID=America/Los_Angeles:20240128T130000
DTSTAMP:20260420T062119
CREATED:20231204T192234Z
LAST-MODIFIED:20231204T192646Z
UID:4509-1706432400-1706446800@napacart.org
SUMMARY:Returning Volunteer Training (Zoom)
DESCRIPTION:Returning Volunteer Training (Zoom)\nSign up in your MyImpact profile: myimpactpage.com
URL:https://napacart.org/event/returning-volunteer-training-jan-2024/
CATEGORIES:Volunteer Training
END:VEVENT
BEGIN:VEVENT
DTSTART;TZID=America/Los_Angeles:20240127T130000
DTEND;TZID=America/Los_Angeles:20240127T163000
DTSTAMP:20260420T062119
CREATED:20231204T191950Z
LAST-MODIFIED:20231204T192653Z
UID:4506-1706360400-1706373000@napacart.org
SUMMARY:New Volunteer Orientation/ Awareness (Zoom)
DESCRIPTION:New Volunteer Orientation/ Awareness (Zoom)\nTo sign up\, please email info@napacart.org
URL:https://napacart.org/event/new-volunteer-orientation-awareness-jan-2024/
CATEGORIES:Volunteer Training
END:VEVENT
BEGIN:VEVENT
DTSTART;TZID=America/Los_Angeles:20231209T120000
DTEND;TZID=America/Los_Angeles:20231209T150000
DTSTAMP:20260420T062119
CREATED:20231024T185342Z
LAST-MODIFIED:20231024T185342Z
UID:4501-1702123200-1702134000@napacart.org
SUMMARY:Volunteer Appreciation Luncheon
DESCRIPTION:CART / CERT Volunteer Appreciation Luncheon\nSaturday December 9\, 2023 noon – 3:oo pm\nNapa Valley College Cafeteria
URL:https://napacart.org/event/volunteer-appreciation-luncheon-2023/
LOCATION:Napa Valley College\, 2277 Napa-Vallejo Highway\, Napa\, CA\, United States
CATEGORIES:Volunteer Training
ATTACH;FMTTYPE=image/jpeg:https://napacart.org/wp-content/uploads/2023/10/CERTCART-Volunteer-Appreciation-Luncheon-2023.jpg
END:VEVENT
BEGIN:VEVENT
DTSTART;TZID=America/Los_Angeles:20231126T100000
DTEND;TZID=America/Los_Angeles:20231126T123000
DTSTAMP:20260420T062119
CREATED:20201224T183557Z
LAST-MODIFIED:20230914T231202Z
UID:3647-1700992800-1701001800@napacart.org
SUMMARY:Take Down and Store Panels (VBEC)
DESCRIPTION:Breakdown panels at the VBEC equine shelter and store them for the off-season. \nRSVP through BetterImpact or by emailing info@napacart.org.
URL:https://napacart.org/event/panel-set-up-at-livestock-shelters/
CATEGORIES:Volunteer Training
END:VEVENT
BEGIN:VEVENT
DTSTART;TZID=America/Los_Angeles:20231125T100000
DTEND;TZID=America/Los_Angeles:20231125T123000
DTSTAMP:20260420T062119
CREATED:20201227T170155Z
LAST-MODIFIED:20230914T231304Z
UID:3677-1700906400-1700915400@napacart.org
SUMMARY:Take Down and Store Panels (NVHA)
DESCRIPTION:Breakdown panels at the NVHA livestock shelter and store them for the off-season. \nRSVP through BetterImpact or by emailing info@napacart.org.
URL:https://napacart.org/event/take-down-and-store-panels/
LOCATION:Napa Valley Horsemen’s Association\, 1200 Foster Rd\, Napa\, 94558\, United States
CATEGORIES:Volunteer Training
END:VEVENT
BEGIN:VEVENT
DTSTART;TZID=America/Los_Angeles:20231021T083000
DTEND;TZID=America/Los_Angeles:20231021T140000
DTSTAMP:20260420T062119
CREATED:20231007T001839Z
LAST-MODIFIED:20231007T001839Z
UID:4489-1697877000-1697896800@napacart.org
SUMMARY:Annual CERT Exercise 2023
DESCRIPTION:To participate in the exercise\, you must have completed a CERT basic course. \nThe exercise schedule is as follows: \n0830 – 0930 Exercise Registration \n0900 – 0930 Exercise Briefing \n0930 – 1200 Exercise Play – Start \n1200 Exercise Play – End \n1200 – 1300 Exercise Debrief/Lunch \n1300 – 1400 Breakdown/Clean-up \nAt a minimum\, bring your CERT helmet\, vest\, eye protection\, and work gloves. \nWear sturdy closed-toed shoes\, long pants and a long-sleeved shirt – dress in layers! Check the weather forecast so that you are ready to operate in the conditions of the day. \nIf you would like to participate\, please email your name to info@americancanyoncert.org \nClick here for the handout.
URL:https://napacart.org/event/annual-cert-exercise-2023/
LOCATION:American Canyon Fire Protection District Station #2\, 225 James Road\, American Canyon\, CA\, 94503
CATEGORIES:Volunteer Training
ATTACH;FMTTYPE=image/jpeg:https://napacart.org/wp-content/uploads/2023/10/accert.jpg
ORGANIZER;CN="American Canyon Fire Protection District Station #2":MAILTO:info@americancanyoncert.org
END:VEVENT
BEGIN:VEVENT
DTSTART;TZID=America/Los_Angeles:20231012T150000
DTEND;TZID=America/Los_Angeles:20231012T190000
DTSTAMP:20260420T062119
CREATED:20230925T223806Z
LAST-MODIFIED:20231006T004114Z
UID:4481-1697122800-1697137200@napacart.org
SUMMARY:Trailer Loading Clinic
DESCRIPTION:Trailer Loading Clinic with Jerry Tindell \nSafe and Effective Loading \n\nHorsemanship\nBody Language\nSafety\nIndividual and Team Loading\n\nRSVP through BetterImpact or by emailing info@napacart.org. \nClick here for the event flyer pdf.
URL:https://napacart.org/event/trailer-loading-clinic/
CATEGORIES:Volunteer Training
ATTACH;FMTTYPE=image/jpeg:https://napacart.org/wp-content/uploads/2023/09/Trailer-Loading-Clinic-101223.jpg
END:VEVENT
BEGIN:VEVENT
DTSTART;TZID=America/Los_Angeles:20230917T080000
DTEND;TZID=America/Los_Angeles:20230917T120000
DTSTAMP:20260420T062119
CREATED:20230818T220804Z
LAST-MODIFIED:20230818T220804Z
UID:4426-1694937600-1694952000@napacart.org
SUMMARY:Community Emergency Response Training Day Three
DESCRIPTION:Would you know what to do if we had a major earthquake right now? Would you know how to provide first aid to a loved one\, rescue someone\, or get drinking\nwater? Are you ready to have your life disrupted without help for 24 to 72 hours? \nAs recent disasters and emergencies have demonstrated\, there will not be enough emergency responders to help everyone promptly. You must be able to take care of yourself and your family. As a community\, we must rely on each other for our immediate lifesaving and life-sustaining needs. Napa Valley communities may not have enough emergency help for several days! \nCommunity Emergency Response Training is a nationally recognized emergency training course that teaches essential emergency response skills. Taking and completing the CERT course will give you the skills and confidence necessary to help yourself\, your family\, and your community during a disaster. \nClass 105 will be offered in American Canyon. The training is available free of charge to anyone living in Napa County. To complete the course\, you must\nattend all three sessions.  \nBlock 1 – Emergency Preparedness  Saturday\, September 9\, 2023  8 am – 5 pm\nBlock 2 – Hazard Awareness\nBlock 3 – Disaster First Aid  Saturday\, September 16\, 2023  8 am – 5 pm\nBlock 4 – Emergency Management\nBlock 5 – Final Exercise  Sunday\, September 17\, 2023  8 am – 12 pm \nFor more information or to enroll\, please email the following information to  napacert@aol.com\n–  Complete Name\n–  Contact Number\n–  Complete Address \nClick or press for a PDF of the training flyer to share (opens in a new tab or window)
URL:https://napacart.org/event/cert-class-105-091723/
CATEGORIES:Community Events
ATTACH;FMTTYPE=image/png:https://napacart.org/wp-content/uploads/2023/08/Class-105-Sep-Am-Can.png
END:VEVENT
BEGIN:VEVENT
DTSTART;TZID=America/Los_Angeles:20230917T080000
DTEND;TZID=America/Los_Angeles:20230917T120000
DTSTAMP:20260420T062119
CREATED:20230803T011708Z
LAST-MODIFIED:20230803T015951Z
UID:4293-1694937600-1694952000@napacart.org
SUMMARY:Napa County CERT Basic Training Day Three
DESCRIPTION:(Training open to the general public) \nWeek Two (Day Three)\nSunday\, September 17\, 8 a.m. – 12 p.m.
URL:https://napacart.org/event/napa-county-cert-basic-training-091723/
LOCATION:American Canyon\, CA\, American Canyon\, CA\, United States
CATEGORIES:Volunteer Training
ORGANIZER;CN="Napa County Community Emergency Response Team (Napa CERT)":MAILTO:sandra.hage@countyofnapa.org
END:VEVENT
BEGIN:VEVENT
DTSTART;TZID=America/Los_Angeles:20230916T080000
DTEND;TZID=America/Los_Angeles:20230916T170000
DTSTAMP:20260420T062119
CREATED:20230818T220605Z
LAST-MODIFIED:20230818T220641Z
UID:4422-1694851200-1694883600@napacart.org
SUMMARY:Community Emergency Response Training Day Two
DESCRIPTION:Would you know what to do if we had a major earthquake right now? Would you know how to provide first aid to a loved one\, rescue someone\, or get drinking\nwater? Are you ready to have your life disrupted without help for 24 to 72 hours? \nAs recent disasters and emergencies have demonstrated\, there will not be enough emergency responders to help everyone promptly. You must be able to take care of yourself and your family. As a community\, we must rely on each other for our immediate lifesaving and life-sustaining needs. Napa Valley communities may not have enough emergency help for several days! \nCommunity Emergency Response Training is a nationally recognized emergency training course that teaches essential emergency response skills. Taking and completing the CERT course will give you the skills and confidence necessary to help yourself\, your family\, and your community during a disaster. \nClass 105 will be offered in American Canyon. The training is available free of charge to anyone living in Napa County. To complete the course\, you must\nattend all three sessions.  \nBlock 1 – Emergency Preparedness  Saturday\, September 9\, 2023  8 am – 5 pm\nBlock 2 – Hazard Awareness\nBlock 3 – Disaster First Aid  Saturday\, September 16\, 2023  8 am – 5 pm\nBlock 4 – Emergency Management\nBlock 5 – Final Exercise  Sunday\, September 17\, 2023  8 am – 12 pm \nFor more information or to enroll\, please email the following information to  napacert@aol.com\n–  Complete Name\n–  Contact Number\n–  Complete Address \nClick or press for a PDF of the training flyer to share (opens in a new tab or window)
URL:https://napacart.org/event/cert-class-105-091623/
CATEGORIES:Community Events
ATTACH;FMTTYPE=image/png:https://napacart.org/wp-content/uploads/2023/08/Class-105-Sep-Am-Can.png
END:VEVENT
BEGIN:VEVENT
DTSTART;TZID=America/Los_Angeles:20230916T080000
DTEND;TZID=America/Los_Angeles:20230916T170000
DTSTAMP:20260420T062119
CREATED:20230803T011524Z
LAST-MODIFIED:20230803T015936Z
UID:4291-1694851200-1694883600@napacart.org
SUMMARY:Napa County CERT Basic Training Day Two
DESCRIPTION:(Training open to the general public) \nWeek Two (Day Two)\nSaturday\, September 16\, 8 a.m. – 5 p.m.
URL:https://napacart.org/event/napa-county-cert-basic-training-091623/
LOCATION:American Canyon\, CA\, American Canyon\, CA\, United States
CATEGORIES:Volunteer Training
ORGANIZER;CN="Napa County Community Emergency Response Team (Napa CERT)":MAILTO:sandra.hage@countyofnapa.org
END:VEVENT
BEGIN:VEVENT
DTSTART;TZID=America/Los_Angeles:20230909T160000
DTEND;TZID=America/Los_Angeles:20230909T210000
DTSTAMP:20260420T062119
CREATED:20230803T012910Z
LAST-MODIFIED:20230816T205603Z
UID:4301-1694275200-1694293200@napacart.org
SUMMARY:Harvest of Hope
DESCRIPTION:To benefit Sunrise Horse Rescue\, a California 501(c)(3) non-profit organization\, #42-1746834 \nPlease join us for our annual dinner and auction\, Harvest of Hope! The evening will include: \n\nLive Music during the reception\nHorse Activities for kids of all ages\nSilent & Live Auctions (proxy bids accepted)\nSeated Dinner featuring Napa Valley fine wines\nSpecial Appearances by SHR equine beneficiaries\nAnd more!
URL:https://napacart.org/event/harvest-of-hope/
LOCATION:Blossom Creek Farm\, 3547 CA-128\, Calistoga\, CA\, 94515\, United States
CATEGORIES:Community Events
ATTACH;FMTTYPE=image/jpeg:https://napacart.org/wp-content/uploads/2023/08/harvest-of-hope.jpg
ORGANIZER;CN="Equine Experiences":MAILTO:lindsay@equineexperiences.org
END:VEVENT
BEGIN:VEVENT
DTSTART;TZID=America/Los_Angeles:20230909T080000
DTEND;TZID=America/Los_Angeles:20230909T170000
DTSTAMP:20260420T062119
CREATED:20230818T220255Z
LAST-MODIFIED:20230818T220647Z
UID:4419-1694246400-1694278800@napacart.org
SUMMARY:Community Emergency Response Training Day One
DESCRIPTION:Would you know what to do if we had a major earthquake right now? Would you know how to provide first aid to a loved one\, rescue someone\, or get drinking\nwater? Are you ready to have your life disrupted without help for 24 to 72 hours? \nAs recent disasters and emergencies have demonstrated\, there will not be enough emergency responders to help everyone promptly. You must be able to take care of yourself and your family. As a community\, we must rely on each other for our immediate lifesaving and life-sustaining needs. Napa Valley communities may not have enough emergency help for several days! \nCommunity Emergency Response Training is a nationally recognized emergency training course that teaches essential emergency response skills. Taking and completing the CERT course will give you the skills and confidence necessary to help yourself\, your family\, and your community during a disaster. \nClass 105 will be offered in American Canyon. The training is available free of charge to anyone living in Napa County. To complete the course\, you must\nattend all three sessions.  \nBlock 1 – Emergency Preparedness  Saturday\, September 9\, 2023  8 am – 5 pm\nBlock 2 – Hazard Awareness\nBlock 3 – Disaster First Aid  Saturday\, September 16\, 2023  8 am – 5 pm\nBlock 4 – Emergency Management\nBlock 5 – Final Exercise  Sunday\, September 17\, 2023  8 am – 12 pm \nFor more information or to enroll\, please email the following information to  napacert@aol.com\n–  Complete Name\n–  Contact Number\n–  Complete Address \nClick or press for a PDF of the training flyer to share (opens in a new tab or window)
URL:https://napacart.org/event/cert-class-105-090923/
LOCATION:American Canyon\, CA\, American Canyon\, CA\, United States
CATEGORIES:Community Events
ATTACH;FMTTYPE=image/png:https://napacart.org/wp-content/uploads/2023/08/Class-105-Sep-Am-Can.png
END:VEVENT
END:VCALENDAR