BEGIN:VCALENDAR
VERSION:2.0
PRODID:-//Napa CART - ECPv6.15.20//NONSGML v1.0//EN
CALSCALE:GREGORIAN
METHOD:PUBLISH
X-WR-CALNAME:Napa CART
X-ORIGINAL-URL:https://napacart.org
X-WR-CALDESC:Events for Napa CART
REFRESH-INTERVAL;VALUE=DURATION:PT1H
X-Robots-Tag:noindex
X-PUBLISHED-TTL:PT1H
BEGIN:VTIMEZONE
TZID:America/Los_Angeles
BEGIN:DAYLIGHT
TZOFFSETFROM:-0800
TZOFFSETTO:-0700
TZNAME:PDT
DTSTART:20250309T100000
END:DAYLIGHT
BEGIN:STANDARD
TZOFFSETFROM:-0700
TZOFFSETTO:-0800
TZNAME:PST
DTSTART:20251102T090000
END:STANDARD
BEGIN:DAYLIGHT
TZOFFSETFROM:-0800
TZOFFSETTO:-0700
TZNAME:PDT
DTSTART:20260308T100000
END:DAYLIGHT
BEGIN:STANDARD
TZOFFSETFROM:-0700
TZOFFSETTO:-0800
TZNAME:PST
DTSTART:20261101T090000
END:STANDARD
BEGIN:DAYLIGHT
TZOFFSETFROM:-0800
TZOFFSETTO:-0700
TZNAME:PDT
DTSTART:20270314T100000
END:DAYLIGHT
BEGIN:STANDARD
TZOFFSETFROM:-0700
TZOFFSETTO:-0800
TZNAME:PST
DTSTART:20271107T090000
END:STANDARD
END:VTIMEZONE
BEGIN:VEVENT
DTSTART;TZID=America/Los_Angeles:20260329T093000
DTEND;TZID=America/Los_Angeles:20260329T140000
DTSTAMP:20260420T075444
CREATED:20260109T014059Z
LAST-MODIFIED:20260109T014059Z
UID:5190-1774776600-1774792800@napacart.org
SUMMARY:Companion Animal Intake with CVET assessment
DESCRIPTION:9:30am check in\, 10:00am-2:00pm  \nNapa CART and CVET personnel will train volunteers on shelter intake procedures\, including small animal handling and first aid\, biosecurity\, crate setup\, forms\, and shelter staging and orientation. Napa CART t-shirt\, long pants\, closed toe shoes\, gloves and sun protection recommended. \nThere is pre-work required for this skills training. Please watch CVET: Overview of Triage & Basic First Aid and CVET: Small Animal Triage & Basic First Aid in your My Impact profile prior to this in person training. \nPrerequisites: Review Companion animal intake procedures 2026 \nIf you are new to Napa CART or have never attended a New Volunteer Training\, please also sign up for and attend the New Volunteer Orientation & Awareness on 3/27/26. \nSign up in your MyImpact profile: myimpactpage.com\n(You’ll see the location details displayed in your profile.)
URL:https://napacart.org/event/companion-animal-intake-with-cvet-assessment/
CATEGORIES:Volunteer Training
END:VEVENT
BEGIN:VEVENT
DTSTART;TZID=America/Los_Angeles:20260425T090000
DTEND;TZID=America/Los_Angeles:20260425T150000
DTSTAMP:20260420T075444
CREATED:20260109T232544Z
LAST-MODIFIED:20260109T232544Z
UID:5215-1777107600-1777129200@napacart.org
SUMMARY:ACS Field Operations (ASAR)
DESCRIPTION:This will be an evacuation simulation for a population of mixed animals\, with practice handling and loading animals. With CVET assessment team\, radio communications\, and field fitness assessment. \nPrerequisite: Candidate or Qualified for ACS Field. Some Audit spaces available for new volunteers interested in ACS Field \nPrework: Review 2026 ACS Field Self Study \nSign up in your MyImpact profile: myimpactpage.com\n(You’ll see the location details displayed in your profile.)
URL:https://napacart.org/event/acs-field-operations-asar/
CATEGORIES:Volunteer Training
END:VEVENT
BEGIN:VEVENT
DTSTART;TZID=America/Los_Angeles:20260428T173000
DTEND;TZID=America/Los_Angeles:20260428T193000
DTSTAMP:20260420T075444
CREATED:20260109T233111Z
LAST-MODIFIED:20260112T210101Z
UID:5221-1777397400-1777404600@napacart.org
SUMMARY:PG&E First Responder Safety Training
DESCRIPTION:Learn how to prepare for and respond to natural gas and electric outages\, hazards and emergencies. Register for only one of the three available dates. \nRequirement: Team ACS Field requirement for returning volunteers. Two year qualification.  \nSign up in your MyImpact profile: myimpactpage.com\n(You’ll see the location details displayed in your profile.)
URL:https://napacart.org/event/pge-first-responder-safety-training-042826/
CATEGORIES:Volunteer Training
END:VEVENT
BEGIN:VEVENT
DTSTART;VALUE=DATE:20260516
DTEND;VALUE=DATE:20260517
DTSTAMP:20260420T075444
CREATED:20260112T210005Z
LAST-MODIFIED:20260112T210005Z
UID:5254-1778889600-1778975999@napacart.org
SUMMARY:Large Animal Handling and Movement (Solano CART joint training)
DESCRIPTION:Description to come. Limited space available\, but we will be keeping a wait list. Email info@napacart.org if you are interested but unable to register. \nSign ups open soon in your MyImpact profile: myimpactpage.com
URL:https://napacart.org/event/large-animal-handling-and-movement-solano-cart-joint-training/
CATEGORIES:Volunteer Training
END:VEVENT
BEGIN:VEVENT
DTSTART;TZID=America/Los_Angeles:20260526T173000
DTEND;TZID=America/Los_Angeles:20260526T193000
DTSTAMP:20260420T075444
CREATED:20260112T210229Z
LAST-MODIFIED:20260112T210229Z
UID:5256-1779816600-1779823800@napacart.org
SUMMARY:PG&E First Responder Safety Training
DESCRIPTION:Learn how to prepare for and respond to natural gas and electric outages\, hazards and emergencies. Register for only one of the three available dates. \nRequirement: Team ACS Field requirement for returning volunteers. Two year qualification.  \nSign up in your MyImpact profile: myimpactpage.com\n(You’ll see the location details displayed in your profile.)
URL:https://napacart.org/event/pge-first-responder-safety-training-052626/
CATEGORIES:Volunteer Training
END:VEVENT
BEGIN:VEVENT
DTSTART;TZID=America/Los_Angeles:20260531T090000
DTEND;TZID=America/Los_Angeles:20260531T153000
DTSTAMP:20260420T075444
CREATED:20260112T210749Z
LAST-MODIFIED:20260114T001501Z
UID:5258-1780218000-1780241400@napacart.org
SUMMARY:Command Center Skills
DESCRIPTION:Hands on practice of various roles in or supporting the Command Center\, with a focus on Shelterly proficiency. \nRecommended self-studies: \n\nNapa CART: Command Center 2026\nNapa CART: Hotline\nShelterly: Overview\nNapa CART: Shelterly 2026 – Qualifications (Hotline\, Intake\, Debrief\, Field)\n\nSign up in your MyImpact profile: myimpactpage.com\n(You’ll see the location details displayed in your profile.)
URL:https://napacart.org/event/command-center-skills-2026/
CATEGORIES:Volunteer Training
ATTACH;FMTTYPE=image/jpeg:https://napacart.org/wp-content/uploads/2025/01/dispatch-comm-skills-featured.jpg
END:VEVENT
BEGIN:VEVENT
DTSTART;TZID=America/Los_Angeles:20260620T083000
DTEND;TZID=America/Los_Angeles:20260620T160000
DTSTAMP:20260420T075444
CREATED:20260113T232726Z
LAST-MODIFIED:20260114T000822Z
UID:5268-1781944200-1781971200@napacart.org
SUMMARY:Large animal trailer loading (Solano CART joint training)
DESCRIPTION:Description to come. Limited space available\, but we will be keeping a wait list. Email info@napacart.org if you are interested but unable to register. \nSign up in your MyImpact profile: myimpactpage.com\n(You’ll see the location details displayed in your profile.)
URL:https://napacart.org/event/large-animal-trailer-loading-solano-cart-joint-training/
CATEGORIES:Volunteer Training
ATTACH;FMTTYPE=image/jpeg:https://napacart.org/wp-content/uploads/2026/01/large-animal-trailer-loading-featrued.jpg
END:VEVENT
BEGIN:VEVENT
DTSTART;TZID=America/Los_Angeles:20260623T173000
DTEND;TZID=America/Los_Angeles:20260623T193000
DTSTAMP:20260420T075444
CREATED:20260113T232833Z
LAST-MODIFIED:20260114T001412Z
UID:5270-1782235800-1782243000@napacart.org
SUMMARY:PG&E First Responder Safety Training
DESCRIPTION:Learn how to prepare for and respond to natural gas and electric outages\, hazards and emergencies. Register for only one of the three available dates. \nRequirement: Team ACS Field requirement for returning volunteers. Two year qualification.  \nSign up in your MyImpact profile: myimpactpage.com\n(You’ll see the location details displayed in your profile.)
URL:https://napacart.org/event/pge-first-responder-safety-training-062326/
CATEGORIES:Volunteer Training
END:VEVENT
BEGIN:VEVENT
DTSTART;TZID=America/Los_Angeles:20260711T090000
DTEND;TZID=America/Los_Angeles:20260711T123000
DTSTAMP:20260420T075444
CREATED:20260113T233738Z
LAST-MODIFIED:20260310T004936Z
UID:5274-1783760400-1783773000@napacart.org
SUMMARY:Animal Transport
DESCRIPTION:With a recent vehicle and/or trailer inspection in hand\, volunteers can learn techniques for and test to become certified to haul trailers with Napa CART. A CART trailer will be onsite for those who don’t have their own trailer to test with. \nRequirement: 5 year qualification for Trailer Safety & Maneuvering. \nPrerequisites: Vehicle and/or trailer inspection completed in advance.  \nRecommended self-studies: Hauling: Truck & Trailer Qualification (slides)\, Vehicle and Trailer Inspection\, Hauling: Truck & Trailer Qualification (slides) \nSign up in your MyImpact profile: myimpactpage.com\n(You’ll see the location details displayed in your profile.)
URL:https://napacart.org/event/animal-transport/
CATEGORIES:Volunteer Training
END:VEVENT
BEGIN:VEVENT
DTSTART;VALUE=DATE:20260718
DTEND;VALUE=DATE:20260719
DTSTAMP:20260420T075444
CREATED:20260113T234130Z
LAST-MODIFIED:20260113T234130Z
UID:5276-1784332800-1784419199@napacart.org
SUMMARY:Camelid Training with Solano CART
DESCRIPTION:This training activity will prepare CART volunteers for supporting Camelids species (Llama\, Alpaca) in the field or in a shelter. Volunteers will cover basic anatomy\, husbandry\, behavior\, handling\, and special considerations for this group. The activity will also include opportunities for hands-on work with docile examples of the species. \nLimited space available\, but we will be keeping a wait list. Email info@napacart.org if you are interested but unable to register. \nSign up in your MyImpact profile: myimpactpage.com\n(You’ll see the location details displayed in your profile.)
URL:https://napacart.org/event/camelid-training-with-solano-cart-071826/
CATEGORIES:Volunteer Training
ATTACH;FMTTYPE=image/jpeg:https://napacart.org/wp-content/uploads/2023/08/alpaca-pair.jpg
END:VEVENT
BEGIN:VEVENT
DTSTART;VALUE=DATE:20260815
DTEND;VALUE=DATE:20260816
DTSTAMP:20260420T075444
CREATED:20260120T234750Z
LAST-MODIFIED:20260120T234840Z
UID:5301-1786752000-1786838399@napacart.org
SUMMARY:Animal assessment and triage (Solano CART joint training)
DESCRIPTION:Description to come. Limited space available\, but we will be keeping a wait list. Email info@napacart.org if you are interested but unable to register. \nSign up in your MyImpact profile: myimpactpage.com\n(You’ll see the location details displayed in your profile.)
URL:https://napacart.org/event/animal-assessment-and-triage-solano-cart-joint-training/
CATEGORIES:Volunteer Training
END:VEVENT
BEGIN:VEVENT
DTSTART;TZID=America/Los_Angeles:20260816T083000
DTEND;TZID=America/Los_Angeles:20260816T113000
DTSTAMP:20260420T075444
CREATED:20260310T005428Z
LAST-MODIFIED:20260310T005428Z
UID:5372-1786869000-1786879800@napacart.org
SUMMARY:Equine shelter set up
DESCRIPTION:Equine shelter panel set up at the equine specific shelter. \nPlease come dressed for the weather and for field work in CART gear. Bring\, gloves\, hats\, sunscreen\, boots\, water bottles\, and any other necessities. Consider this your workout for the day! Once we finish up\, we’ll gather for a casual potluck. Bring your favorite finger food\, dessert\, or beverage to share.  \nSign up in your MyImpact profile: myimpactpage.com\n(You’ll see the location details displayed in your profile.)
URL:https://napacart.org/event/equine-shelter-set-up/
CATEGORIES:Volunteer Training
ATTACH;FMTTYPE=image/jpeg:https://napacart.org/wp-content/uploads/2026/01/shelter-nvha.jpg
END:VEVENT
BEGIN:VEVENT
DTSTART;TZID=America/Los_Angeles:20261128T100000
DTEND;TZID=America/Los_Angeles:20261128T130000
DTSTAMP:20260420T075444
CREATED:20260127T232151Z
LAST-MODIFIED:20260127T234518Z
UID:5351-1795860000-1795870800@napacart.org
SUMMARY:Equine shelter panels take down
DESCRIPTION:This activity is the final step of shutting down the large animal shelter for the season. We will tidy up the pasture\, disassemble panels from pens\, prepare panels for storage\, and clean/store remaining gear into the storage container. \nPlease come dressed for the weather and for field work in CART gear. Bring\, gloves\, hats\, sunscreen\, boots\, water bottles\, and any other necessities. Consider this your workout for the day! Once we finish up\, we’ll gather for a casual potluck. Bring your favorite finger food\, dessert\, or beverage to share.  \nSign up in your MyImpact profile: myimpactpage.com\n(You’ll see the location details displayed in your profile.)
URL:https://napacart.org/event/equine-shelter-panels-take-down/
CATEGORIES:Volunteer Training
ATTACH;FMTTYPE=image/jpeg:https://napacart.org/wp-content/uploads/2026/01/shelter-nvha.jpg
END:VEVENT
BEGIN:VEVENT
DTSTART;TZID=America/Los_Angeles:20261212T120000
DTEND;TZID=America/Los_Angeles:20261212T140000
DTSTAMP:20260420T075444
CREATED:20260220T224751Z
LAST-MODIFIED:20260220T224857Z
UID:5355-1797076800-1797084000@napacart.org
SUMMARY:Volunteer Appreciation Luncheon
DESCRIPTION:Napa CART & Napa County CERT’s Annual Volunteer Appreciation Luncheon \nRSVP in your MyImpact profile: myimpactpage.com or email info@napacart.org for more information.
URL:https://napacart.org/event/volunteer-appreciation-luncheon-121226/
CATEGORIES:Volunteer Event,Volunteer Training
ATTACH;FMTTYPE=image/jpeg:https://napacart.org/wp-content/uploads/2025/02/volunteer-appreciation.jpg
END:VEVENT
END:VCALENDAR