BEGIN:VCALENDAR
VERSION:2.0
PRODID:-//Napa CART - ECPv6.15.20//NONSGML v1.0//EN
CALSCALE:GREGORIAN
METHOD:PUBLISH
X-ORIGINAL-URL:https://napacart.org
X-WR-CALDESC:Events for Napa CART
REFRESH-INTERVAL;VALUE=DURATION:PT1H
X-Robots-Tag:noindex
X-PUBLISHED-TTL:PT1H
BEGIN:VTIMEZONE
TZID:America/Los_Angeles
BEGIN:DAYLIGHT
TZOFFSETFROM:-0800
TZOFFSETTO:-0700
TZNAME:PDT
DTSTART:20230312T100000
END:DAYLIGHT
BEGIN:STANDARD
TZOFFSETFROM:-0700
TZOFFSETTO:-0800
TZNAME:PST
DTSTART:20231105T090000
END:STANDARD
BEGIN:DAYLIGHT
TZOFFSETFROM:-0800
TZOFFSETTO:-0700
TZNAME:PDT
DTSTART:20240310T100000
END:DAYLIGHT
BEGIN:STANDARD
TZOFFSETFROM:-0700
TZOFFSETTO:-0800
TZNAME:PST
DTSTART:20241103T090000
END:STANDARD
BEGIN:DAYLIGHT
TZOFFSETFROM:-0800
TZOFFSETTO:-0700
TZNAME:PDT
DTSTART:20250309T100000
END:DAYLIGHT
BEGIN:STANDARD
TZOFFSETFROM:-0700
TZOFFSETTO:-0800
TZNAME:PST
DTSTART:20251102T090000
END:STANDARD
BEGIN:DAYLIGHT
TZOFFSETFROM:-0800
TZOFFSETTO:-0700
TZNAME:PDT
DTSTART:20260308T100000
END:DAYLIGHT
BEGIN:STANDARD
TZOFFSETFROM:-0700
TZOFFSETTO:-0800
TZNAME:PST
DTSTART:20261101T090000
END:STANDARD
BEGIN:DAYLIGHT
TZOFFSETFROM:-0800
TZOFFSETTO:-0700
TZNAME:PDT
DTSTART:20270314T100000
END:DAYLIGHT
BEGIN:STANDARD
TZOFFSETFROM:-0700
TZOFFSETTO:-0800
TZNAME:PST
DTSTART:20271107T090000
END:STANDARD
END:VTIMEZONE
BEGIN:VEVENT
DTSTART;TZID=America/Los_Angeles:20241207T120000
DTEND;TZID=America/Los_Angeles:20241207T140000
DTSTAMP:20260420T200451
CREATED:20240223T002907Z
LAST-MODIFIED:20240223T003201Z
UID:4573-1733572800-1733580000@napacart.org
SUMMARY:Volunteer Appreciation Celebration
DESCRIPTION:The volunteers of Napa CART will be treated to a lavish catered lunch and celebration as a thank you for all their efforts and time put forth this year.
URL:https://napacart.org/event/volunteer-appreciation-celebration/
LOCATION:Napa Valley College\, 2277 Napa-Vallejo Highway\, Napa\, CA\, United States
CATEGORIES:Event,Volunteer Training
END:VEVENT
BEGIN:VEVENT
DTSTART;TZID=America/Los_Angeles:20250215T083000
DTEND;TZID=America/Los_Angeles:20250215T123000
DTSTAMP:20260420T200451
CREATED:20250207T191243Z
LAST-MODIFIED:20250207T192927Z
UID:5037-1739608200-1739622600@napacart.org
SUMMARY:CERT Skills Update Training
DESCRIPTION:See Napa CERT Calendar @ NVC \nSign up in your MyImpact profile: myimpactpage.com
URL:https://napacart.org/event/cert-skills-update-training-021525/
LOCATION:Napa Valley College\, 2277 Napa-Vallejo Highway\, Napa\, CA\, United States
CATEGORIES:Volunteer Training
END:VEVENT
BEGIN:VEVENT
DTSTART;TZID=America/Los_Angeles:20250223T110000
DTEND;TZID=America/Los_Angeles:20250223T130000
DTSTAMP:20260420T200451
CREATED:20250207T191607Z
LAST-MODIFIED:20250207T192818Z
UID:5041-1740308400-1740315600@napacart.org
SUMMARY:Animal Technical Rescue Team (ATR)
DESCRIPTION:Small group of certified technicians meeting to practice technical rescue scenarios on mannequin in conjunction with Large Animal evacuation exercises to be conducted at various local sites. \nSign up in your MyImpact profile: myimpactpage.com
URL:https://napacart.org/event/animal-technical-rescue-team-022325/
CATEGORIES:Volunteer Training
END:VEVENT
BEGIN:VEVENT
DTSTART;TZID=America/Los_Angeles:20250323T110000
DTEND;TZID=America/Los_Angeles:20250323T130000
DTSTAMP:20260420T200451
CREATED:20250207T191658Z
LAST-MODIFIED:20250307T221707Z
UID:5043-1742727600-1742734800@napacart.org
SUMMARY:Animal Technical Rescue Team (ATR)
DESCRIPTION:Small group of certified technicians meeting to practice technical rescue scenarios on mannequin in conjunction with Large Animal evacuation exercises to be conducted at various local sites. \nSign up in your MyImpact profile: myimpactpage.com
URL:https://napacart.org/event/animal-technical-rescue-team-032325/
CATEGORIES:Volunteer Training
ATTACH;FMTTYPE=image/jpeg:https://napacart.org/wp-content/uploads/2023/08/volunteer-training-ATR.jpg
END:VEVENT
BEGIN:VEVENT
DTSTART;TZID=America/Los_Angeles:20250328T170000
DTEND;TZID=America/Los_Angeles:20250328T193000
DTSTAMP:20260420T200451
CREATED:20250111T004137Z
LAST-MODIFIED:20250124T201250Z
UID:4902-1743181200-1743190200@napacart.org
SUMMARY:Annual New Volunteer Training
DESCRIPTION:5:00p Check in\n5:30-7:30p : New Volunteer Orientation & Awareness – Provides basic overview of volunteer roles and training tracks within CART.\nVia Zoom \nSign up in your MyImpact profile: myimpactpage.com
URL:https://napacart.org/event/annual-new-volunteer-training-2025/
CATEGORIES:Volunteer Training
ATTACH;FMTTYPE=image/jpeg:https://napacart.org/wp-content/uploads/2025/01/join-us-goats.jpg
END:VEVENT
BEGIN:VEVENT
DTSTART;TZID=America/Los_Angeles:20250329T080000
DTEND;TZID=America/Los_Angeles:20250329T173000
DTSTAMP:20260420T200451
CREATED:20250111T004516Z
LAST-MODIFIED:20250124T201204Z
UID:4904-1743235200-1743269400@napacart.org
SUMMARY:Annual Returning Volunteer Training Day One
DESCRIPTION:8:00a Check in \n8:30a-9:30a Returning Volunteers Updates: Napa CART Returning Volunteers will receive an annual recap including info from Napa CART\, CVET and Cal CARTs. In addition\, volunteers will be updated with the new training calendar\, training requirements and training formats. Better Impact and reciprocity training updates will be shared as well as the annual safety training necessary for all CART members. \n9:30a-12:30p Equine Shelter: Returning Napa CART volunteers will receive updated resources\, techniques and protocols including those covering newly developed equine care information. Equine shelter staging/operations\, husbandry\, basic handling and first aid will be covered. In addition\, attendees will receive key updates to Napa CART participation and training requirements.\n@ NVHA \n1:30p-3:00p Livestock Shelter: Returning Napa CART volunteers will receive updated resources\, techniques and protocols including those covering newly developed care information for livestock species. Livestock shelter staging/operations\, husbandry\, basic handling and first aid will be covered. In addition\, attendees will receive key updates to Napa CART participation and training requirements. @ Expo \n3:30p-5:30p Comp Anim Shelter: Napa County Animal Shelter and Napa CART personnel will train volunteers on companion animal care protocols\, biosecurity\, crate setup\, forms\, and shelter\nstaging and orientation. In addition\, small animal handling and first aid will also be covered. @ TBA \nSign up in your MyImpact profile: myimpactpage.com
URL:https://napacart.org/event/annual-returning-volunteer-training-2025-day-one/
CATEGORIES:Volunteer Training
ATTACH;FMTTYPE=image/jpeg:https://napacart.org/wp-content/uploads/2025/01/join-us-goats.jpg
END:VEVENT
BEGIN:VEVENT
DTSTART;TZID=America/Los_Angeles:20250330T080000
DTEND;TZID=America/Los_Angeles:20250330T150000
DTSTAMP:20260420T200451
CREATED:20250111T004652Z
LAST-MODIFIED:20250124T201421Z
UID:4906-1743321600-1743346800@napacart.org
SUMMARY:Annual Returning Volunteer Training Day Two
DESCRIPTION:8:00a Check In \n8:20-12:30p Command Center Overview & Technology: Learn all about how the Napa CART Command Center operates. This training includes an overview of all the Command Center roles and associated responsibilities\, so you can decide which roles may be a good fit for you.  \nThe main focus of this training is in-depth look at how Napa CART uses Shelterly and SARTopo to support hotline operations\, intake of animals at the shelter\, and dispatch/debrief of ASAR teams. Hands-on practice time will allow you to complete some tasks in Shelterly and SARTopo \n1:00-3:00p Radio Comms: Volunteers will learn about the different types of radios used in CART operations\, as well as protocols and best practices for radio communications. You’ll learn\nhow to handle common radio problems\, and you’ll practice talking over the radio. This training is required for  all ASAR field radio operators\, and highly recommended for all CART volunteers. @ NVHA \nSign up in your MyImpact profile: myimpactpage.com
URL:https://napacart.org/event/annual-returning-volunteer-training-day-2025-day-two/
CATEGORIES:Volunteer Training
ATTACH;FMTTYPE=image/jpeg:https://napacart.org/wp-content/uploads/2025/01/join-us-goats.jpg
END:VEVENT
BEGIN:VEVENT
DTSTART;TZID=America/Los_Angeles:20250426T090000
DTEND;TZID=America/Los_Angeles:20250426T123000
DTSTAMP:20260420T200451
CREATED:20250115T012254Z
LAST-MODIFIED:20250423T171857Z
UID:4950-1745658000-1745670600@napacart.org
SUMMARY:Command Center Skills
DESCRIPTION:Join us for a hands-on practice session with Shelterly and SARTopo. You will be able to practice scenarios in the any or all of the roles of hotline operator\, intake specialist\, dispatcher/debriefer\, and SARTopo technician. We’ll also have a non-software station for practicing filling out T-Cards and updating the tracking board. \nThis training builds on the basic skills taught in the 3/30/25 “Command Center Overview and Technology” training – it will cover more features\, more complex tasks\, and tips & tricks. If you want to be prepared to use Shelterly and SARTopo in a real incident\, this training is for you. \nSign up in your MyImpact profile: myimpactpage.com
URL:https://napacart.org/event/command-center-skills/
LOCATION:Napa Valley Horsemen’s Association\, 1200 Foster Rd\, Napa\, 94558\, United States
CATEGORIES:Volunteer Training
ATTACH;FMTTYPE=image/jpeg:https://napacart.org/wp-content/uploads/2025/01/dispatch-comm-skills-featured.jpg
END:VEVENT
BEGIN:VEVENT
DTSTART;TZID=America/Los_Angeles:20250426T090000
DTEND;TZID=America/Los_Angeles:20250426T150000
DTSTAMP:20260420T200451
CREATED:20250111T014409Z
LAST-MODIFIED:20250207T184916Z
UID:4917-1745658000-1745679600@napacart.org
SUMMARY:Hauling Certification
DESCRIPTION:This event is the in-person hauling certification test that qualifies you to take your vehicle behind the evacuation lines\, or to pull any of the Napa CART trailers. \nSign up in your MyImpact profile: myimpactpage.com
URL:https://napacart.org/event/hauling-certification-042625/
LOCATION:Napa Valley College\, 2277 Napa-Vallejo Highway\, Napa\, CA\, United States
CATEGORIES:Volunteer Training
ATTACH;FMTTYPE=image/jpeg:https://napacart.org/wp-content/uploads/2025/01/vehicle-hauling-certification.jpg
END:VEVENT
BEGIN:VEVENT
DTSTART;TZID=America/Los_Angeles:20250427T090000
DTEND;TZID=America/Los_Angeles:20250427T170000
DTSTAMP:20260420T200451
CREATED:20250111T014848Z
LAST-MODIFIED:20250122T002015Z
UID:4919-1745744400-1745773200@napacart.org
SUMMARY:ASAR Livestock Skills
DESCRIPTION:ASAR Livestock Training will be aimed for ASAR staff to get fully acquainted with the livestock species encountered in Napa County including pigs\, goats\, sheep\, fowl and other livestock. Topics covered will include anatomy\, husbandry\, handling/restraint\, evaluation\, basic first aid and evacuation. Drills with live animals will help cement physical skills. @ Charlies Acres \nSign up in your MyImpact profile: myimpactpage.com
URL:https://napacart.org/event/asar-livestock-skills-042725/
CATEGORIES:Volunteer Training
ATTACH;FMTTYPE=image/jpeg:https://napacart.org/wp-content/uploads/2024/02/chicken.jpg
END:VEVENT
BEGIN:VEVENT
DTSTART;TZID=America/Los_Angeles:20250504T130000
DTEND;TZID=America/Los_Angeles:20250504T150000
DTSTAMP:20260420T200451
CREATED:20250423T173527Z
LAST-MODIFIED:20250423T173527Z
UID:5075-1746363600-1746370800@napacart.org
SUMMARY:Fireline Safety & All Hazards Training
DESCRIPTION:This training is via Zoom. \nSign up in your MyImpact profile: myimpactpage.com
URL:https://napacart.org/event/fireline-safety-all-hazards-training/
CATEGORIES:Volunteer Training
ATTACH;FMTTYPE=image/jpeg:https://napacart.org/wp-content/uploads/2025/04/claudia-sonder-training.jpg
END:VEVENT
BEGIN:VEVENT
DTSTART;TZID=America/Los_Angeles:20250629T110000
DTEND;TZID=America/Los_Angeles:20250629T130000
DTSTAMP:20260420T200451
CREATED:20250207T191755Z
LAST-MODIFIED:20250307T222213Z
UID:5045-1751194800-1751202000@napacart.org
SUMMARY:Animal Technical Rescue Team (ATR)
DESCRIPTION:Small group of certified technicians meeting to practice technical rescue scenarios on mannequin in conjunction with Large Animal evacuation exercises to be conducted at various local sites. \nSign up in your MyImpact profile: myimpactpage.com
URL:https://napacart.org/event/animal-technical-rescue-team-062925/
CATEGORIES:Volunteer Training
ATTACH;FMTTYPE=image/jpeg:https://napacart.org/wp-content/uploads/2023/08/volunteer-training-ATR.jpg
END:VEVENT
BEGIN:VEVENT
DTSTART;TZID=America/Los_Angeles:20250726T090000
DTEND;TZID=America/Los_Angeles:20250726T123000
DTSTAMP:20260420T200451
CREATED:20250117T012234Z
LAST-MODIFIED:20250122T010632Z
UID:4962-1753520400-1753533000@napacart.org
SUMMARY:ASAR Equine Skills
DESCRIPTION:ASAR Equine Skills Training will be aimed for ASAR staff to get better acquainted with equine anatomy\, behavior\, handling and first aid. Drills with live animals will help cement physical skills. @ TBA \nSign up in your MyImpact profile: myimpactpage.com
URL:https://napacart.org/event/asar-equine-skills/
CATEGORIES:Volunteer Training
ATTACH;FMTTYPE=image/jpeg:https://napacart.org/wp-content/uploads/2025/01/equine-skills-featured.jpg
END:VEVENT
BEGIN:VEVENT
DTSTART;TZID=America/Los_Angeles:20250727T110000
DTEND;TZID=America/Los_Angeles:20250727T130000
DTSTAMP:20260420T200451
CREATED:20250207T191840Z
LAST-MODIFIED:20250307T222246Z
UID:5047-1753614000-1753621200@napacart.org
SUMMARY:Animal Technical Rescue Team (ATR)
DESCRIPTION:Small group of certified technicians meeting to practice technical rescue scenarios on mannequin in conjunction with Large Animal evacuation exercises to be conducted at various local sites. \nSign up in your MyImpact profile: myimpactpage.com
URL:https://napacart.org/event/animal-technical-rescue-team-072725/
CATEGORIES:Volunteer Training
ATTACH;FMTTYPE=image/jpeg:https://napacart.org/wp-content/uploads/2023/08/volunteer-training-ATR.jpg
END:VEVENT
BEGIN:VEVENT
DTSTART;TZID=America/Los_Angeles:20250823T090000
DTEND;TZID=America/Los_Angeles:20250823T130000
DTSTAMP:20260420T200451
CREATED:20250122T010708Z
LAST-MODIFIED:20250124T203508Z
UID:4987-1755939600-1755954000@napacart.org
SUMMARY:Skills Practice
DESCRIPTION:Activity Pending @ TBA \nSign up in your MyImpact profile: myimpactpage.com
URL:https://napacart.org/event/skills-practice-082325/
CATEGORIES:Volunteer Training
END:VEVENT
BEGIN:VEVENT
DTSTART;TZID=America/Los_Angeles:20250824T110000
DTEND;TZID=America/Los_Angeles:20250824T130000
DTSTAMP:20260420T200451
CREATED:20250207T191926Z
LAST-MODIFIED:20250307T230500Z
UID:5049-1756033200-1756040400@napacart.org
SUMMARY:Animal Technical Rescue Team (ATR)
DESCRIPTION:Small group of certified technicians meeting to practice technical rescue scenarios on mannequin in conjunction with Large Animal evacuation exercises to be conducted at various local sites. \nSign up in your MyImpact profile: myimpactpage.com
URL:https://napacart.org/event/animal-technical-rescue-team-082425/
CATEGORIES:Volunteer Training
ATTACH;FMTTYPE=image/jpeg:https://napacart.org/wp-content/uploads/2023/08/volunteer-training-ATR.jpg
END:VEVENT
BEGIN:VEVENT
DTSTART;VALUE=DATE:20250920
DTEND;VALUE=DATE:20250921
DTSTAMP:20260420T200451
CREATED:20250124T203452Z
LAST-MODIFIED:20250124T203452Z
UID:5006-1758326400-1758412799@napacart.org
SUMMARY:Camelid Training with Solano CART
DESCRIPTION:This training activity will prepare CART volunteers for supporting Camelids species (Camels\, Llama\, Alpaca\, Vicuna) in the field or in a shelter. Volunteers will cover basic anatomy\, husbandry\, behavior\, handling and special considerations for this group. The activity will also include opportunities for hands on work with docile examples of the species. @ TBA \nSign up in your MyImpact profile: myimpactpage.com
URL:https://napacart.org/event/camelid-training-with-solano-cart-092025/
CATEGORIES:Volunteer Training
ATTACH;FMTTYPE=image/jpeg:https://napacart.org/wp-content/uploads/2025/01/IMG_0639.jpg
END:VEVENT
BEGIN:VEVENT
DTSTART;TZID=America/Los_Angeles:20250928T110000
DTEND;TZID=America/Los_Angeles:20250928T130000
DTSTAMP:20260420T200451
CREATED:20250207T192007Z
LAST-MODIFIED:20250307T230620Z
UID:5051-1759057200-1759064400@napacart.org
SUMMARY:Animal Technical Rescue Team (ATR)
DESCRIPTION:Small group of certified technicians meeting to practice technical rescue scenarios on mannequin in conjunction with Large Animal evacuation exercises to be conducted at various local sites. \nSign up in your MyImpact profile: myimpactpage.com
URL:https://napacart.org/event/animal-technical-rescue-team-092825/
CATEGORIES:Volunteer Training
ATTACH;FMTTYPE=image/jpeg:https://napacart.org/wp-content/uploads/2023/08/volunteer-training-ATR.jpg
END:VEVENT
BEGIN:VEVENT
DTSTART;TZID=America/Los_Angeles:20251018T083000
DTEND;TZID=America/Los_Angeles:20251018T113000
DTSTAMP:20260420T200451
CREATED:20250207T191402Z
LAST-MODIFIED:20250207T195351Z
UID:5039-1760776200-1760787000@napacart.org
SUMMARY:Napa CERT County Wide Exercise
DESCRIPTION:See Napa CERT calendar: https://www.countyofnapa.org/2525/Training-Opportunities
URL:https://napacart.org/event/napa-cert-county-wide-exercise-101825/
CATEGORIES:Volunteer Training
ATTACH;FMTTYPE=image/png:https://napacart.org/wp-content/uploads/2018/06/CERT-logo-e1528810581349.png
END:VEVENT
BEGIN:VEVENT
DTSTART;TZID=America/Los_Angeles:20251026T110000
DTEND;TZID=America/Los_Angeles:20251026T130000
DTSTAMP:20260420T200451
CREATED:20250207T192043Z
LAST-MODIFIED:20250307T230658Z
UID:5053-1761476400-1761483600@napacart.org
SUMMARY:Animal Technical Rescue Team (ATR)
DESCRIPTION:Small group of certified technicians meeting to practice technical rescue scenarios on mannequin in conjunction with Large Animal evacuation exercises to be conducted at various local sites. \nSign up in your MyImpact profile: myimpactpage.com
URL:https://napacart.org/event/animal-technical-rescue-team-102625/
CATEGORIES:Volunteer Training
ATTACH;FMTTYPE=image/jpeg:https://napacart.org/wp-content/uploads/2023/08/volunteer-training-ATR.jpg
END:VEVENT
BEGIN:VEVENT
DTSTART;TZID=America/Los_Angeles:20251109T100000
DTEND;TZID=America/Los_Angeles:20251109T130000
DTSTAMP:20260420T200451
CREATED:20251031T234946Z
LAST-MODIFIED:20251031T234946Z
UID:5127-1762682400-1762693200@napacart.org
SUMMARY:Equine Shelter Evacuation Exercise
DESCRIPTION:Please park down by arena. We will be simulating deployment from activation to unification. Please come dressed in appropriate PPE’s and bring your go bag(s). Water and snacks will be provided. \nSign up in your MyImpact profile: myimpactpage.com
URL:https://napacart.org/event/equine-shelter-evacuation-exercise-110925/
LOCATION:Napa Valley Horsemen’s Association\, 1200 Foster Rd\, Napa\, 94558\, United States
CATEGORIES:Volunteer Training
ATTACH;FMTTYPE=image/jpeg:https://napacart.org/wp-content/uploads/2020/04/horses-1.jpg
END:VEVENT
BEGIN:VEVENT
DTSTART;TZID=America/Los_Angeles:20251123T110000
DTEND;TZID=America/Los_Angeles:20251123T130000
DTSTAMP:20260420T200451
CREATED:20250207T192122Z
LAST-MODIFIED:20250307T230742Z
UID:5055-1763895600-1763902800@napacart.org
SUMMARY:Animal Technical Rescue Team (ATR)
DESCRIPTION:Small group of certified technicians meeting to practice technical rescue scenarios on mannequin in conjunction with Large Animal evacuation exercises to be conducted at various local sites. \nSign up in your MyImpact profile: myimpactpage.com
URL:https://napacart.org/event/animal-technical-rescue-team-112325/
CATEGORIES:Volunteer Training
ATTACH;FMTTYPE=image/jpeg:https://napacart.org/wp-content/uploads/2023/08/volunteer-training-ATR.jpg
END:VEVENT
BEGIN:VEVENT
DTSTART;TZID=America/Los_Angeles:20251129T100000
DTEND;TZID=America/Los_Angeles:20251129T123000
DTSTAMP:20260420T200451
CREATED:20250207T192411Z
LAST-MODIFIED:20250307T220512Z
UID:5057-1764410400-1764419400@napacart.org
SUMMARY:Livestock Shelter Panels Take Down
DESCRIPTION:This activity is the finale to livestock shelter shut down. During this morning\, we will tidy up the pasture\, disassemble panels from pens\, prepare panels for storage and clean/store remaining gear into container. \nPlease come dressed for the weather and for field work in CART gear and bring\, gloves\,hats\, sunscreen\, boots water bottles and any other necessities. Consider this your workout for the day team. Once we finish up\, we can gather for an impromptu potluck. Bring your favorite finger food\, dessert or beverage to share. @ NVHA w/potluck lunch \nSign up in your MyImpact profile: myimpactpage.com
URL:https://napacart.org/event/livestock-shelter-panels-take-down-112925/
LOCATION:Napa Valley Horsemen’s Association\, 1200 Foster Rd\, Napa\, 94558\, United States
CATEGORIES:Volunteer Training
ATTACH;FMTTYPE=image/jpeg:https://napacart.org/wp-content/uploads/2020/08/Volunteer_pg_add2.jpg
END:VEVENT
BEGIN:VEVENT
DTSTART;TZID=America/Los_Angeles:20260114T180000
DTEND;TZID=America/Los_Angeles:20260114T193000
DTSTAMP:20260420T200451
CREATED:20260109T004944Z
LAST-MODIFIED:20260109T005123Z
UID:5164-1768413600-1768419000@napacart.org
SUMMARY:Napa CART ACS Field/ASAR Get-Together
DESCRIPTION:A casual get-together for ACS Field (formerly ASAR). We’ll have the opportunity to get reacquainted for 2026\, and will discuss roles\, qualifications\, equipment\, forms\, as well as the new fitness standard. If you have any questions that need to be addressed\, bring them to the meeting\, as others may have same or similar questions. \nSign up in your MyImpact profile: myimpactpage.com\n(You’ll see the location details displayed in your profile.)
URL:https://napacart.org/event/napa-cart-acs-field-asar-get-together/
CATEGORIES:Volunteer Training
END:VEVENT
BEGIN:VEVENT
DTSTART;TZID=America/Los_Angeles:20260125T110000
DTEND;TZID=America/Los_Angeles:20260125T130000
DTSTAMP:20260420T200451
CREATED:20260109T005339Z
LAST-MODIFIED:20260109T231642Z
UID:5168-1769338800-1769346000@napacart.org
SUMMARY:Animal Technical Rescue Team (ATR)
DESCRIPTION:This is the regular monthly training for the approved Animal Technical Rescue (ATR) team. Topics will vary by month. \nActivity: Small group of certified technicians meeting outdoors to practice technical rescue scenarios on a mannequin in conjunction with Large Animal Evacuation exercises. \nPrerequisites: Current Animal Technical Rescue Certification\, Team ATR \nSign up in your MyImpact profile: myimpactpage.com\n(You’ll see the location details displayed in your profile.)
URL:https://napacart.org/event/animal-technical-rescue-team-atr-012526/
CATEGORIES:Volunteer Training
ATTACH;FMTTYPE=image/jpeg:https://napacart.org/wp-content/uploads/2026/01/ATR-practice-aug2025-1.jpg
END:VEVENT
BEGIN:VEVENT
DTSTART;TZID=America/Los_Angeles:20260221T083000
DTEND;TZID=America/Los_Angeles:20260221T123000
DTSTAMP:20260420T200451
CREATED:20260109T011209Z
LAST-MODIFIED:20260121T000209Z
UID:5180-1771662600-1771677000@napacart.org
SUMMARY:Basic First Aid\, Head to Toe Assessment\, and Cribbing Skills
DESCRIPTION:To attend\, you must have completed your CERT basic training. More information here: https://www.napacounty.gov/362/Community-Emergency-Response-Team-CERT \nRemember to bring your CERT vest and note-taking materials and wear long pants and dress for the weather. We look forward to seeing you there! \nSign up in your MyImpact profile: myimpactpage.com\n(You’ll see the location details displayed in your profile.)
URL:https://napacart.org/event/basic-first-aid-head-to-toe-assessment-cribbing-skills/
CATEGORIES:Volunteer Training
END:VEVENT
BEGIN:VEVENT
DTSTART;TZID=America/Los_Angeles:20260221T083000
DTEND;TZID=America/Los_Angeles:20260221T170000
DTSTAMP:20260420T200451
CREATED:20260109T005716Z
LAST-MODIFIED:20260120T234339Z
UID:5170-1771662600-1771693200@napacart.org
SUMMARY:ACS Field Livestock Skills: FAI
DESCRIPTION:The Farmed Animal Immersive (FAI) is a one-of-a-kind\, full-day training designed specifically for Disaster Service Workers (DSWs). This hands-on\, immersive experience equips participants with species-specific knowledge\, essential skills\, and the confidence to assess\, handle\, and respond effectively to the unique needs of farmed animals. \nThrough real-life situational drills and immersive learning with farmed animals\, responders strengthen their readiness to manage challenging rescue scenarios involving pigs\, goats\, sheep\, cows\, birds\, including animals with special needs or behavioral challenges. Training takes place in a safe\, controlled\, and supportive environment and is designed to complement existing CART and DSW fieldwork while prioritizing safety\, animal welfare\, and real-world application. \nDates: February 21\, March 7\, and March 14\, 2026\nSpace limited. Priority given to attendees who didn’t attend in 2025; 2026 attendees can sign up and be added to the wait list. Register for one date of the three available.  \nRequirement: Team ACS Field requirement for returning volunteers. Two year qualification.\nPrerequisite: Qualified for ACS field or ACS Shelter Large Animal \nIf interested\, email info@napacart.org
URL:https://napacart.org/event/acs-field-livestock-skills-fai-022126/
CATEGORIES:Volunteer Training
END:VEVENT
BEGIN:VEVENT
DTSTART;TZID=America/Los_Angeles:20260222T110000
DTEND;TZID=America/Los_Angeles:20260222T130000
DTSTAMP:20260420T200451
CREATED:20260109T011504Z
LAST-MODIFIED:20260109T231711Z
UID:5182-1771758000-1771765200@napacart.org
SUMMARY:Animal Technical Rescue Team (ATR)
DESCRIPTION:This is the regular monthly training for the approved Animal Technical Rescue (ATR) team. Topics will vary by month. \nActivity: Small group of certified technicians meeting outdoors to practice technical rescue scenarios on a mannequin in conjunction with Large Animal Evacuation exercises. \nPrerequisites: Current Animal Technical Rescue Certification\, Team ATR \nSign up in your MyImpact profile: myimpactpage.com\n(You’ll see the location details displayed in your profile.)
URL:https://napacart.org/event/animal-technical-rescue-team-atr-022226/
CATEGORIES:Volunteer Training
ATTACH;FMTTYPE=image/jpeg:https://napacart.org/wp-content/uploads/2026/01/ATR-practice-aug2025-1.jpg
END:VEVENT
BEGIN:VEVENT
DTSTART;TZID=America/Los_Angeles:20260307T083000
DTEND;TZID=America/Los_Angeles:20260307T170000
DTSTAMP:20260420T200451
CREATED:20260109T010423Z
LAST-MODIFIED:20260120T234404Z
UID:5174-1772872200-1772902800@napacart.org
SUMMARY:ACS Field Livestock Skills: FAI
DESCRIPTION:The Farmed Animal Immersive (FAI) is a one-of-a-kind\, full-day training designed specifically for Disaster Service Workers (DSWs). This hands-on\, immersive experience equips participants with species-specific knowledge\, essential skills\, and the confidence to assess\, handle\, and respond effectively to the unique needs of farmed animals. \nThrough real-life situational drills and immersive learning with farmed animals\, responders strengthen their readiness to manage challenging rescue scenarios involving pigs\, goats\, sheep\, cows\, birds\, including animals with special needs or behavioral challenges. Training takes place in a safe\, controlled\, and supportive environment and is designed to complement existing CART and DSW fieldwork while prioritizing safety\, animal welfare\, and real-world application. \nDates: February 21\, March 7\, and March 14\, 2026\nSpace limited. Priority given to attendees who didn’t attend in 2025; 2026 attendees can sign up and be added to the wait list. Register for one date of the three available.  \nRequirement: Team ACS Field requirement for returning volunteers. Two year qualification.\nPrerequisite: Qualified for ACS field or ACS Shelter Large Animal \nIf interested\, email info@napacart.org
URL:https://napacart.org/event/acs-field-livestock-skills-fai-030725/
CATEGORIES:Volunteer Training
END:VEVENT
BEGIN:VEVENT
DTSTART;TZID=America/Los_Angeles:20260314T083000
DTEND;TZID=America/Los_Angeles:20260314T170000
DTSTAMP:20260420T200451
CREATED:20260109T010551Z
LAST-MODIFIED:20260120T234430Z
UID:5178-1773477000-1773507600@napacart.org
SUMMARY:ACS Field Livestock Skills: FAI
DESCRIPTION:The Farmed Animal Immersive (FAI) is a one-of-a-kind\, full-day training designed specifically for Disaster Service Workers (DSWs). This hands-on\, immersive experience equips participants with species-specific knowledge\, essential skills\, and the confidence to assess\, handle\, and respond effectively to the unique needs of farmed animals. \nThrough real-life situational drills and immersive learning with farmed animals\, responders strengthen their readiness to manage challenging rescue scenarios involving pigs\, goats\, sheep\, cows\, birds\, including animals with special needs or behavioral challenges. Training takes place in a safe\, controlled\, and supportive environment and is designed to complement existing CART and DSW fieldwork while prioritizing safety\, animal welfare\, and real-world application. \nDates: February 21\, March 7\, and March 14\, 2026\nSpace limited. Priority given to attendees who didn’t attend in 2025; 2026 attendees can sign up and be added to the wait list. Register for one date of the three available.  \nRequirement: Team ACS Field requirement for returning volunteers. Two year qualification.\nPrerequisite: Qualified for ACS field or ACS Shelter Large Animal \nIf interested\, email info@napacart.org
URL:https://napacart.org/event/acs-field-livestock-skills-fai-031426/
CATEGORIES:Volunteer Training
END:VEVENT
END:VCALENDAR