BEGIN:VCALENDAR
VERSION:2.0
PRODID:-//Napa CART - ECPv6.15.20//NONSGML v1.0//EN
CALSCALE:GREGORIAN
METHOD:PUBLISH
X-WR-CALNAME:Napa CART
X-ORIGINAL-URL:https://napacart.org
X-WR-CALDESC:Events for Napa CART
REFRESH-INTERVAL;VALUE=DURATION:PT1H
X-Robots-Tag:noindex
X-PUBLISHED-TTL:PT1H
BEGIN:VTIMEZONE
TZID:America/Los_Angeles
BEGIN:DAYLIGHT
TZOFFSETFROM:-0800
TZOFFSETTO:-0700
TZNAME:PDT
DTSTART:20250309T100000
END:DAYLIGHT
BEGIN:STANDARD
TZOFFSETFROM:-0700
TZOFFSETTO:-0800
TZNAME:PST
DTSTART:20251102T090000
END:STANDARD
BEGIN:DAYLIGHT
TZOFFSETFROM:-0800
TZOFFSETTO:-0700
TZNAME:PDT
DTSTART:20260308T100000
END:DAYLIGHT
BEGIN:STANDARD
TZOFFSETFROM:-0700
TZOFFSETTO:-0800
TZNAME:PST
DTSTART:20261101T090000
END:STANDARD
BEGIN:DAYLIGHT
TZOFFSETFROM:-0800
TZOFFSETTO:-0700
TZNAME:PDT
DTSTART:20270314T100000
END:DAYLIGHT
BEGIN:STANDARD
TZOFFSETFROM:-0700
TZOFFSETTO:-0800
TZNAME:PST
DTSTART:20271107T090000
END:STANDARD
END:VTIMEZONE
BEGIN:VEVENT
DTSTART;TZID=America/Los_Angeles:20260711T090000
DTEND;TZID=America/Los_Angeles:20260711T123000
DTSTAMP:20260420T072141
CREATED:20260113T233738Z
LAST-MODIFIED:20260310T004936Z
UID:5274-1783760400-1783773000@napacart.org
SUMMARY:Animal Transport
DESCRIPTION:With a recent vehicle and/or trailer inspection in hand\, volunteers can learn techniques for and test to become certified to haul trailers with Napa CART. A CART trailer will be onsite for those who don’t have their own trailer to test with. \nRequirement: 5 year qualification for Trailer Safety & Maneuvering. \nPrerequisites: Vehicle and/or trailer inspection completed in advance.  \nRecommended self-studies: Hauling: Truck & Trailer Qualification (slides)\, Vehicle and Trailer Inspection\, Hauling: Truck & Trailer Qualification (slides) \nSign up in your MyImpact profile: myimpactpage.com\n(You’ll see the location details displayed in your profile.)
URL:https://napacart.org/event/animal-transport/
CATEGORIES:Volunteer Training
END:VEVENT
END:VCALENDAR