BEGIN:VCALENDAR
VERSION:2.0
PRODID:-//Napa CART - ECPv6.15.20//NONSGML v1.0//EN
CALSCALE:GREGORIAN
METHOD:PUBLISH
X-ORIGINAL-URL:https://napacart.org
X-WR-CALDESC:Events for Napa CART
REFRESH-INTERVAL;VALUE=DURATION:PT1H
X-Robots-Tag:noindex
X-PUBLISHED-TTL:PT1H
BEGIN:VTIMEZONE
TZID:America/Los_Angeles
BEGIN:DAYLIGHT
TZOFFSETFROM:-0800
TZOFFSETTO:-0700
TZNAME:PDT
DTSTART:20250309T100000
END:DAYLIGHT
BEGIN:STANDARD
TZOFFSETFROM:-0700
TZOFFSETTO:-0800
TZNAME:PST
DTSTART:20251102T090000
END:STANDARD
BEGIN:DAYLIGHT
TZOFFSETFROM:-0800
TZOFFSETTO:-0700
TZNAME:PDT
DTSTART:20260308T100000
END:DAYLIGHT
BEGIN:STANDARD
TZOFFSETFROM:-0700
TZOFFSETTO:-0800
TZNAME:PST
DTSTART:20261101T090000
END:STANDARD
BEGIN:DAYLIGHT
TZOFFSETFROM:-0800
TZOFFSETTO:-0700
TZNAME:PDT
DTSTART:20270314T100000
END:DAYLIGHT
BEGIN:STANDARD
TZOFFSETFROM:-0700
TZOFFSETTO:-0800
TZNAME:PST
DTSTART:20271107T090000
END:STANDARD
END:VTIMEZONE
BEGIN:VEVENT
DTSTART;TZID=America/Los_Angeles:20260307T083000
DTEND;TZID=America/Los_Angeles:20260307T170000
DTSTAMP:20260420T043912
CREATED:20260109T010423Z
LAST-MODIFIED:20260120T234404Z
UID:5174-1772872200-1772902800@napacart.org
SUMMARY:ACS Field Livestock Skills: FAI
DESCRIPTION:The Farmed Animal Immersive (FAI) is a one-of-a-kind\, full-day training designed specifically for Disaster Service Workers (DSWs). This hands-on\, immersive experience equips participants with species-specific knowledge\, essential skills\, and the confidence to assess\, handle\, and respond effectively to the unique needs of farmed animals. \nThrough real-life situational drills and immersive learning with farmed animals\, responders strengthen their readiness to manage challenging rescue scenarios involving pigs\, goats\, sheep\, cows\, birds\, including animals with special needs or behavioral challenges. Training takes place in a safe\, controlled\, and supportive environment and is designed to complement existing CART and DSW fieldwork while prioritizing safety\, animal welfare\, and real-world application. \nDates: February 21\, March 7\, and March 14\, 2026\nSpace limited. Priority given to attendees who didn’t attend in 2025; 2026 attendees can sign up and be added to the wait list. Register for one date of the three available.  \nRequirement: Team ACS Field requirement for returning volunteers. Two year qualification.\nPrerequisite: Qualified for ACS field or ACS Shelter Large Animal \nIf interested\, email info@napacart.org
URL:https://napacart.org/event/acs-field-livestock-skills-fai-030725/
CATEGORIES:Volunteer Training
END:VEVENT
END:VCALENDAR