BEGIN:VCALENDAR
VERSION:2.0
PRODID:-//Napa CART - ECPv6.15.20//NONSGML v1.0//EN
CALSCALE:GREGORIAN
METHOD:PUBLISH
X-WR-CALNAME:Napa CART
X-ORIGINAL-URL:https://napacart.org
X-WR-CALDESC:Events for Napa CART
REFRESH-INTERVAL;VALUE=DURATION:PT1H
X-Robots-Tag:noindex
X-PUBLISHED-TTL:PT1H
BEGIN:VTIMEZONE
TZID:America/Los_Angeles
BEGIN:DAYLIGHT
TZOFFSETFROM:-0800
TZOFFSETTO:-0700
TZNAME:PDT
DTSTART:20220313T100000
END:DAYLIGHT
BEGIN:STANDARD
TZOFFSETFROM:-0700
TZOFFSETTO:-0800
TZNAME:PST
DTSTART:20221106T090000
END:STANDARD
BEGIN:DAYLIGHT
TZOFFSETFROM:-0800
TZOFFSETTO:-0700
TZNAME:PDT
DTSTART:20230312T100000
END:DAYLIGHT
BEGIN:STANDARD
TZOFFSETFROM:-0700
TZOFFSETTO:-0800
TZNAME:PST
DTSTART:20231105T090000
END:STANDARD
BEGIN:DAYLIGHT
TZOFFSETFROM:-0800
TZOFFSETTO:-0700
TZNAME:PDT
DTSTART:20240310T100000
END:DAYLIGHT
BEGIN:STANDARD
TZOFFSETFROM:-0700
TZOFFSETTO:-0800
TZNAME:PST
DTSTART:20241103T090000
END:STANDARD
END:VTIMEZONE
BEGIN:VEVENT
DTSTART;TZID=America/Los_Angeles:20230415T090000
DTEND;TZID=America/Los_Angeles:20230415T120000
DTSTAMP:20260423T093134
CREATED:20190207T222615Z
LAST-MODIFIED:20190207T222615Z
UID:3833-1681549200-1681560000@napacart.org
SUMMARY:Trailer Driving Certification
DESCRIPTION:This class is to prepare and certify volunteers to haul animals in trailers during emergencies\, as well as for all related animal transportation activities.  \nRSVP through BetterImpact or by emailing info@napacart.org.
URL:https://napacart.org/event/trailer-safety-maneuvering-course-2/
LOCATION:Napa Valley College\, 2277 Napa-Vallejo Highway\, Napa\, CA\, United States
CATEGORIES:Volunteer Training
END:VEVENT
END:VCALENDAR