BEGIN:VCALENDAR
VERSION:2.0
PRODID:-//Napa CART - ECPv6.15.20//NONSGML v1.0//EN
CALSCALE:GREGORIAN
METHOD:PUBLISH
X-ORIGINAL-URL:https://napacart.org
X-WR-CALDESC:Events for Napa CART
REFRESH-INTERVAL;VALUE=DURATION:PT1H
X-Robots-Tag:noindex
X-PUBLISHED-TTL:PT1H
BEGIN:VTIMEZONE
TZID:America/Los_Angeles
BEGIN:DAYLIGHT
TZOFFSETFROM:-0800
TZOFFSETTO:-0700
TZNAME:PDT
DTSTART:20240310T100000
END:DAYLIGHT
BEGIN:STANDARD
TZOFFSETFROM:-0700
TZOFFSETTO:-0800
TZNAME:PST
DTSTART:20241103T090000
END:STANDARD
BEGIN:DAYLIGHT
TZOFFSETFROM:-0800
TZOFFSETTO:-0700
TZNAME:PDT
DTSTART:20250309T100000
END:DAYLIGHT
BEGIN:STANDARD
TZOFFSETFROM:-0700
TZOFFSETTO:-0800
TZNAME:PST
DTSTART:20251102T090000
END:STANDARD
BEGIN:DAYLIGHT
TZOFFSETFROM:-0800
TZOFFSETTO:-0700
TZNAME:PDT
DTSTART:20260308T100000
END:DAYLIGHT
BEGIN:STANDARD
TZOFFSETFROM:-0700
TZOFFSETTO:-0800
TZNAME:PST
DTSTART:20261101T090000
END:STANDARD
END:VTIMEZONE
BEGIN:VEVENT
DTSTART;TZID=America/Los_Angeles:20250426T090000
DTEND;TZID=America/Los_Angeles:20250426T123000
DTSTAMP:20260420T074813
CREATED:20250115T012254Z
LAST-MODIFIED:20250423T171857Z
UID:4950-1745658000-1745670600@napacart.org
SUMMARY:Command Center Skills
DESCRIPTION:Join us for a hands-on practice session with Shelterly and SARTopo. You will be able to practice scenarios in the any or all of the roles of hotline operator\, intake specialist\, dispatcher/debriefer\, and SARTopo technician. We’ll also have a non-software station for practicing filling out T-Cards and updating the tracking board. \nThis training builds on the basic skills taught in the 3/30/25 “Command Center Overview and Technology” training – it will cover more features\, more complex tasks\, and tips & tricks. If you want to be prepared to use Shelterly and SARTopo in a real incident\, this training is for you. \nSign up in your MyImpact profile: myimpactpage.com
URL:https://napacart.org/event/command-center-skills/
LOCATION:Napa Valley Horsemen’s Association\, 1200 Foster Rd\, Napa\, 94558\, United States
CATEGORIES:Volunteer Training
ATTACH;FMTTYPE=image/jpeg:https://napacart.org/wp-content/uploads/2025/01/dispatch-comm-skills-featured.jpg
END:VEVENT
BEGIN:VEVENT
DTSTART;TZID=America/Los_Angeles:20250426T090000
DTEND;TZID=America/Los_Angeles:20250426T150000
DTSTAMP:20260420T074813
CREATED:20250111T014409Z
LAST-MODIFIED:20250207T184916Z
UID:4917-1745658000-1745679600@napacart.org
SUMMARY:Hauling Certification
DESCRIPTION:This event is the in-person hauling certification test that qualifies you to take your vehicle behind the evacuation lines\, or to pull any of the Napa CART trailers. \nSign up in your MyImpact profile: myimpactpage.com
URL:https://napacart.org/event/hauling-certification-042625/
LOCATION:Napa Valley College\, 2277 Napa-Vallejo Highway\, Napa\, CA\, United States
CATEGORIES:Volunteer Training
ATTACH;FMTTYPE=image/jpeg:https://napacart.org/wp-content/uploads/2025/01/vehicle-hauling-certification.jpg
END:VEVENT
BEGIN:VEVENT
DTSTART;TZID=America/Los_Angeles:20250427T090000
DTEND;TZID=America/Los_Angeles:20250427T170000
DTSTAMP:20260420T074813
CREATED:20250111T014848Z
LAST-MODIFIED:20250122T002015Z
UID:4919-1745744400-1745773200@napacart.org
SUMMARY:ASAR Livestock Skills
DESCRIPTION:ASAR Livestock Training will be aimed for ASAR staff to get fully acquainted with the livestock species encountered in Napa County including pigs\, goats\, sheep\, fowl and other livestock. Topics covered will include anatomy\, husbandry\, handling/restraint\, evaluation\, basic first aid and evacuation. Drills with live animals will help cement physical skills. @ Charlies Acres \nSign up in your MyImpact profile: myimpactpage.com
URL:https://napacart.org/event/asar-livestock-skills-042725/
CATEGORIES:Volunteer Training
ATTACH;FMTTYPE=image/jpeg:https://napacart.org/wp-content/uploads/2024/02/chicken.jpg
END:VEVENT
END:VCALENDAR