BEGIN:VCALENDAR
VERSION:2.0
PRODID:-//Napa CART - ECPv6.15.20//NONSGML v1.0//EN
CALSCALE:GREGORIAN
METHOD:PUBLISH
X-WR-CALNAME:Napa CART
X-ORIGINAL-URL:https://napacart.org
X-WR-CALDESC:Events for Napa CART
REFRESH-INTERVAL;VALUE=DURATION:PT1H
X-Robots-Tag:noindex
X-PUBLISHED-TTL:PT1H
BEGIN:VTIMEZONE
TZID:America/Los_Angeles
BEGIN:DAYLIGHT
TZOFFSETFROM:-0800
TZOFFSETTO:-0700
TZNAME:PDT
DTSTART:20230312T100000
END:DAYLIGHT
BEGIN:STANDARD
TZOFFSETFROM:-0700
TZOFFSETTO:-0800
TZNAME:PST
DTSTART:20231105T090000
END:STANDARD
BEGIN:DAYLIGHT
TZOFFSETFROM:-0800
TZOFFSETTO:-0700
TZNAME:PDT
DTSTART:20240310T100000
END:DAYLIGHT
BEGIN:STANDARD
TZOFFSETFROM:-0700
TZOFFSETTO:-0800
TZNAME:PST
DTSTART:20241103T090000
END:STANDARD
BEGIN:DAYLIGHT
TZOFFSETFROM:-0800
TZOFFSETTO:-0700
TZNAME:PDT
DTSTART:20250309T100000
END:DAYLIGHT
BEGIN:STANDARD
TZOFFSETFROM:-0700
TZOFFSETTO:-0800
TZNAME:PST
DTSTART:20251102T090000
END:STANDARD
END:VTIMEZONE
BEGIN:VEVENT
DTSTART;TZID=America/Los_Angeles:20240608T090000
DTEND;TZID=America/Los_Angeles:20240608T120000
DTSTAMP:20260420T025835
CREATED:20240222T193148Z
LAST-MODIFIED:20240501T224809Z
UID:4545-1717837200-1717848000@napacart.org
SUMMARY:Livestock Shelter Set Up\, Intake\, Biosecurity
DESCRIPTION:Large Animal Shelter Set-up & Skills \nSaturday\, June 08\, 2024\, 9:00 am- 12:00 pm \nNapa Valley Horsemen’s Association: 1200 Foster Rd. \nThis course will involve large animal shelter setup followed by sheltering updates and skills.\nRequired for Napa CART Large animal shelter volunteers. Recommended for ASAR volunteers. \nPlease come prepared to handle livestock panels and assist the shelter set up for the season. Napa CART t-shirt\, long pants\, closed toe shoes\, gloves and sun protection recommended. \nThere is pre-work required for this skills training: Please watch: CVET: Overview of Triage & Basic First Aid and CVET: Large Animal Triage & Basic First Aid in your My Impact profile prior to this in person training. \n \nClick here to View or Print the training flyer (PDF opens in a new tab or window)
URL:https://napacart.org/event/livestock-shelter-set-up-intake-biosecurity/
LOCATION:Napa Valley Horsemen’s Association\, 1200 Foster Rd\, Napa\, 94558\, United States
CATEGORIES:Volunteer Training
ATTACH;FMTTYPE=image/jpeg:https://napacart.org/wp-content/uploads/2024/02/horse-pole-stalls.jpg
END:VEVENT
BEGIN:VEVENT
DTSTART;TZID=America/Los_Angeles:20240608T130000
DTEND;TZID=America/Los_Angeles:20240608T163000
DTSTAMP:20260420T025835
CREATED:20240222T193330Z
LAST-MODIFIED:20240501T224518Z
UID:4547-1717851600-1717864200@napacart.org
SUMMARY:Small Animal Handling\, Companion Animal Sheltering
DESCRIPTION:Companion Animal Shelter & Skills \nSaturday\, June 08\, 2024\, 1:00 pm- 4:30 pm \nNapa County Animal Shelter 942 Hartle Ct. \nThis course is designed to orient volunteers to the Napa County Animal Shelter and update protocols\, skills\, and planning for remote companion animal sheltering.\nRequired for Napa CART Companion animal shelter volunteers. Recommended for ASAR volunteers. \nNapa CART t-shirt\, long pants\, closed toe shoes\, gloves and sun protection recommended. \nThere is pre-work required for this skills training. Please watch CVET: Overview of Triage & Basic First Aid and CVET: Small Animal Triage & Basic First Aid in your My Impact profile prior to this in person training. \nRegister through your MyImpact profile: myimpactpage.com or email info@napacart.org \n \nClick here to View or Print the training flyer (PDF opens in a new tab or window)
URL:https://napacart.org/event/small-animal-handling-companion-animal-sheltering/
LOCATION:Napa County Animal Shelter\, 942 Hartle Court\, Napa\, CA\, 94559\, United States
CATEGORIES:Volunteer Training
ATTACH;FMTTYPE=image/jpeg:https://napacart.org/wp-content/uploads/2024/02/two-dogs-in-car.jpg
END:VEVENT
BEGIN:VEVENT
DTSTART;TZID=America/Los_Angeles:20240629T090000
DTEND;TZID=America/Los_Angeles:20240629T160000
DTSTAMP:20260420T025835
CREATED:20240222T193646Z
LAST-MODIFIED:20240524T233952Z
UID:4550-1719651600-1719676800@napacart.org
SUMMARY:Exercise: Hotline\, Comms & Dispatch w/ CERT and ASAR in Berryessa - ASAR 1 & 2
DESCRIPTION:This exercise is a practice event with CERT teams in which all volunteer roles will assume their duties as in a real-life scenario deployment.\nWill also include small group course for familiarity on specific animal groups or techniques: Small Ruminants and Camelids. \nSign up in your MyImpact profile: myimpactpage.com
URL:https://napacart.org/event/exercise-hotline-comms-dispatch-cert-asar-in-berryessa-asar-1-2/
CATEGORIES:Volunteer Training
ATTACH;FMTTYPE=image/jpeg:https://napacart.org/wp-content/uploads/2024/02/small-ruminants-camelids-rotated.jpg
END:VEVENT
END:VCALENDAR