BEGIN:VCALENDAR
VERSION:2.0
PRODID:-//Napa CART - ECPv6.15.20//NONSGML v1.0//EN
CALSCALE:GREGORIAN
METHOD:PUBLISH
X-ORIGINAL-URL:https://napacart.org
X-WR-CALDESC:Events for Napa CART
REFRESH-INTERVAL;VALUE=DURATION:PT1H
X-Robots-Tag:noindex
X-PUBLISHED-TTL:PT1H
BEGIN:VTIMEZONE
TZID:America/Los_Angeles
BEGIN:DAYLIGHT
TZOFFSETFROM:-0800
TZOFFSETTO:-0700
TZNAME:PDT
DTSTART:20160313T100000
END:DAYLIGHT
BEGIN:STANDARD
TZOFFSETFROM:-0700
TZOFFSETTO:-0800
TZNAME:PST
DTSTART:20161106T090000
END:STANDARD
BEGIN:DAYLIGHT
TZOFFSETFROM:-0800
TZOFFSETTO:-0700
TZNAME:PDT
DTSTART:20170312T100000
END:DAYLIGHT
BEGIN:STANDARD
TZOFFSETFROM:-0700
TZOFFSETTO:-0800
TZNAME:PST
DTSTART:20171105T090000
END:STANDARD
BEGIN:DAYLIGHT
TZOFFSETFROM:-0800
TZOFFSETTO:-0700
TZNAME:PDT
DTSTART:20180311T100000
END:DAYLIGHT
BEGIN:STANDARD
TZOFFSETFROM:-0700
TZOFFSETTO:-0800
TZNAME:PST
DTSTART:20181104T090000
END:STANDARD
BEGIN:DAYLIGHT
TZOFFSETFROM:-0800
TZOFFSETTO:-0700
TZNAME:PDT
DTSTART:20190310T100000
END:DAYLIGHT
BEGIN:STANDARD
TZOFFSETFROM:-0700
TZOFFSETTO:-0800
TZNAME:PST
DTSTART:20191103T090000
END:STANDARD
END:VTIMEZONE
BEGIN:VEVENT
DTSTART;TZID=America/Los_Angeles:20180712T183000
DTEND;TZID=America/Los_Angeles:20180712T203000
DTSTAMP:20260420T044317
CREATED:20180612T134130Z
LAST-MODIFIED:20180629T152027Z
UID:1218-1531420200-1531427400@napacart.org
SUMMARY:Monthly Training:  Napa Wildlife Rescue
DESCRIPTION:  \n \n  \nLearn about the wild side of Napa animal care from John Comisky\, President of Napa Wildlife Rescue\, including resources\, contact points and tips for handling injured animals. Session is free and open to the public.  Bring a friend! \n 
URL:https://napacart.org/event/monthly-training-napa-wildlife-rescue/
LOCATION:Napa Valley Horsemen’s Association\, 1200 Foster Rd\, Napa\, 94558\, United States
CATEGORIES:Meeting,Volunteer Training
ORGANIZER;CN="Napa Community Animal Response Team ('Napa CART')":MAILTO:info@napacart.org
END:VEVENT
BEGIN:VEVENT
DTSTART;TZID=America/Los_Angeles:20180712T183000
DTEND;TZID=America/Los_Angeles:20180712T203000
DTSTAMP:20260420T044317
CREATED:20180612T134130Z
LAST-MODIFIED:20180612T134130Z
UID:3819-1531420200-1531427400@napacart.org
SUMMARY:Monthly Training:  Napa Wildlife Rescue
DESCRIPTION:  \n \n  \nLearn about the wild side of Napa animal care from John Comisky\, President of Napa Wildlife Rescue\, including resources\, contact points and tips for handling injured animals. Session is free and open to the public.  Bring a friend! \n 
URL:https://napacart.org/event/monthly-training-napa-wildlife-rescue-2/
LOCATION:Napa Valley Horsemen’s Association\, 1200 Foster Rd\, Napa\, 94558\, United States
CATEGORIES:Meeting,Volunteer Training
ORGANIZER;CN="Napa Community Animal Response Team ('Napa CART')":MAILTO:info@napacart.org
END:VEVENT
BEGIN:VEVENT
DTSTART;TZID=America/Los_Angeles:20171102T183000
DTEND;TZID=America/Los_Angeles:20171102T200000
DTSTAMP:20260420T044317
CREATED:20170729T220912Z
LAST-MODIFIED:20170922T141238Z
UID:639-1509647400-1509652800@napacart.org
SUMMARY:Maintaining Biosecurity in Emergency Situations
DESCRIPTION:The November training session will discuss maintaining biosecurity in emergency situations.  The session is free and everyone is welcome !
URL:https://napacart.org/event/napa-cart-monthly-meeting-3/
CATEGORIES:Meeting,Volunteer Training
ATTACH;FMTTYPE=image/jpeg:https://napacart.org/wp-content/uploads/2017/09/qtq80-DOymdf.jpeg
ORGANIZER;CN="Napa Community Animal Response Team ('Napa CART')":MAILTO:info@napacart.org
END:VEVENT
BEGIN:VEVENT
DTSTART;TZID=America/Los_Angeles:20171102T183000
DTEND;TZID=America/Los_Angeles:20171102T200000
DTSTAMP:20260420T044317
CREATED:20170729T220912Z
LAST-MODIFIED:20170729T220912Z
UID:3802-1509647400-1509652800@napacart.org
SUMMARY:Maintaining Biosecurity in Emergency Situations
DESCRIPTION:The November training session will discuss maintaining biosecurity in emergency situations.  The session is free and everyone is welcome !
URL:https://napacart.org/event/napa-cart-monthly-meeting-3-2/
CATEGORIES:Meeting,Volunteer Training
ATTACH;FMTTYPE=image/jpeg:https://napacart.org/wp-content/uploads/2017/09/qtq80-DOymdf.jpeg
ORGANIZER;CN="Napa Community Animal Response Team ('Napa CART')":MAILTO:info@napacart.org
END:VEVENT
BEGIN:VEVENT
DTSTART;TZID=America/Los_Angeles:20171005T183000
DTEND;TZID=America/Los_Angeles:20171005T200000
DTSTAMP:20260420T044317
CREATED:20170729T215433Z
LAST-MODIFIED:20171002T185149Z
UID:636-1507228200-1507233600@napacart.org
SUMMARY:Safe Trailer Loading Training
DESCRIPTION:October’s training session will be on Safe Trailer Loading and will include how to correctly tie quick release knots.  The session is free and everyone is welcome to attend.  Bring a friend!
URL:https://napacart.org/event/napa-cart-monthly-meeting/
LOCATION:Napa Valley Horsemen’s Association\, 1200 Foster Rd\, Napa\, 94558\, United States
CATEGORIES:Meeting,Volunteer Training
ORGANIZER;CN="Napa Community Animal Response Team ('Napa CART')":MAILTO:info@napacart.org
END:VEVENT
BEGIN:VEVENT
DTSTART;TZID=America/Los_Angeles:20170907T183000
DTEND;TZID=America/Los_Angeles:20170907T200000
DTSTAMP:20260420T044317
CREATED:20170729T010014Z
LAST-MODIFIED:20170823T173734Z
UID:600-1504809000-1504814400@napacart.org
SUMMARY:Equine Handling and Safety in Emergencies
DESCRIPTION:Napa CART Monthly Meeting.  Training topic will be Equine Handling and Safety in Emergencies taught by Dr. Claudia Sonder. \nEveryone is welcome! \n  \nNapa CART Equine Handling Training Flyer 09072017
URL:https://napacart.org/event/napa-cart-september-meeting/
LOCATION:Napa Valley Horsemen’s Association\, 1200 Foster Rd\, Napa\, 94558\, United States
CATEGORIES:Meeting,Volunteer Training
ORGANIZER;CN="Napa Community Animal Response Team ('Napa CART')":MAILTO:info@napacart.org
END:VEVENT
BEGIN:VEVENT
DTSTART;TZID=America/Los_Angeles:20170907T183000
DTEND;TZID=America/Los_Angeles:20170907T200000
DTSTAMP:20260420T044317
CREATED:20170729T010014Z
LAST-MODIFIED:20170729T010014Z
UID:3476-1504809000-1504814400@napacart.org
SUMMARY:Equine Handling and Safety in Emergencies
DESCRIPTION:Napa CART Monthly Meeting.  Training topic will be Equine Handling and Safety in Emergencies taught by Dr. Claudia Sonder. \nEveryone is welcome! \n  \nNapa CART Equine Handling Training Flyer 09072017
URL:https://napacart.org/event/napa-cart-september-meeting-2/
LOCATION:Napa Valley Horsemen’s Association\, 1200 Foster Rd\, Napa\, 94558\, United States
CATEGORIES:Meeting,Volunteer Training
ORGANIZER;CN="Napa Community Animal Response Team ('Napa CART')":MAILTO:info@napacart.org
END:VEVENT
BEGIN:VEVENT
DTSTART;TZID=America/Los_Angeles:20170808T183000
DTEND;TZID=America/Los_Angeles:20170808T200000
DTSTAMP:20260420T044317
CREATED:20170804T150203Z
LAST-MODIFIED:20170804T153159Z
UID:697-1502217000-1502222400@napacart.org
SUMMARY:Large Animal Sheltering Committee meeting
DESCRIPTION:Large Animal Sheltering Committee planning meeting. \nPlease join us if you are interested in assisting with Large Animal Sheltering.  Everyone is welcome to attend !
URL:https://napacart.org/event/large-animal-sheltering-committee-meeting/
LOCATION:Napa Valley Horsemen’s Association\, 1200 Foster Rd\, Napa\, 94558\, United States
CATEGORIES:Meeting,Volunteer Training
ORGANIZER;CN="Napa Community Animal Response Team ('Napa CART')":MAILTO:info@napacart.org
END:VEVENT
BEGIN:VEVENT
DTSTART;TZID=America/Los_Angeles:20170808T183000
DTEND;TZID=America/Los_Angeles:20170808T200000
DTSTAMP:20260420T044317
CREATED:20170804T150203Z
LAST-MODIFIED:20170804T150203Z
UID:3808-1502217000-1502222400@napacart.org
SUMMARY:Large Animal Sheltering Committee meeting
DESCRIPTION:Large Animal Sheltering Committee planning meeting. \nPlease join us if you are interested in assisting with Large Animal Sheltering.  Everyone is welcome to attend !
URL:https://napacart.org/event/large-animal-sheltering-committee-meeting-2/
LOCATION:Napa Valley Horsemen’s Association\, 1200 Foster Rd\, Napa\, 94558\, United States
CATEGORIES:Meeting,Volunteer Training
ORGANIZER;CN="Napa Community Animal Response Team ('Napa CART')":MAILTO:info@napacart.org
END:VEVENT
BEGIN:VEVENT
DTSTART;TZID=America/Los_Angeles:20170803T183000
DTEND;TZID=America/Los_Angeles:20170803T200000
DTSTAMP:20260420T044317
CREATED:20170728T224306Z
LAST-MODIFIED:20170729T221131Z
UID:585-1501785000-1501790400@napacart.org
SUMMARY:Horse Color Identification For Evacuation and Shelter workers
DESCRIPTION:The Napa Community Animal Response Team’s August Meeting will include a presentation on “Horse Color Identification – why it matters to emergency workers.” \nEveryone is welcome !
URL:https://napacart.org/event/horse-color-identification-for-evacuation-and-shelter-workers/
LOCATION:Napa Valley Horsemen’s Association\, 1200 Foster Rd\, Napa\, 94558\, United States
CATEGORIES:Meeting,Volunteer Training
ATTACH;FMTTYPE=image/jpeg:https://napacart.org/wp-content/uploads/2017/07/Mustangs.jpg
ORGANIZER;CN="Napa Community Animal Response Team ('Napa CART')":MAILTO:info@napacart.org
END:VEVENT
BEGIN:VEVENT
DTSTART;TZID=America/Los_Angeles:20170803T183000
DTEND;TZID=America/Los_Angeles:20170803T200000
DTSTAMP:20260420T044317
CREATED:20170728T224306Z
LAST-MODIFIED:20170728T224306Z
UID:3475-1501785000-1501790400@napacart.org
SUMMARY:Horse Color Identification For Evacuation and Shelter workers
DESCRIPTION:The Napa Community Animal Response Team’s August Meeting will include a presentation on “Horse Color Identification – why it matters to emergency workers.” \nEveryone is welcome !
URL:https://napacart.org/event/horse-color-identification-for-evacuation-and-shelter-workers-2/
LOCATION:Napa Valley Horsemen’s Association\, 1200 Foster Rd\, Napa\, 94558\, United States
CATEGORIES:Meeting,Volunteer Training
ATTACH;FMTTYPE=image/jpeg:https://napacart.org/wp-content/uploads/2017/07/Mustangs.jpg
ORGANIZER;CN="Napa Community Animal Response Team ('Napa CART')":MAILTO:info@napacart.org
END:VEVENT
END:VCALENDAR