BEGIN:VCALENDAR
VERSION:2.0
PRODID:-//Napa CART - ECPv6.15.20//NONSGML v1.0//EN
CALSCALE:GREGORIAN
METHOD:PUBLISH
X-ORIGINAL-URL:https://napacart.org
X-WR-CALDESC:Events for Napa CART
REFRESH-INTERVAL;VALUE=DURATION:PT1H
X-Robots-Tag:noindex
X-PUBLISHED-TTL:PT1H
BEGIN:VTIMEZONE
TZID:America/Los_Angeles
BEGIN:DAYLIGHT
TZOFFSETFROM:-0800
TZOFFSETTO:-0700
TZNAME:PDT
DTSTART:20230312T100000
END:DAYLIGHT
BEGIN:STANDARD
TZOFFSETFROM:-0700
TZOFFSETTO:-0800
TZNAME:PST
DTSTART:20231105T090000
END:STANDARD
BEGIN:DAYLIGHT
TZOFFSETFROM:-0800
TZOFFSETTO:-0700
TZNAME:PDT
DTSTART:20240310T100000
END:DAYLIGHT
BEGIN:STANDARD
TZOFFSETFROM:-0700
TZOFFSETTO:-0800
TZNAME:PST
DTSTART:20241103T090000
END:STANDARD
BEGIN:DAYLIGHT
TZOFFSETFROM:-0800
TZOFFSETTO:-0700
TZNAME:PDT
DTSTART:20250309T100000
END:DAYLIGHT
BEGIN:STANDARD
TZOFFSETFROM:-0700
TZOFFSETTO:-0800
TZNAME:PST
DTSTART:20251102T090000
END:STANDARD
BEGIN:DAYLIGHT
TZOFFSETFROM:-0800
TZOFFSETTO:-0700
TZNAME:PDT
DTSTART:20260308T100000
END:DAYLIGHT
BEGIN:STANDARD
TZOFFSETFROM:-0700
TZOFFSETTO:-0800
TZNAME:PST
DTSTART:20261101T090000
END:STANDARD
END:VTIMEZONE
BEGIN:VEVENT
DTSTART;TZID=America/Los_Angeles:20241108T093000
DTEND;TZID=America/Los_Angeles:20241108T130000
DTSTAMP:20260420T110213
CREATED:20240517T224842Z
LAST-MODIFIED:20240517T231950Z
UID:4731-1731058200-1731070800@napacart.org
SUMMARY:Napa Humane Drop-In Vaccination/Microchip Clinic
DESCRIPTION:Every Friday from 9:30 AM – 1:00 PM \nNapa Humane Spay/Neuter Clinic holds a drop-in vaccination/microchip clinic every Friday for Napa County residents only. Proof of Napa County residency is required. No appointment necessary.
URL:https://napacart.org/event/napa-humane-drop-in-vaccination-microchip-clinic-45-2024/
LOCATION:Napa Humane Spay/Neuter Clinic\, 3265 California Boulevard\, Napa\, CA\, 94558
CATEGORIES:Community Events
ATTACH;FMTTYPE=image/jpeg:https://napacart.org/wp-content/uploads/2024/05/drop-in-vaccination_microchip-clinic.jpg
ORGANIZER;CN="Napa Humane Spay/Neuter Clinic":MAILTO:clinicinfo@napahumane.org
END:VEVENT
BEGIN:VEVENT
DTSTART;TZID=America/Los_Angeles:20241115T093000
DTEND;TZID=America/Los_Angeles:20241115T130000
DTSTAMP:20260420T110213
CREATED:20240517T225124Z
LAST-MODIFIED:20240517T231958Z
UID:4733-1731663000-1731675600@napacart.org
SUMMARY:Napa Humane Drop-In Vaccination/Microchip Clinic
DESCRIPTION:Every Friday from 9:30 AM – 1:00 PM \nNapa Humane Spay/Neuter Clinic holds a drop-in vaccination/microchip clinic every Friday for Napa County residents only. Proof of Napa County residency is required. No appointment necessary.
URL:https://napacart.org/event/napa-humane-drop-in-vaccination-microchip-clinic-46-2024/
LOCATION:Napa Humane Spay/Neuter Clinic\, 3265 California Boulevard\, Napa\, CA\, 94558
CATEGORIES:Community Events
ATTACH;FMTTYPE=image/jpeg:https://napacart.org/wp-content/uploads/2024/05/drop-in-vaccination_microchip-clinic.jpg
ORGANIZER;CN="Napa Humane Spay/Neuter Clinic":MAILTO:clinicinfo@napahumane.org
END:VEVENT
BEGIN:VEVENT
DTSTART;TZID=America/Los_Angeles:20241122T093000
DTEND;TZID=America/Los_Angeles:20241122T130000
DTSTAMP:20260420T110213
CREATED:20240517T225229Z
LAST-MODIFIED:20240517T232005Z
UID:4735-1732267800-1732280400@napacart.org
SUMMARY:Napa Humane Drop-In Vaccination/Microchip Clinic
DESCRIPTION:Every Friday from 9:30 AM – 1:00 PM \nNapa Humane Spay/Neuter Clinic holds a drop-in vaccination/microchip clinic every Friday for Napa County residents only. Proof of Napa County residency is required. No appointment necessary.
URL:https://napacart.org/event/napa-humane-drop-in-vaccination-microchip-clinic-47-2024/
LOCATION:Napa Humane Spay/Neuter Clinic\, 3265 California Boulevard\, Napa\, CA\, 94558
CATEGORIES:Community Events
ATTACH;FMTTYPE=image/jpeg:https://napacart.org/wp-content/uploads/2024/05/drop-in-vaccination_microchip-clinic.jpg
ORGANIZER;CN="Napa Humane Spay/Neuter Clinic":MAILTO:clinicinfo@napahumane.org
END:VEVENT
BEGIN:VEVENT
DTSTART;TZID=America/Los_Angeles:20241129T093000
DTEND;TZID=America/Los_Angeles:20241129T130000
DTSTAMP:20260420T110213
CREATED:20240517T225447Z
LAST-MODIFIED:20240517T232014Z
UID:4737-1732872600-1732885200@napacart.org
SUMMARY:Napa Humane Drop-In Vaccination/Microchip Clinic
DESCRIPTION:Every Friday from 9:30 AM – 1:00 PM \nNapa Humane Spay/Neuter Clinic holds a drop-in vaccination/microchip clinic every Friday for Napa County residents only. Proof of Napa County residency is required. No appointment necessary.
URL:https://napacart.org/event/napa-humane-drop-in-vaccination-microchip-clinic-48-2024/
LOCATION:Napa Humane Spay/Neuter Clinic\, 3265 California Boulevard\, Napa\, CA\, 94558
CATEGORIES:Community Events
ORGANIZER;CN="Napa Humane Spay/Neuter Clinic":MAILTO:clinicinfo@napahumane.org
END:VEVENT
BEGIN:VEVENT
DTSTART;TZID=America/Los_Angeles:20241206T093000
DTEND;TZID=America/Los_Angeles:20241206T130000
DTSTAMP:20260420T110213
CREATED:20240517T225628Z
LAST-MODIFIED:20240517T232024Z
UID:4739-1733477400-1733490000@napacart.org
SUMMARY:Napa Humane Drop-In Vaccination/Microchip Clinic
DESCRIPTION:Every Friday from 9:30 AM – 1:00 PM \nNapa Humane Spay/Neuter Clinic holds a drop-in vaccination/microchip clinic every Friday for Napa County residents only. Proof of Napa County residency is required. No appointment necessary.
URL:https://napacart.org/event/napa-humane-drop-in-vaccination-microchip-clinic-49-2024/
LOCATION:Napa Humane Spay/Neuter Clinic\, 3265 California Boulevard\, Napa\, CA\, 94558
CATEGORIES:Community Events
ATTACH;FMTTYPE=image/jpeg:https://napacart.org/wp-content/uploads/2024/05/drop-in-vaccination_microchip-clinic.jpg
ORGANIZER;CN="Napa Humane Spay/Neuter Clinic":MAILTO:clinicinfo@napahumane.org
END:VEVENT
BEGIN:VEVENT
DTSTART;TZID=America/Los_Angeles:20241213T093000
DTEND;TZID=America/Los_Angeles:20241213T130000
DTSTAMP:20260420T110213
CREATED:20240517T231549Z
LAST-MODIFIED:20240517T232035Z
UID:4741-1734082200-1734094800@napacart.org
SUMMARY:Napa Humane Drop-In Vaccination/Microchip Clinic
DESCRIPTION:Every Friday from 9:30 AM – 1:00 PM \nNapa Humane Spay/Neuter Clinic holds a drop-in vaccination/microchip clinic every Friday for Napa County residents only. Proof of Napa County residency is required. No appointment necessary.
URL:https://napacart.org/event/napa-humane-drop-in-vaccination-microchip-clinic-50-2024/
LOCATION:Napa Humane Spay/Neuter Clinic\, 3265 California Boulevard\, Napa\, CA\, 94558
CATEGORIES:Community Events
ATTACH;FMTTYPE=image/jpeg:https://napacart.org/wp-content/uploads/2024/05/drop-in-vaccination_microchip-clinic.jpg
ORGANIZER;CN="Napa Humane Spay/Neuter Clinic":MAILTO:clinicinfo@napahumane.org
END:VEVENT
BEGIN:VEVENT
DTSTART;TZID=America/Los_Angeles:20241220T093000
DTEND;TZID=America/Los_Angeles:20241220T130000
DTSTAMP:20260420T110213
CREATED:20240517T231657Z
LAST-MODIFIED:20240517T232041Z
UID:4743-1734687000-1734699600@napacart.org
SUMMARY:Napa Humane Drop-In Vaccination/Microchip Clinic
DESCRIPTION:Every Friday from 9:30 AM – 1:00 PM \nNapa Humane Spay/Neuter Clinic holds a drop-in vaccination/microchip clinic every Friday for Napa County residents only. Proof of Napa County residency is required. No appointment necessary.
URL:https://napacart.org/event/napa-humane-drop-in-vaccination-microchip-clinic-51-2024/
LOCATION:Napa Humane Spay/Neuter Clinic\, 3265 California Boulevard\, Napa\, CA\, 94558
CATEGORIES:Community Events
ATTACH;FMTTYPE=image/jpeg:https://napacart.org/wp-content/uploads/2024/05/drop-in-vaccination_microchip-clinic.jpg
ORGANIZER;CN="Napa Humane Spay/Neuter Clinic":MAILTO:clinicinfo@napahumane.org
END:VEVENT
BEGIN:VEVENT
DTSTART;TZID=America/Los_Angeles:20241227T093000
DTEND;TZID=America/Los_Angeles:20241227T130000
DTSTAMP:20260420T110213
CREATED:20240517T232144Z
LAST-MODIFIED:20240517T232144Z
UID:4745-1735291800-1735304400@napacart.org
SUMMARY:Napa Humane Drop-In Vaccination/Microchip Clinic
DESCRIPTION:Every Friday from 9:30 AM – 1:00 PM \nNapa Humane Spay/Neuter Clinic holds a drop-in vaccination/microchip clinic every Friday for Napa County residents only. Proof of Napa County residency is required. No appointment necessary.
URL:https://napacart.org/event/napa-humane-drop-in-vaccination-microchip-clinic-52-2024/
LOCATION:Napa Humane Spay/Neuter Clinic\, 3265 California Boulevard\, Napa\, CA\, 94558
CATEGORIES:Community Events
ATTACH;FMTTYPE=image/jpeg:https://napacart.org/wp-content/uploads/2024/05/drop-in-vaccination_microchip-clinic.jpg
ORGANIZER;CN="Napa Humane Spay/Neuter Clinic":MAILTO:clinicinfo@napahumane.org
END:VEVENT
BEGIN:VEVENT
DTSTART;TZID=America/Los_Angeles:20250117T093000
DTEND;TZID=America/Los_Angeles:20250117T130000
DTSTAMP:20260420T110213
CREATED:20250111T002431Z
LAST-MODIFIED:20250111T002431Z
UID:4879-1737106200-1737118800@napacart.org
SUMMARY:Napa Humane Drop-In Vaccination/Microchip Clinic
DESCRIPTION:Every Friday from 9:30 AM – 1:00 PM \nNapa Humane Spay/Neuter Clinic holds a drop-in vaccination/microchip clinic every Friday for Napa County residents only. Proof of Napa County residency is required. No appointment necessary.
URL:https://napacart.org/event/napa-humane-drop-in-vaccination-microchip-clinic-3-2025/
LOCATION:Napa Humane Spay/Neuter Clinic\, 3265 California Boulevard\, Napa\, CA\, 94558
CATEGORIES:Community Events
ATTACH;FMTTYPE=image/jpeg:https://napacart.org/wp-content/uploads/2024/05/drop-in-vaccination_microchip-clinic.jpg
ORGANIZER;CN="Napa Humane Spay/Neuter Clinic":MAILTO:clinicinfo@napahumane.org
END:VEVENT
BEGIN:VEVENT
DTSTART;TZID=America/Los_Angeles:20250124T093000
DTEND;TZID=America/Los_Angeles:20250124T130000
DTSTAMP:20260420T110213
CREATED:20250111T002629Z
LAST-MODIFIED:20250111T002629Z
UID:4882-1737711000-1737723600@napacart.org
SUMMARY:Napa Humane Drop-In Vaccination/Microchip Clinic
DESCRIPTION:Every Friday from 9:30 AM – 1:00 PM \nNapa Humane Spay/Neuter Clinic holds a drop-in vaccination/microchip clinic every Friday for Napa County residents only. Proof of Napa County residency is required. No appointment necessary.
URL:https://napacart.org/event/napa-humane-drop-in-vaccination-microchip-clinic-4-2025/
LOCATION:Napa Humane Spay/Neuter Clinic\, 3265 California Boulevard\, Napa\, CA\, 94558
CATEGORIES:Community Events
ATTACH;FMTTYPE=image/jpeg:https://napacart.org/wp-content/uploads/2024/05/drop-in-vaccination_microchip-clinic.jpg
ORGANIZER;CN="Napa Humane Spay/Neuter Clinic":MAILTO:clinicinfo@napahumane.org
END:VEVENT
BEGIN:VEVENT
DTSTART;TZID=America/Los_Angeles:20250131T093000
DTEND;TZID=America/Los_Angeles:20250131T130000
DTSTAMP:20260420T110213
CREATED:20250111T002728Z
LAST-MODIFIED:20250111T002728Z
UID:4884-1738315800-1738328400@napacart.org
SUMMARY:Napa Humane Drop-In Vaccination/Microchip Clinic
DESCRIPTION:Every Friday from 9:30 AM – 1:00 PM \nNapa Humane Spay/Neuter Clinic holds a drop-in vaccination/microchip clinic every Friday for Napa County residents only. Proof of Napa County residency is required. No appointment necessary.
URL:https://napacart.org/event/napa-humane-drop-in-vaccination-microchip-clinic-5-2025/
LOCATION:Napa Humane Spay/Neuter Clinic\, 3265 California Boulevard\, Napa\, CA\, 94558
CATEGORIES:Community Events
ATTACH;FMTTYPE=image/jpeg:https://napacart.org/wp-content/uploads/2024/05/drop-in-vaccination_microchip-clinic.jpg
ORGANIZER;CN="Napa Humane Spay/Neuter Clinic":MAILTO:clinicinfo@napahumane.org
END:VEVENT
BEGIN:VEVENT
DTSTART;TZID=America/Los_Angeles:20250207T093000
DTEND;TZID=America/Los_Angeles:20250207T130000
DTSTAMP:20260420T110213
CREATED:20250111T002924Z
LAST-MODIFIED:20250111T002924Z
UID:4886-1738920600-1738933200@napacart.org
SUMMARY:Napa Humane Drop-In Vaccination/Microchip Clinic
DESCRIPTION:Every Friday from 9:30 AM – 1:00 PM \nNapa Humane Spay/Neuter Clinic holds a drop-in vaccination/microchip clinic every Friday for Napa County residents only. Proof of Napa County residency is required. No appointment necessary.
URL:https://napacart.org/event/napa-humane-drop-in-vaccination-microchip-clinic-6-2025/
LOCATION:Napa Humane Spay/Neuter Clinic\, 3265 California Boulevard\, Napa\, CA\, 94558
CATEGORIES:Community Events
ATTACH;FMTTYPE=image/jpeg:https://napacart.org/wp-content/uploads/2024/05/drop-in-vaccination_microchip-clinic.jpg
ORGANIZER;CN="Napa Humane Spay/Neuter Clinic":MAILTO:clinicinfo@napahumane.org
END:VEVENT
BEGIN:VEVENT
DTSTART;TZID=America/Los_Angeles:20250214T093000
DTEND;TZID=America/Los_Angeles:20250214T130000
DTSTAMP:20260420T110213
CREATED:20250111T003018Z
LAST-MODIFIED:20250111T003018Z
UID:4888-1739525400-1739538000@napacart.org
SUMMARY:Napa Humane Drop-In Vaccination/Microchip Clinic
DESCRIPTION:Every Friday from 9:30 AM – 1:00 PM \nNapa Humane Spay/Neuter Clinic holds a drop-in vaccination/microchip clinic every Friday for Napa County residents only. Proof of Napa County residency is required. No appointment necessary.
URL:https://napacart.org/event/napa-humane-drop-in-vaccination-microchip-clinic-7-2025/
LOCATION:Napa Humane Spay/Neuter Clinic\, 3265 California Boulevard\, Napa\, CA\, 94558
CATEGORIES:Community Events
ATTACH;FMTTYPE=image/jpeg:https://napacart.org/wp-content/uploads/2024/05/drop-in-vaccination_microchip-clinic.jpg
ORGANIZER;CN="Napa Humane Spay/Neuter Clinic":MAILTO:clinicinfo@napahumane.org
END:VEVENT
BEGIN:VEVENT
DTSTART;TZID=America/Los_Angeles:20250221T093000
DTEND;TZID=America/Los_Angeles:20250221T130000
DTSTAMP:20260420T110213
CREATED:20250111T003109Z
LAST-MODIFIED:20250111T003109Z
UID:4890-1740130200-1740142800@napacart.org
SUMMARY:Napa Humane Drop-In Vaccination/Microchip Clinic
DESCRIPTION:Every Friday from 9:30 AM – 1:00 PM \nNapa Humane Spay/Neuter Clinic holds a drop-in vaccination/microchip clinic every Friday for Napa County residents only. Proof of Napa County residency is required. No appointment necessary.
URL:https://napacart.org/event/napa-humane-drop-in-vaccination-microchip-clinic-8-2025/
LOCATION:Napa Humane Spay/Neuter Clinic\, 3265 California Boulevard\, Napa\, CA\, 94558
CATEGORIES:Community Events
ATTACH;FMTTYPE=image/jpeg:https://napacart.org/wp-content/uploads/2024/05/drop-in-vaccination_microchip-clinic.jpg
ORGANIZER;CN="Napa Humane Spay/Neuter Clinic":MAILTO:clinicinfo@napahumane.org
END:VEVENT
BEGIN:VEVENT
DTSTART;TZID=America/Los_Angeles:20250228T093000
DTEND;TZID=America/Los_Angeles:20250228T130000
DTSTAMP:20260420T110213
CREATED:20250111T003224Z
LAST-MODIFIED:20250111T003224Z
UID:4892-1740735000-1740747600@napacart.org
SUMMARY:Napa Humane Drop-In Vaccination/Microchip Clinic
DESCRIPTION:Every Friday from 9:30 AM – 1:00 PM \nNapa Humane Spay/Neuter Clinic holds a drop-in vaccination/microchip clinic every Friday for Napa County residents only. Proof of Napa County residency is required. No appointment necessary.
URL:https://napacart.org/event/napa-humane-drop-in-vaccination-microchip-clinic-9-2025/
LOCATION:Napa Humane Spay/Neuter Clinic\, 3265 California Boulevard\, Napa\, CA\, 94558
CATEGORIES:Community Events
ATTACH;FMTTYPE=image/jpeg:https://napacart.org/wp-content/uploads/2024/05/drop-in-vaccination_microchip-clinic.jpg
ORGANIZER;CN="Napa Humane Spay/Neuter Clinic":MAILTO:clinicinfo@napahumane.org
END:VEVENT
BEGIN:VEVENT
DTSTART;TZID=America/Los_Angeles:20250307T093000
DTEND;TZID=America/Los_Angeles:20250307T130000
DTSTAMP:20260420T110213
CREATED:20250111T003327Z
LAST-MODIFIED:20250111T003442Z
UID:4894-1741339800-1741352400@napacart.org
SUMMARY:Napa Humane Drop-In Vaccination/Microchip Clinic
DESCRIPTION:Every Friday from 9:30 AM – 1:00 PM \nNapa Humane Spay/Neuter Clinic holds a drop-in vaccination/microchip clinic every Friday for Napa County residents only. Proof of Napa County residency is required. No appointment necessary.
URL:https://napacart.org/event/napa-humane-drop-in-vaccination-microchip-clinic-10-2025/
LOCATION:Napa Humane Spay/Neuter Clinic\, 3265 California Boulevard\, Napa\, CA\, 94558
CATEGORIES:Community Events
ATTACH;FMTTYPE=image/jpeg:https://napacart.org/wp-content/uploads/2024/05/drop-in-vaccination_microchip-clinic.jpg
ORGANIZER;CN="Napa Humane Spay/Neuter Clinic":MAILTO:clinicinfo@napahumane.org
END:VEVENT
BEGIN:VEVENT
DTSTART;TZID=America/Los_Angeles:20250314T093000
DTEND;TZID=America/Los_Angeles:20250314T130000
DTSTAMP:20260420T110213
CREATED:20250111T003423Z
LAST-MODIFIED:20250111T003423Z
UID:4896-1741944600-1741957200@napacart.org
SUMMARY:Napa Humane Drop-In Vaccination/Microchip Clinic
DESCRIPTION:Every Friday from 9:30 AM – 1:00 PM \nNapa Humane Spay/Neuter Clinic holds a drop-in vaccination/microchip clinic every Friday for Napa County residents only. Proof of Napa County residency is required. No appointment necessary.
URL:https://napacart.org/event/napa-humane-drop-in-vaccination-microchip-clinic-11-2025/
LOCATION:Napa Humane Spay/Neuter Clinic\, 3265 California Boulevard\, Napa\, CA\, 94558
CATEGORIES:Community Events
ATTACH;FMTTYPE=image/jpeg:https://napacart.org/wp-content/uploads/2024/05/drop-in-vaccination_microchip-clinic.jpg
ORGANIZER;CN="Napa Humane Spay/Neuter Clinic":MAILTO:clinicinfo@napahumane.org
END:VEVENT
BEGIN:VEVENT
DTSTART;TZID=America/Los_Angeles:20250321T093000
DTEND;TZID=America/Los_Angeles:20250321T130000
DTSTAMP:20260420T110213
CREATED:20250111T003618Z
LAST-MODIFIED:20250111T003618Z
UID:4898-1742549400-1742562000@napacart.org
SUMMARY:Napa Humane Drop-In Vaccination/Microchip Clinic
DESCRIPTION:Every Friday from 9:30 AM – 1:00 PM \nNapa Humane Spay/Neuter Clinic holds a drop-in vaccination/microchip clinic every Friday for Napa County residents only. Proof of Napa County residency is required. No appointment necessary.
URL:https://napacart.org/event/napa-humane-drop-in-vaccination-microchip-clinic-12-2025/
LOCATION:Napa Humane Spay/Neuter Clinic\, 3265 California Boulevard\, Napa\, CA\, 94558
CATEGORIES:Community Events
ATTACH;FMTTYPE=image/jpeg:https://napacart.org/wp-content/uploads/2024/05/drop-in-vaccination_microchip-clinic.jpg
ORGANIZER;CN="Napa Humane Spay/Neuter Clinic":MAILTO:clinicinfo@napahumane.org
END:VEVENT
BEGIN:VEVENT
DTSTART;TZID=America/Los_Angeles:20250328T093000
DTEND;TZID=America/Los_Angeles:20250328T130000
DTSTAMP:20260420T110213
CREATED:20250111T003710Z
LAST-MODIFIED:20250122T011600Z
UID:4900-1743154200-1743166800@napacart.org
SUMMARY:Napa Humane Drop-In Vaccination/Microchip Clinic
DESCRIPTION:Every Friday from 9:30 AM – 1:00 PM \nNapa Humane Spay/Neuter Clinic holds a drop-in vaccination/microchip clinic every Friday for Napa County residents only. Proof of Napa County residency is required. No appointment necessary.
URL:https://napacart.org/event/napa-humane-drop-in-vaccination-microchip-clinic-13-2025/
LOCATION:Napa Humane Spay/Neuter Clinic\, 3265 California Boulevard\, Napa\, CA\, 94558
CATEGORIES:Community Events
ATTACH;FMTTYPE=image/jpeg:https://napacart.org/wp-content/uploads/2024/05/drop-in-vaccination_microchip-clinic.jpg
ORGANIZER;CN="Napa Humane Spay/Neuter Clinic":MAILTO:clinicinfo@napahumane.org
END:VEVENT
BEGIN:VEVENT
DTSTART;TZID=America/Los_Angeles:20250404T093000
DTEND;TZID=America/Los_Angeles:20250404T130000
DTSTAMP:20260420T110213
CREATED:20250111T013723Z
LAST-MODIFIED:20250111T013723Z
UID:4909-1743759000-1743771600@napacart.org
SUMMARY:Napa Humane Drop-In Vaccination/Microchip Clinic
DESCRIPTION:Every Friday from 9:30 AM – 1:00 PM \nNapa Humane Spay/Neuter Clinic holds a drop-in vaccination/microchip clinic every Friday for Napa County residents only. Proof of Napa County residency is required. No appointment necessary.
URL:https://napacart.org/event/napa-humane-drop-in-vaccination-microchip-clinic-14-2025/
LOCATION:Napa Humane Spay/Neuter Clinic\, 3265 California Boulevard\, Napa\, CA\, 94558
CATEGORIES:Community Events
ATTACH;FMTTYPE=image/jpeg:https://napacart.org/wp-content/uploads/2024/05/drop-in-vaccination_microchip-clinic.jpg
ORGANIZER;CN="Napa Humane Spay/Neuter Clinic":MAILTO:clinicinfo@napahumane.org
END:VEVENT
BEGIN:VEVENT
DTSTART;TZID=America/Los_Angeles:20250411T093000
DTEND;TZID=America/Los_Angeles:20250411T130000
DTSTAMP:20260420T110213
CREATED:20250111T013841Z
LAST-MODIFIED:20250111T013841Z
UID:4911-1744363800-1744376400@napacart.org
SUMMARY:Napa Humane Drop-In Vaccination/Microchip Clinic
DESCRIPTION:Every Friday from 9:30 AM – 1:00 PM \nNapa Humane Spay/Neuter Clinic holds a drop-in vaccination/microchip clinic every Friday for Napa County residents only. Proof of Napa County residency is required. No appointment necessary.
URL:https://napacart.org/event/napa-humane-drop-in-vaccination-microchip-clinic-15-2025/
LOCATION:Napa Humane Spay/Neuter Clinic\, 3265 California Boulevard\, Napa\, CA\, 94558
CATEGORIES:Community Events
ATTACH;FMTTYPE=image/jpeg:https://napacart.org/wp-content/uploads/2024/05/drop-in-vaccination_microchip-clinic.jpg
ORGANIZER;CN="Napa Humane Spay/Neuter Clinic":MAILTO:clinicinfo@napahumane.org
END:VEVENT
BEGIN:VEVENT
DTSTART;TZID=America/Los_Angeles:20250418T093000
DTEND;TZID=America/Los_Angeles:20250418T130000
DTSTAMP:20260420T110213
CREATED:20250111T013940Z
LAST-MODIFIED:20250111T014033Z
UID:4913-1744968600-1744981200@napacart.org
SUMMARY:Napa Humane Drop-In Vaccination/Microchip Clinic
DESCRIPTION:Every Friday from 9:30 AM – 1:00 PM \nNapa Humane Spay/Neuter Clinic holds a drop-in vaccination/microchip clinic every Friday for Napa County residents only. Proof of Napa County residency is required. No appointment necessary.
URL:https://napacart.org/event/napa-humane-drop-in-vaccination-microchip-clinic-16-2025/
LOCATION:Napa Humane Spay/Neuter Clinic\, 3265 California Boulevard\, Napa\, CA\, 94558
CATEGORIES:Community Events
ATTACH;FMTTYPE=image/jpeg:https://napacart.org/wp-content/uploads/2024/05/drop-in-vaccination_microchip-clinic.jpg
ORGANIZER;CN="Napa Humane Spay/Neuter Clinic":MAILTO:clinicinfo@napahumane.org
END:VEVENT
BEGIN:VEVENT
DTSTART;TZID=America/Los_Angeles:20250425T093000
DTEND;TZID=America/Los_Angeles:20250425T130000
DTSTAMP:20260420T110213
CREATED:20250111T014049Z
LAST-MODIFIED:20250111T014049Z
UID:4915-1745573400-1745586000@napacart.org
SUMMARY:Napa Humane Drop-In Vaccination/Microchip Clinic
DESCRIPTION:Every Friday from 9:30 AM – 1:00 PM \nNapa Humane Spay/Neuter Clinic holds a drop-in vaccination/microchip clinic every Friday for Napa County residents only. Proof of Napa County residency is required. No appointment necessary.
URL:https://napacart.org/event/napa-humane-drop-in-vaccination-microchip-clinic-17-2025/
LOCATION:Napa Humane Spay/Neuter Clinic\, 3265 California Boulevard\, Napa\, CA\, 94558
CATEGORIES:Community Events
ATTACH;FMTTYPE=image/jpeg:https://napacart.org/wp-content/uploads/2024/05/drop-in-vaccination_microchip-clinic.jpg
ORGANIZER;CN="Napa Humane Spay/Neuter Clinic":MAILTO:clinicinfo@napahumane.org
END:VEVENT
BEGIN:VEVENT
DTSTART;TZID=America/Los_Angeles:20250502T093000
DTEND;TZID=America/Los_Angeles:20250502T130000
DTSTAMP:20260420T110213
CREATED:20250115T003748Z
LAST-MODIFIED:20250115T003748Z
UID:4930-1746178200-1746190800@napacart.org
SUMMARY:Napa Humane Drop-In Vaccination/Microchip Clinic
DESCRIPTION:Every Friday from 9:30 AM – 1:00 PM \nNapa Humane Spay/Neuter Clinic holds a drop-in vaccination/microchip clinic every Friday for Napa County residents only. Proof of Napa County residency is required. No appointment necessary.
URL:https://napacart.org/event/napa-humane-drop-in-vaccination-microchip-clinic-18-2025/
LOCATION:Napa Humane Spay/Neuter Clinic\, 3265 California Boulevard\, Napa\, CA\, 94558
CATEGORIES:Community Events
ATTACH;FMTTYPE=image/jpeg:https://napacart.org/wp-content/uploads/2024/05/drop-in-vaccination_microchip-clinic.jpg
ORGANIZER;CN="Napa Humane Spay/Neuter Clinic":MAILTO:clinicinfo@napahumane.org
END:VEVENT
BEGIN:VEVENT
DTSTART;TZID=America/Los_Angeles:20250509T093000
DTEND;TZID=America/Los_Angeles:20250509T130000
DTSTAMP:20260420T110213
CREATED:20250115T003850Z
LAST-MODIFIED:20250115T003850Z
UID:4932-1746783000-1746795600@napacart.org
SUMMARY:Napa Humane Drop-In Vaccination/Microchip Clinic
DESCRIPTION:Every Friday from 9:30 AM – 1:00 PM \nNapa Humane Spay/Neuter Clinic holds a drop-in vaccination/microchip clinic every Friday for Napa County residents only. Proof of Napa County residency is required. No appointment necessary.
URL:https://napacart.org/event/napa-humane-drop-in-vaccination-microchip-clinic-19-2025/
LOCATION:Napa Humane Spay/Neuter Clinic\, 3265 California Boulevard\, Napa\, CA\, 94558
CATEGORIES:Community Events
ATTACH;FMTTYPE=image/jpeg:https://napacart.org/wp-content/uploads/2024/05/drop-in-vaccination_microchip-clinic.jpg
ORGANIZER;CN="Napa Humane Spay/Neuter Clinic":MAILTO:clinicinfo@napahumane.org
END:VEVENT
BEGIN:VEVENT
DTSTART;TZID=America/Los_Angeles:20250516T093000
DTEND;TZID=America/Los_Angeles:20250516T130000
DTSTAMP:20260420T110213
CREATED:20250115T004028Z
LAST-MODIFIED:20250115T004028Z
UID:4934-1747387800-1747400400@napacart.org
SUMMARY:Napa Humane Drop-In Vaccination/Microchip Clinic
DESCRIPTION:Every Friday from 9:30 AM – 1:00 PM \nNapa Humane Spay/Neuter Clinic holds a drop-in vaccination/microchip clinic every Friday for Napa County residents only. Proof of Napa County residency is required. No appointment necessary.
URL:https://napacart.org/event/napa-humane-drop-in-vaccination-microchip-clinic-20-2025/
LOCATION:Napa Humane Spay/Neuter Clinic\, 3265 California Boulevard\, Napa\, CA\, 94558
CATEGORIES:Community Events
ATTACH;FMTTYPE=image/jpeg:https://napacart.org/wp-content/uploads/2024/05/drop-in-vaccination_microchip-clinic.jpg
ORGANIZER;CN="Napa Humane Spay/Neuter Clinic":MAILTO:clinicinfo@napahumane.org
END:VEVENT
BEGIN:VEVENT
DTSTART;TZID=America/Los_Angeles:20250523T093000
DTEND;TZID=America/Los_Angeles:20250523T130000
DTSTAMP:20260420T110213
CREATED:20250115T004144Z
LAST-MODIFIED:20250115T004144Z
UID:4936-1747992600-1748005200@napacart.org
SUMMARY:Napa Humane Drop-In Vaccination/Microchip Clinic
DESCRIPTION:Every Friday from 9:30 AM – 1:00 PM \nNapa Humane Spay/Neuter Clinic holds a drop-in vaccination/microchip clinic every Friday for Napa County residents only. Proof of Napa County residency is required. No appointment necessary.
URL:https://napacart.org/event/napa-humane-drop-in-vaccination-microchip-clinic-21-2025/
LOCATION:Napa Humane Spay/Neuter Clinic\, 3265 California Boulevard\, Napa\, CA\, 94558
CATEGORIES:Community Events
ATTACH;FMTTYPE=image/jpeg:https://napacart.org/wp-content/uploads/2024/05/drop-in-vaccination_microchip-clinic.jpg
ORGANIZER;CN="Napa Humane Spay/Neuter Clinic":MAILTO:clinicinfo@napahumane.org
END:VEVENT
BEGIN:VEVENT
DTSTART;TZID=America/Los_Angeles:20250530T093000
DTEND;TZID=America/Los_Angeles:20250530T130000
DTSTAMP:20260420T110213
CREATED:20250115T004239Z
LAST-MODIFIED:20250115T004239Z
UID:4938-1748597400-1748610000@napacart.org
SUMMARY:Napa Humane Drop-In Vaccination/Microchip Clinic
DESCRIPTION:Every Friday from 9:30 AM – 1:00 PM \nNapa Humane Spay/Neuter Clinic holds a drop-in vaccination/microchip clinic every Friday for Napa County residents only. Proof of Napa County residency is required. No appointment necessary.
URL:https://napacart.org/event/napa-humane-drop-in-vaccination-microchip-clinic-22-2025/
LOCATION:Napa Humane Spay/Neuter Clinic\, 3265 California Boulevard\, Napa\, CA\, 94558
CATEGORIES:Community Events
ATTACH;FMTTYPE=image/jpeg:https://napacart.org/wp-content/uploads/2024/05/drop-in-vaccination_microchip-clinic.jpg
ORGANIZER;CN="Napa Humane Spay/Neuter Clinic":MAILTO:clinicinfo@napahumane.org
END:VEVENT
BEGIN:VEVENT
DTSTART;TZID=America/Los_Angeles:20250606T093000
DTEND;TZID=America/Los_Angeles:20250606T130000
DTSTAMP:20260420T110213
CREATED:20250115T011251Z
LAST-MODIFIED:20250115T011251Z
UID:4940-1749202200-1749214800@napacart.org
SUMMARY:Napa Humane Drop-In Vaccination/Microchip Clinic
DESCRIPTION:Every Friday from 9:30 AM – 1:00 PM \nNapa Humane Spay/Neuter Clinic holds a drop-in vaccination/microchip clinic every Friday for Napa County residents only. Proof of Napa County residency is required. No appointment necessary.
URL:https://napacart.org/event/napa-humane-drop-in-vaccination-microchip-clinic-23-2025/
LOCATION:Napa Humane Spay/Neuter Clinic\, 3265 California Boulevard\, Napa\, CA\, 94558
CATEGORIES:Community Events
ATTACH;FMTTYPE=image/jpeg:https://napacart.org/wp-content/uploads/2024/05/drop-in-vaccination_microchip-clinic.jpg
ORGANIZER;CN="Napa Humane Spay/Neuter Clinic":MAILTO:clinicinfo@napahumane.org
END:VEVENT
BEGIN:VEVENT
DTSTART;TZID=America/Los_Angeles:20250613T093000
DTEND;TZID=America/Los_Angeles:20250613T130000
DTSTAMP:20260420T110213
CREATED:20250115T011353Z
LAST-MODIFIED:20250115T011353Z
UID:4942-1749807000-1749819600@napacart.org
SUMMARY:Napa Humane Drop-In Vaccination/Microchip Clinic
DESCRIPTION:Every Friday from 9:30 AM – 1:00 PM \nNapa Humane Spay/Neuter Clinic holds a drop-in vaccination/microchip clinic every Friday for Napa County residents only. Proof of Napa County residency is required. No appointment necessary.
URL:https://napacart.org/event/napa-humane-drop-in-vaccination-microchip-clinic-24-2025/
LOCATION:Napa Humane Spay/Neuter Clinic\, 3265 California Boulevard\, Napa\, CA\, 94558
CATEGORIES:Community Events
ATTACH;FMTTYPE=image/jpeg:https://napacart.org/wp-content/uploads/2024/05/drop-in-vaccination_microchip-clinic.jpg
ORGANIZER;CN="Napa Humane Spay/Neuter Clinic":MAILTO:clinicinfo@napahumane.org
END:VEVENT
END:VCALENDAR