BEGIN:VCALENDAR
VERSION:2.0
PRODID:-//Napa CART - ECPv6.15.20//NONSGML v1.0//EN
CALSCALE:GREGORIAN
METHOD:PUBLISH
X-WR-CALNAME:Napa CART
X-ORIGINAL-URL:https://napacart.org
X-WR-CALDESC:Events for Napa CART
REFRESH-INTERVAL;VALUE=DURATION:PT1H
X-Robots-Tag:noindex
X-PUBLISHED-TTL:PT1H
BEGIN:VTIMEZONE
TZID:America/Los_Angeles
BEGIN:DAYLIGHT
TZOFFSETFROM:-0800
TZOFFSETTO:-0700
TZNAME:PDT
DTSTART:20250309T100000
END:DAYLIGHT
BEGIN:STANDARD
TZOFFSETFROM:-0700
TZOFFSETTO:-0800
TZNAME:PST
DTSTART:20251102T090000
END:STANDARD
BEGIN:DAYLIGHT
TZOFFSETFROM:-0800
TZOFFSETTO:-0700
TZNAME:PDT
DTSTART:20260308T100000
END:DAYLIGHT
BEGIN:STANDARD
TZOFFSETFROM:-0700
TZOFFSETTO:-0800
TZNAME:PST
DTSTART:20261101T090000
END:STANDARD
BEGIN:DAYLIGHT
TZOFFSETFROM:-0800
TZOFFSETTO:-0700
TZNAME:PDT
DTSTART:20270314T100000
END:DAYLIGHT
BEGIN:STANDARD
TZOFFSETFROM:-0700
TZOFFSETTO:-0800
TZNAME:PST
DTSTART:20271107T090000
END:STANDARD
END:VTIMEZONE
BEGIN:VEVENT
DTSTART;TZID=America/Los_Angeles:20260531T090000
DTEND;TZID=America/Los_Angeles:20260531T153000
DTSTAMP:20260420T050700
CREATED:20260112T210749Z
LAST-MODIFIED:20260114T001501Z
UID:5258-1780218000-1780241400@napacart.org
SUMMARY:Command Center Skills
DESCRIPTION:Hands on practice of various roles in or supporting the Command Center\, with a focus on Shelterly proficiency. \nRecommended self-studies: \n\nNapa CART: Command Center 2026\nNapa CART: Hotline\nShelterly: Overview\nNapa CART: Shelterly 2026 – Qualifications (Hotline\, Intake\, Debrief\, Field)\n\nSign up in your MyImpact profile: myimpactpage.com\n(You’ll see the location details displayed in your profile.)
URL:https://napacart.org/event/command-center-skills-2026/
CATEGORIES:Volunteer Training
ATTACH;FMTTYPE=image/jpeg:https://napacart.org/wp-content/uploads/2025/01/dispatch-comm-skills-featured.jpg
END:VEVENT
END:VCALENDAR