BEGIN:VCALENDAR
VERSION:2.0
PRODID:-//Napa CART - ECPv6.15.20//NONSGML v1.0//EN
CALSCALE:GREGORIAN
METHOD:PUBLISH
X-WR-CALNAME:Napa CART
X-ORIGINAL-URL:https://napacart.org
X-WR-CALDESC:Events for Napa CART
REFRESH-INTERVAL;VALUE=DURATION:PT1H
X-Robots-Tag:noindex
X-PUBLISHED-TTL:PT1H
BEGIN:VTIMEZONE
TZID:America/Los_Angeles
BEGIN:DAYLIGHT
TZOFFSETFROM:-0800
TZOFFSETTO:-0700
TZNAME:PDT
DTSTART:20250309T100000
END:DAYLIGHT
BEGIN:STANDARD
TZOFFSETFROM:-0700
TZOFFSETTO:-0800
TZNAME:PST
DTSTART:20251102T090000
END:STANDARD
BEGIN:DAYLIGHT
TZOFFSETFROM:-0800
TZOFFSETTO:-0700
TZNAME:PDT
DTSTART:20260308T100000
END:DAYLIGHT
BEGIN:STANDARD
TZOFFSETFROM:-0700
TZOFFSETTO:-0800
TZNAME:PST
DTSTART:20261101T090000
END:STANDARD
BEGIN:DAYLIGHT
TZOFFSETFROM:-0800
TZOFFSETTO:-0700
TZNAME:PDT
DTSTART:20270314T100000
END:DAYLIGHT
BEGIN:STANDARD
TZOFFSETFROM:-0700
TZOFFSETTO:-0800
TZNAME:PST
DTSTART:20271107T090000
END:STANDARD
END:VTIMEZONE
BEGIN:VEVENT
DTSTART;TZID=America/Los_Angeles:20260328T080000
DTEND;TZID=America/Los_Angeles:20260328T100000
DTSTAMP:20260420T055601
CREATED:20260109T013653Z
LAST-MODIFIED:20260114T003003Z
UID:5186-1774684800-1774692000@napacart.org
SUMMARY:Returning Volunteer Updates
DESCRIPTION:8:00am check in\, 8:30am-9:45am  \nNapa CART Returning Volunteers will receive an annual recap including info from Napa CART\, CVET and Cal CARTs. In addition\, volunteers will be updated with the new training calendar\, training requirements\, and training formats. Better Impact and reciprocity training updates will be shared as well as the annual safety training necessary for all CART members. Napa CART Apparel and swag will be available on site for attendees. The updates will be available recorded as a self-study on Better Impact. \nPrerequisites: previous New Volunteer Orientation & Awareness. \nRequirements: all volunteers must attend in person every other year\, though attendance is recommended annually. \nSign up in your MyImpact profile: myimpactpage.com\n(You’ll see the location details displayed in your profile.)
URL:https://napacart.org/event/returning-volunteer-updates/
CATEGORIES:Volunteer Training
ATTACH;FMTTYPE=image/jpeg:https://napacart.org/wp-content/uploads/2026/01/join-us-volunteer-training-featured.jpg
END:VEVENT
BEGIN:VEVENT
DTSTART;TZID=America/Los_Angeles:20260328T100000
DTEND;TZID=America/Los_Angeles:20260328T150000
DTSTAMP:20260420T055601
CREATED:20260109T013809Z
LAST-MODIFIED:20260109T013809Z
UID:5188-1774692000-1774710000@napacart.org
SUMMARY:Equine & Ruminant Shelter Intake and Shelter Fitness Assessment
DESCRIPTION:Napa CART volunteers will receive updated training on the shelter intake process and care protocols. Volunteers who intend to work hands-on in the shelter will have the opportunity  to satisfy the shelter fitness requirements to lift 50lbs of weight. In addition\, attendees will receive key updates to Napa CART participation and training requirements. Lunch will be provided. \nPrerequisites: If you are new to Napa CART or have never attended a New Volunteer Training\, please also sign up for and attend the New Volunteer Orientation & Awareness on 3/27/26 before attending the returning volunteer programs on Saturday and Sunday. \nRequirements: recommended for ACS Field and ACS Shelter volunteers. \nPrework:  Review 2026 Large Animal Shelter Self Study Materials. \nSign up in your MyImpact profile: myimpactpage.com\n(You’ll see the location details displayed in your profile.)
URL:https://napacart.org/event/equine-ruminant-shelter-intake-and-shelter-fitness-assessment/
CATEGORIES:Volunteer Training
END:VEVENT
END:VCALENDAR