BEGIN:VCALENDAR
VERSION:2.0
PRODID:-//Napa CART - ECPv6.15.20//NONSGML v1.0//EN
CALSCALE:GREGORIAN
METHOD:PUBLISH
X-ORIGINAL-URL:https://napacart.org
X-WR-CALDESC:Events for Napa CART
REFRESH-INTERVAL;VALUE=DURATION:PT1H
X-Robots-Tag:noindex
X-PUBLISHED-TTL:PT1H
BEGIN:VTIMEZONE
TZID:America/Los_Angeles
BEGIN:DAYLIGHT
TZOFFSETFROM:-0800
TZOFFSETTO:-0700
TZNAME:PDT
DTSTART:20250309T100000
END:DAYLIGHT
BEGIN:STANDARD
TZOFFSETFROM:-0700
TZOFFSETTO:-0800
TZNAME:PST
DTSTART:20251102T090000
END:STANDARD
BEGIN:DAYLIGHT
TZOFFSETFROM:-0800
TZOFFSETTO:-0700
TZNAME:PDT
DTSTART:20260308T100000
END:DAYLIGHT
BEGIN:STANDARD
TZOFFSETFROM:-0700
TZOFFSETTO:-0800
TZNAME:PST
DTSTART:20261101T090000
END:STANDARD
BEGIN:DAYLIGHT
TZOFFSETFROM:-0800
TZOFFSETTO:-0700
TZNAME:PDT
DTSTART:20270314T100000
END:DAYLIGHT
BEGIN:STANDARD
TZOFFSETFROM:-0700
TZOFFSETTO:-0800
TZNAME:PST
DTSTART:20271107T090000
END:STANDARD
END:VTIMEZONE
BEGIN:VEVENT
DTSTART;TZID=America/Los_Angeles:20260125T110000
DTEND;TZID=America/Los_Angeles:20260125T130000
DTSTAMP:20260420T100114
CREATED:20260109T005339Z
LAST-MODIFIED:20260109T231642Z
UID:5168-1769338800-1769346000@napacart.org
SUMMARY:Animal Technical Rescue Team (ATR)
DESCRIPTION:This is the regular monthly training for the approved Animal Technical Rescue (ATR) team. Topics will vary by month. \nActivity: Small group of certified technicians meeting outdoors to practice technical rescue scenarios on a mannequin in conjunction with Large Animal Evacuation exercises. \nPrerequisites: Current Animal Technical Rescue Certification\, Team ATR \nSign up in your MyImpact profile: myimpactpage.com\n(You’ll see the location details displayed in your profile.)
URL:https://napacart.org/event/animal-technical-rescue-team-atr-012526/
CATEGORIES:Volunteer Training
ATTACH;FMTTYPE=image/jpeg:https://napacart.org/wp-content/uploads/2026/01/ATR-practice-aug2025-1.jpg
END:VEVENT
END:VCALENDAR