BEGIN:VCALENDAR
VERSION:2.0
PRODID:-//Napa CART - ECPv6.15.20//NONSGML v1.0//EN
CALSCALE:GREGORIAN
METHOD:PUBLISH
X-ORIGINAL-URL:https://napacart.org
X-WR-CALDESC:Events for Napa CART
REFRESH-INTERVAL;VALUE=DURATION:PT1H
X-Robots-Tag:noindex
X-PUBLISHED-TTL:PT1H
BEGIN:VTIMEZONE
TZID:America/Los_Angeles
BEGIN:DAYLIGHT
TZOFFSETFROM:-0800
TZOFFSETTO:-0700
TZNAME:PDT
DTSTART:20240310T100000
END:DAYLIGHT
BEGIN:STANDARD
TZOFFSETFROM:-0700
TZOFFSETTO:-0800
TZNAME:PST
DTSTART:20241103T090000
END:STANDARD
BEGIN:DAYLIGHT
TZOFFSETFROM:-0800
TZOFFSETTO:-0700
TZNAME:PDT
DTSTART:20250309T100000
END:DAYLIGHT
BEGIN:STANDARD
TZOFFSETFROM:-0700
TZOFFSETTO:-0800
TZNAME:PST
DTSTART:20251102T090000
END:STANDARD
BEGIN:DAYLIGHT
TZOFFSETFROM:-0800
TZOFFSETTO:-0700
TZNAME:PDT
DTSTART:20260308T100000
END:DAYLIGHT
BEGIN:STANDARD
TZOFFSETFROM:-0700
TZOFFSETTO:-0800
TZNAME:PST
DTSTART:20261101T090000
END:STANDARD
END:VTIMEZONE
BEGIN:VEVENT
DTSTART;TZID=America/Los_Angeles:20251213T120000
DTEND;TZID=America/Los_Angeles:20251213T140000
DTSTAMP:20260420T115301
CREATED:20250207T193842Z
LAST-MODIFIED:20251209T193333Z
UID:5061-1765627200-1765634400@napacart.org
SUMMARY:Volunteer Appreciation Celebration
DESCRIPTION:Napa CART & Napa County CERT’s Annual Volunteer Appreciation Luncheon \nNapa Valley College\, Old Cafeteria building \nRSVP in your MyImpact profile: myimpactpage.com or email info@napacart.org for more information.
URL:https://napacart.org/event/volunteer-appreciation-celebration-121325/
LOCATION:Napa Valley College\, 2277 Napa-Vallejo Highway\, Napa\, CA\, United States
CATEGORIES:Volunteer Event
ATTACH;FMTTYPE=image/jpeg:https://napacart.org/wp-content/uploads/2025/02/volunteer-appreciation.jpg
END:VEVENT
END:VCALENDAR